From mboxrd@z Thu Jan  1 00:00:00 1970
Return-Path: <test-report-bounces@dpdk.org>
Received: from mails.dpdk.org (mails.dpdk.org [217.70.189.124])
	by inbox.dpdk.org (Postfix) with ESMTP id 6EE4A457A0
	for <public@inbox.dpdk.org>; Mon, 12 Aug 2024 12:43:32 +0200 (CEST)
Received: from mails.dpdk.org (localhost [127.0.0.1])
	by mails.dpdk.org (Postfix) with ESMTP id 536C7402C3;
	Mon, 12 Aug 2024 12:43:32 +0200 (CEST)
Received: from mail-qt1-f226.google.com (mail-qt1-f226.google.com
 [209.85.160.226])
 by mails.dpdk.org (Postfix) with ESMTP id 920A94029C
 for <test-report@dpdk.org>; Mon, 12 Aug 2024 12:43:30 +0200 (CEST)
Received: by mail-qt1-f226.google.com with SMTP id
 d75a77b69052e-44ff7cc5432so31738961cf.3
 for <test-report@dpdk.org>; Mon, 12 Aug 2024 03:43:30 -0700 (PDT)
DKIM-Signature: v=1; a=rsa-sha256; c=relaxed/relaxed;
 d=iol.unh.edu; s=unh-iol; t=1723459410; x=1724064210; darn=dpdk.org;
 h=references:in-reply-to:cc:to:from:subject:message-id:date:from:to
 :cc:subject:date:message-id:reply-to;
 bh=XUZxhgT5N3ujQEO54AlCg0TJJld1LGgZ2g3HPPcZctQ=;
 b=YWv7tcRAl59X41ncsCTvQZEezGyf0wN2Ocw7DPKLeFwlWV+bG0BvcA+NsqZpKyElrJ
 nYAU9PLWy7BaOMihcvb2hXmkYRrUehdhKDT3EQjkK5xow14Mh3oK2FeaWwNTR8ZZt8AF
 Y3Pq6fBH37iIfsi6D/82zlifrWXe0lDUg7cRs=
X-Google-DKIM-Signature: v=1; a=rsa-sha256; c=relaxed/relaxed;
 d=1e100.net; s=20230601; t=1723459410; x=1724064210;
 h=references:in-reply-to:cc:to:from:subject:message-id:date
 :x-gm-message-state:from:to:cc:subject:date:message-id:reply-to;
 bh=XUZxhgT5N3ujQEO54AlCg0TJJld1LGgZ2g3HPPcZctQ=;
 b=EnGUpyIp7F+s0DmrYttcmnEfqVxpsxFZ8VwwIjGPtRmTxJ7Exs5lfGBd+D9hhBx+33
 /ExbXyKN70HtMEElBNcXeKJBIGeWX9+sxD7kRCaS95D/EoeUnGszuHPrFGSAWWuRkVIZ
 qrv4eDMw+7CwX635S+ZNY5DOQPF24iX+s6X5fuYTuDg74UJds9maTVa7kqnOcup2bOMs
 GYaTTgRZRRS6zbBu0BB5ij6tL/V36d4dTlh8dr6Cc6iGxS9+M/cp0Nx0EF1fzzDvCKll
 KlNEWoH4Y2QJELK3Lzks5f6529/WBZQ+M3qEAMudTVf77amfhtM2rNT9o+3XI47QG2SJ
 CZeg==
X-Gm-Message-State: AOJu0Ywxj/1mc3eD0cR7FM+RXVI9ArE3h+Sg78tTkFkE4nnH5oc+jeiF
 SHIIxSBFdS4y50AEPSYDNuR5EcU5JtUWNWTynQK2dT6/DClpIqgtRtwKspjDvgR3GlG171X81PY
 d631qKzFtZ0Ys2Altn/VtsuMAgTsLB6ZpKBhhKbrSmerrnhZ6dmGgSmQQ
X-Google-Smtp-Source: AGHT+IFkQR+YDuqTKYx+zeKEHxlYoRPEhoMk40PlmIzOIngfxdbE1Llcs/d3zuRTFFZSd2R5kkVGrKu56yBT
X-Received: by 2002:ac8:7286:0:b0:453:1ac3:8928 with SMTP id
 d75a77b69052e-4531ac38bd2mr81700911cf.2.1723459409900; 
 Mon, 12 Aug 2024 03:43:29 -0700 (PDT)
Received: from postal.iol.unh.edu (postal.iol.unh.edu.
 [2606:4100:3880:1234::84]) by smtp-relay.gmail.com with ESMTPS id
 d75a77b69052e-4531c1b1e84sm3268441cf.1.2024.08.12.03.43.29
 (version=TLS1_2 cipher=ECDHE-ECDSA-AES128-GCM-SHA256 bits=128/128);
 Mon, 12 Aug 2024 03:43:29 -0700 (PDT)
X-Relaying-Domain: iol.unh.edu
Date: Mon, 12 Aug 2024 03:43:29 -0700 (PDT)
Message-ID: <66b9e751.050a0220.3d4d5.4becSMTPIN_ADDED_MISSING@mx.google.com>
Received: from [172.21.0.8] (unknown [172.18.0.240])
 by postal.iol.unh.edu (Postfix) with ESMTP id 8603360526E2;
 Mon, 12 Aug 2024 06:43:29 -0400 (EDT)
Subject: |PENDING| pw143065-143069 [PATCH] [v2,5/5] raw/zxdh: add support for
From: dpdklab@iol.unh.edu
To: Test Report <test-report@dpdk.org>
Cc: dpdk-test-reports@iol.unh.edu
In-Reply-To: <20240812073209.1924286-9-zhang.yong25@zte.com.cn>
References: <20240812073209.1924286-9-zhang.yong25@zte.com.cn>
Content-Type: text/plain
X-BeenThere: test-report@dpdk.org
X-Mailman-Version: 2.1.29
Precedence: list
List-Id: automatic DPDK test reports <test-report.dpdk.org>
List-Unsubscribe: <https://mails.dpdk.org/options/test-report>,
 <mailto:test-report-request@dpdk.org?subject=unsubscribe>
List-Archive: <http://mails.dpdk.org/archives/test-report/>
List-Post: <mailto:test-report@dpdk.org>
List-Help: <mailto:test-report-request@dpdk.org?subject=help>
List-Subscribe: <https://mails.dpdk.org/listinfo/test-report>,
 <mailto:test-report-request@dpdk.org?subject=subscribe>
Errors-To: test-report-bounces@dpdk.org

Test-Label: iol-unit-amd64-testing
Test-Status: PENDING
http://dpdk.org/patch/143069

_Testing pending_

Submitter: Yong Zhang <zhang.yong25@zte.com.cn>
Date: Monday, August 12 2024 07:31:32 
DPDK git baseline: Repo:dpdk
  Branch: master
  CommitID:cb9187bc5c2b4bab0ad80194ac3b60491de14e8c

143065-143069 --> testing pending

Upstream job id: Generic-Unit-Test-DPDK#251162

Test environment and result as below:

+---------------------+----------------+
|     Environment     | dpdk_unit_test |
+=====================+================+
| Windows Server 2019 | PASS           |
+---------------------+----------------+
| Windows Server 2022 | PASS           |
+---------------------+----------------+
| CentOS Stream 9     | PASS           |
+---------------------+----------------+
| Debian Bullseye     | PASS           |
+---------------------+----------------+
| Debian 12           | PASS           |
+---------------------+----------------+
| Fedora 37           | PASS           |
+---------------------+----------------+
| Fedora 38           | PASS           |
+---------------------+----------------+
| Fedora 38 (Clang)   | PEND           |
+---------------------+----------------+
| Fedora 39           | PEND           |
+---------------------+----------------+
| Fedora 39 (Clang)   | PEND           |
+---------------------+----------------+
| Fedora 40           | PEND           |
+---------------------+----------------+
| openSUSE Leap 15    | PEND           |
+---------------------+----------------+
| RHEL8               | PEND           |
+---------------------+----------------+
| RHEL9               | PEND           |
+---------------------+----------------+
| Ubuntu 20.04        | PEND           |
+---------------------+----------------+
| Ubuntu 22.04        | PEND           |
+---------------------+----------------+
| Ubuntu 24.04        | PEND           |
+---------------------+----------------+


Windows Server 2019
	Kernel: 10.0.17763
	Compiler: clang 14.0 and gcc 8.1.0 (MinGW)

Windows Server 2022
	Kernel: 10.0.20348.2031
	Compiler: clang 15.0.7, gcc 8.1.0 (MinGW), and MSVC VS 17.9

CentOS Stream 9
	Kernel: 5.4.0-167-generic
	Compiler: gcc 11.4.1 20230605

Debian Bullseye
	Kernel: 5.4.0-167-generic
	Compiler: gcc 10.2.1-6

Debian 12
	Kernel: Container Host Kernel
	Compiler: gcc 12.2.0

Fedora 37
	Kernel: Depends on container host system
	Compiler: gcc 12.3.1

Fedora 38
	Kernel: Depends on container host
	Compiler: gcc 13.2.1

Fedora 38 (Clang)
	Kernel: Depends on container host
	Compiler: clang 16.0.6

Fedora 39
	Kernel: Depends on container host
	Compiler: gcc 13.2.1

Fedora 39 (Clang)
	Kernel: Depends on container host
	Compiler: clang 17.0.6

Fedora 40
	Kernel: Depends on container host
	Compiler: gcc 14.1.1

openSUSE Leap 15
	Kernel: 5.4.0-167-generic
	Compiler: gcc 7.5.0

RHEL8
	Kernel: 5.4.0-167-generic
	Compiler: gcc 8.5.0 20210514 (Red Hat 8.5.0-20)

RHEL9
	Kernel: Depends on container host
	Compiler: gcc 11.4.1

Ubuntu 20.04
	Kernel: 5.4.0-167-generic
	Compiler: gcc 9.4.0-1ubuntu1~20.04.1

Ubuntu 22.04
	Kernel: 5.4.0-167-generic
	Compiler: gcc 11.4.0

Ubuntu 24.04
	Kernel: 5.4.0-167-generic
	Compiler: gcc 13.2.0

To view detailed results, visit:
https://lab.dpdk.org/results/dashboard/patchsets/30765/

UNH-IOL DPDK Community Lab

To manage your email subscriptions, visit: 
https://lab.dpdk.org/results/dashboard/preferences/subscriptions/