From mboxrd@z Thu Jan  1 00:00:00 1970
Return-Path: <test-report-bounces@dpdk.org>
Received: from mails.dpdk.org (mails.dpdk.org [217.70.189.124])
	by inbox.dpdk.org (Postfix) with ESMTP id 60DF4457A0
	for <public@inbox.dpdk.org>; Mon, 12 Aug 2024 13:27:59 +0200 (CEST)
Received: from mails.dpdk.org (localhost [127.0.0.1])
	by mails.dpdk.org (Postfix) with ESMTP id 5C879402C3;
	Mon, 12 Aug 2024 13:27:59 +0200 (CEST)
Received: from mail-oa1-f99.google.com (mail-oa1-f99.google.com
 [209.85.160.99]) by mails.dpdk.org (Postfix) with ESMTP id 33E6D4029C
 for <test-report@dpdk.org>; Mon, 12 Aug 2024 13:27:58 +0200 (CEST)
Received: by mail-oa1-f99.google.com with SMTP id
 586e51a60fabf-26927819823so3036117fac.2
 for <test-report@dpdk.org>; Mon, 12 Aug 2024 04:27:58 -0700 (PDT)
DKIM-Signature: v=1; a=rsa-sha256; c=relaxed/relaxed;
 d=iol.unh.edu; s=unh-iol; t=1723462077; x=1724066877; darn=dpdk.org;
 h=references:in-reply-to:cc:to:from:subject:message-id:date:from:to
 :cc:subject:date:message-id:reply-to;
 bh=Q94EqkryXWEQ3/QcOU3i5j2P8bSXo+xTmK05Sa0LjTk=;
 b=Ba0UELVUE7w6ADu9ZE21a9NUmW9su5fnHAmYWE6zP041G9ci/e9trzA9Q1BcuzeRyP
 9T6JMUqBii+8fJ7S7ufexr8gAyPH/t4xUmtBAdB4nau8YKpgSpwqQWf+dklVMKCgyvXN
 vfTJyUETwKpGtQAsHmPCbIsYn3kdtQSweK+JI=
X-Google-DKIM-Signature: v=1; a=rsa-sha256; c=relaxed/relaxed;
 d=1e100.net; s=20230601; t=1723462077; x=1724066877;
 h=references:in-reply-to:cc:to:from:subject:message-id:date
 :x-gm-message-state:from:to:cc:subject:date:message-id:reply-to;
 bh=Q94EqkryXWEQ3/QcOU3i5j2P8bSXo+xTmK05Sa0LjTk=;
 b=vsce4PzZiRTPN9Txnefc+i9WwOu6M+wxydmZi4LkdM9bsRq8tci21oDThC8veZqs20
 mFbndVSx7ZrdUuZVDUjhpgcr7kldXEIYD/P8gaIVxci/wtWBDk5OYO2c1zf5trLXsA/e
 howOB6AkLBpXPKB3eCLIssnr4IgIbLAPGNgALI1uxnLvp/iT6ko4GIcxRwm6WOUGXciF
 bDBuW3CMibcbxYkZTgjJEb/qhPH0WrPwGQVTpT1MZYkQPOuXiDlhTOI33ViTbopQJ7wA
 +ZtJjW/ygTvNnCEO2jDAE3K4isYJ25h/WDBuudlIDA4Pcf7uUT22EasaTzHCL6NBQw41
 duhw==
X-Gm-Message-State: AOJu0Yw5dEvdDvxFHL+juYVAOndV+8EB/y0r/yPBshPTW0AiK/FBUfEP
 ydqt0xHRSUHeAkrCyazayI7zfFS5mQeVQb9n9snQ41ijqnjN1yJupKSeCHCwD2BSMo6DsbpYPX5
 szb/mG+iY1+767bMi2B+cDECSjQZ9bdH4Z6AQy++S
X-Google-Smtp-Source: AGHT+IFDopcRuBx7Gg1LIaVDy3ocfqjzMSeQlR4hMbn9x7nCfvsg15j7wrMbK+k97kAa3FwN4HCNbI5KDohr
X-Received: by 2002:a05:6871:3a08:b0:260:e3fa:ab8d with SMTP id
 586e51a60fabf-26c62f51cf7mr11948442fac.37.1723462077476; 
 Mon, 12 Aug 2024 04:27:57 -0700 (PDT)
Received: from postal.iol.unh.edu (postal.iol.unh.edu. [132.177.123.84])
 by smtp-relay.gmail.com with ESMTPS id
 586e51a60fabf-26c722f17c0sm295884fac.40.2024.08.12.04.27.57
 (version=TLS1_2 cipher=ECDHE-ECDSA-AES128-GCM-SHA256 bits=128/128);
 Mon, 12 Aug 2024 04:27:57 -0700 (PDT)
X-Relaying-Domain: iol.unh.edu
Date: Mon, 12 Aug 2024 04:27:57 -0700 (PDT)
Message-ID: <66b9f1bd.050a0220.ad94c.11a4SMTPIN_ADDED_MISSING@mx.google.com>
Received: from [172.17.0.4] (unknown [172.18.0.217])
 by postal.iol.unh.edu (Postfix) with ESMTP id E870E60526E2;
 Mon, 12 Aug 2024 07:27:56 -0400 (EDT)
Subject: |PENDING| pw143065-143069 [PATCH] [v2,5/5] raw/zxdh: add support for
From: dpdklab@iol.unh.edu
To: Test Report <test-report@dpdk.org>
Cc: dpdk-test-reports@iol.unh.edu
In-Reply-To: <20240812073209.1924286-9-zhang.yong25@zte.com.cn>
References: <20240812073209.1924286-9-zhang.yong25@zte.com.cn>
Content-Type: text/plain
X-BeenThere: test-report@dpdk.org
X-Mailman-Version: 2.1.29
Precedence: list
List-Id: automatic DPDK test reports <test-report.dpdk.org>
List-Unsubscribe: <https://mails.dpdk.org/options/test-report>,
 <mailto:test-report-request@dpdk.org?subject=unsubscribe>
List-Archive: <http://mails.dpdk.org/archives/test-report/>
List-Post: <mailto:test-report@dpdk.org>
List-Help: <mailto:test-report-request@dpdk.org?subject=help>
List-Subscribe: <https://mails.dpdk.org/listinfo/test-report>,
 <mailto:test-report-request@dpdk.org?subject=subscribe>
Errors-To: test-report-bounces@dpdk.org

Test-Label: iol-compile-arm64-testing
Test-Status: PENDING
http://dpdk.org/patch/143069

_Testing pending_

Submitter: Yong Zhang <zhang.yong25@zte.com.cn>
Date: Monday, August 12 2024 07:31:32 
DPDK git baseline: Repo:dpdk
  Branch: master
  CommitID:cb9187bc5c2b4bab0ad80194ac3b60491de14e8c

143065-143069 --> testing pending

Upstream job id: Generic-DPDK-Compile-Meson#287303

Test environment and result as below:

+----------------------------------------+--------------------+
|              Environment               | dpdk_meson_compile |
+========================================+====================+
| RHEL9 (ARM)                            | PASS               |
+----------------------------------------+--------------------+
| Ubuntu 20.04 ARM GCC Cross Compile     | PEND               |
+----------------------------------------+--------------------+
| Ubuntu 20.04 ARM SVE                   | PASS               |
+----------------------------------------+--------------------+
| Debian 12 with MUSDK                   | PASS               |
+----------------------------------------+--------------------+
| Fedora 37 (ARM)                        | PASS               |
+----------------------------------------+--------------------+
| Fedora 38 (ARM)                        | PASS               |
+----------------------------------------+--------------------+
| Fedora 38 (ARM Clang)                  | PEND               |
+----------------------------------------+--------------------+
| Fedora 39 (ARM)                        | PASS               |
+----------------------------------------+--------------------+
| Fedora 39 (ARM Clang)                  | PEND               |
+----------------------------------------+--------------------+
| Fedora 40 (ARM)                        | PASS               |
+----------------------------------------+--------------------+
| Fedora 40 (ARM Clang)                  | PEND               |
+----------------------------------------+--------------------+
| Ubuntu 20.04 (ARM)                     | PASS               |
+----------------------------------------+--------------------+
| Ubuntu 22.04 (ARM)                     | PASS               |
+----------------------------------------+--------------------+
| Ubuntu 24.04 (ARM)                     | PASS               |
+----------------------------------------+--------------------+
| CentOS Stream 9 (ARM)                  | PASS               |
+----------------------------------------+--------------------+
| Debian 11 (Buster) (ARM)               | PEND               |
+----------------------------------------+--------------------+
| Debian 12 (arm)                        | PASS               |
+----------------------------------------+--------------------+
| Ubuntu 20.04 ARM Clang Cross Compile   | PASS               |
+----------------------------------------+--------------------+
| Ubuntu 20.04 aarch32 GCC Cross Compile | PASS               |
+----------------------------------------+--------------------+


RHEL9 (ARM)
	Kernel: Depends on container host
	Compiler: gcc 11.4.1

Ubuntu 20.04 ARM GCC Cross Compile
	Kernel: 5.4.0-167-generic
	Compiler: aarch64-linux-gnu-gcc (Ubuntu 9.4.0-1ubuntu1~20.04.2) 9.4.0

Ubuntu 20.04 ARM SVE
	Kernel: 5.4.0-167-generic
	Compiler: gcc (Ubuntu 10.5.0-1ubuntu1~20.04) 10.5.0

Debian 12 with MUSDK
	Kernel: Container Host Kernel
	Compiler: gcc 12.2.0

Fedora 37 (ARM)
	Kernel: Depends on container host
	Compiler: gcc 12.3.1

Fedora 38 (ARM)
	Kernel: Depends on container host
	Compiler: gcc 13.2.1

Fedora 38 (ARM Clang)
	Kernel: Depends on container host
	Compiler: clang 16.0.6

Fedora 39 (ARM)
	Kernel: Depends on container host
	Compiler: gcc 13.2.1

Fedora 39 (ARM Clang)
	Kernel: Depends on container host
	Compiler: clang 17.0.6

Fedora 40 (ARM)
	Kernel: Depends on container host
	Compiler: gcc 14.1.1

Fedora 40 (ARM Clang)
	Kernel: Depends on container host
	Compiler: clang 18.1.6

Ubuntu 20.04 (ARM)
	Kernel: Container Host Kernel
	Compiler: gcc 9.4.0

Ubuntu 22.04 (ARM)
	Kernel: Container Host Kernel
	Compiler: gcc 11.4.0

Ubuntu 24.04 (ARM)
	Kernel: 5.4.0-167-generic
	Compiler: gcc 13.2.0

CentOS Stream 9 (ARM)
	Kernel: Container Host Kernel
	Compiler: gcc 11.4.1

Debian 11 (Buster) (ARM)
	Kernel: Container Host Kernel
	Compiler: gcc 10.2.1

Debian 12 (arm)
	Kernel: Container Host Kernel
	Compiler: gcc 12.2.0

Ubuntu 20.04 ARM Clang Cross Compile
	Kernel: 5.4.0-72-generic
	Compiler: clang 10.0.0-4ubuntu1

Ubuntu 20.04 aarch32 GCC Cross Compile
	Kernel: 5.4.0-167-generic
	Compiler: gcc 9.4.0

To view detailed results, visit:
https://lab.dpdk.org/results/dashboard/patchsets/30765/

UNH-IOL DPDK Community Lab

To manage your email subscriptions, visit: 
https://lab.dpdk.org/results/dashboard/preferences/subscriptions/