From mboxrd@z Thu Jan  1 00:00:00 1970
Return-Path: <test-report-bounces@dpdk.org>
Received: from mails.dpdk.org (mails.dpdk.org [217.70.189.124])
	by inbox.dpdk.org (Postfix) with ESMTP id 914CD457A1
	for <public@inbox.dpdk.org>; Mon, 12 Aug 2024 14:06:47 +0200 (CEST)
Received: from mails.dpdk.org (localhost [127.0.0.1])
	by mails.dpdk.org (Postfix) with ESMTP id 6F25D402C3;
	Mon, 12 Aug 2024 14:06:47 +0200 (CEST)
Received: from mail-qt1-f226.google.com (mail-qt1-f226.google.com
 [209.85.160.226])
 by mails.dpdk.org (Postfix) with ESMTP id C4E784029C
 for <test-report@dpdk.org>; Mon, 12 Aug 2024 14:06:45 +0200 (CEST)
Received: by mail-qt1-f226.google.com with SMTP id
 d75a77b69052e-44ff99fcd42so23372661cf.0
 for <test-report@dpdk.org>; Mon, 12 Aug 2024 05:06:45 -0700 (PDT)
DKIM-Signature: v=1; a=rsa-sha256; c=relaxed/relaxed;
 d=iol.unh.edu; s=unh-iol; t=1723464405; x=1724069205; darn=dpdk.org;
 h=references:in-reply-to:cc:to:from:subject:message-id:date:from:to
 :cc:subject:date:message-id:reply-to;
 bh=w2TYjNYDHH85kBcCRqUgyLEXcaor6tkJlln1jL/bpl8=;
 b=fNkgEHcx/AxztAPTG2ZYIbSgS0j4OrDT9w8+ELQEgJbK83ll6W9Hj0MlPxNoYagwpq
 xrxnd3FoRc77u42WJh3ltIxCI5siBTw+solqfYwQhWv/nMsl1N6MHPCISCusF/zN3nIg
 qAGTo88SVzVfJpeaxtgyyrjv0RNY6eJXnad6w=
X-Google-DKIM-Signature: v=1; a=rsa-sha256; c=relaxed/relaxed;
 d=1e100.net; s=20230601; t=1723464405; x=1724069205;
 h=references:in-reply-to:cc:to:from:subject:message-id:date
 :x-gm-message-state:from:to:cc:subject:date:message-id:reply-to;
 bh=w2TYjNYDHH85kBcCRqUgyLEXcaor6tkJlln1jL/bpl8=;
 b=BFMvZuOb9ufWO1Mz/J5SKas3Kr0WEdzAxa8AN2DeD0GgYdKwR0taKeuqMPD7dKkYGC
 2SOE7OgT4D4asRJGYuxFOKNrVfGsaphVyGgnyeE61XuIm92tBNtnwvSiYDmQp7hkV5bA
 w3w3AK+AdayB5e87ad5sXE/ChFYFvTudpzaba2fm7DIV2a14LslE88HClfgoV9nFeFob
 NxD9lXzIujkZov+wEloRpmClAykWzxnneIWO4Uumkcpq03W0a6vw8TKQRCrb7xZHHx7D
 l1cEIswXABf7dP7DhFyMgjnqGvvMErunqDe8M6XcxmvieUJewh9oTvEoEIcNYE/P54Uy
 0Tmg==
X-Gm-Message-State: AOJu0Yw9ldpt//znf0xyVURFMemou5WPtHJCa8UIPbj9H+S66foX2vd4
 NviGHmGl58SBOXPBNXTC0vj+MjPqXiSxMilx+w9tBvGvYd3krG82CzTdSF+B3IBos/CnA+s/Oee
 xHakHC5Rza8cDkx7AnVcr4T253XiSRB7ZJVH083LG
X-Google-Smtp-Source: AGHT+IEJO74Wm/J4e5G5fjT1sBXU1O3GuHmhOWgBKS3mIWXf7rkKjscNuciqRoZ+PNTnhFi+RJUSGjdTZt69
X-Received: by 2002:a05:622a:250e:b0:444:d0da:4a7 with SMTP id
 d75a77b69052e-453498fb30emr1405791cf.19.1723464404815; 
 Mon, 12 Aug 2024 05:06:44 -0700 (PDT)
Received: from postal.iol.unh.edu (postal.iol.unh.edu. [132.177.123.84])
 by smtp-relay.gmail.com with ESMTPS id
 d75a77b69052e-4531c265b6esm2988401cf.18.2024.08.12.05.06.44
 (version=TLS1_2 cipher=ECDHE-ECDSA-AES128-GCM-SHA256 bits=128/128);
 Mon, 12 Aug 2024 05:06:44 -0700 (PDT)
X-Relaying-Domain: iol.unh.edu
Date: Mon, 12 Aug 2024 05:06:44 -0700 (PDT)
Message-ID: <66b9fad4.050a0220.2458e.31efSMTPIN_ADDED_MISSING@mx.google.com>
Received: from [172.17.0.2] (unknown [172.18.0.217])
 by postal.iol.unh.edu (Postfix) with ESMTP id 4A6D360526E2;
 Mon, 12 Aug 2024 08:06:44 -0400 (EDT)
Subject: |PENDING| pw143065-143069 [PATCH] [v2,5/5] raw/zxdh: add support for
From: dpdklab@iol.unh.edu
To: Test Report <test-report@dpdk.org>
Cc: dpdk-test-reports@iol.unh.edu
In-Reply-To: <20240812073209.1924286-9-zhang.yong25@zte.com.cn>
References: <20240812073209.1924286-9-zhang.yong25@zte.com.cn>
Content-Type: text/plain
X-BeenThere: test-report@dpdk.org
X-Mailman-Version: 2.1.29
Precedence: list
List-Id: automatic DPDK test reports <test-report.dpdk.org>
List-Unsubscribe: <https://mails.dpdk.org/options/test-report>,
 <mailto:test-report-request@dpdk.org?subject=unsubscribe>
List-Archive: <http://mails.dpdk.org/archives/test-report/>
List-Post: <mailto:test-report@dpdk.org>
List-Help: <mailto:test-report-request@dpdk.org?subject=help>
List-Subscribe: <https://mails.dpdk.org/listinfo/test-report>,
 <mailto:test-report-request@dpdk.org?subject=subscribe>
Errors-To: test-report-bounces@dpdk.org

Test-Label: iol-compile-arm64-testing
Test-Status: PENDING
http://dpdk.org/patch/143069

_Testing pending_

Submitter: Yong Zhang <zhang.yong25@zte.com.cn>
Date: Monday, August 12 2024 07:31:32 
DPDK git baseline: Repo:dpdk
  Branch: master
  CommitID:cb9187bc5c2b4bab0ad80194ac3b60491de14e8c

143065-143069 --> testing pending

Upstream job id: Generic-DPDK-Compile-Meson#287297

Test environment and result as below:

+----------------------------------------+--------------------+
|              Environment               | dpdk_meson_compile |
+========================================+====================+
| RHEL9 (ARM)                            | PASS               |
+----------------------------------------+--------------------+
| Ubuntu 20.04 ARM GCC Cross Compile     | PASS               |
+----------------------------------------+--------------------+
| Ubuntu 20.04 ARM SVE                   | PASS               |
+----------------------------------------+--------------------+
| Debian 12 with MUSDK                   | PASS               |
+----------------------------------------+--------------------+
| Fedora 37 (ARM)                        | PASS               |
+----------------------------------------+--------------------+
| Fedora 38 (ARM)                        | PASS               |
+----------------------------------------+--------------------+
| Fedora 38 (ARM Clang)                  | PEND               |
+----------------------------------------+--------------------+
| Fedora 39 (ARM)                        | PASS               |
+----------------------------------------+--------------------+
| Fedora 39 (ARM Clang)                  | PEND               |
+----------------------------------------+--------------------+
| Fedora 40 (ARM)                        | PASS               |
+----------------------------------------+--------------------+
| Fedora 40 (ARM Clang)                  | PASS               |
+----------------------------------------+--------------------+
| Ubuntu 20.04 (ARM)                     | PASS               |
+----------------------------------------+--------------------+
| Ubuntu 22.04 (ARM)                     | PASS               |
+----------------------------------------+--------------------+
| Ubuntu 24.04 (ARM)                     | PASS               |
+----------------------------------------+--------------------+
| CentOS Stream 9 (ARM)                  | PASS               |
+----------------------------------------+--------------------+
| Debian 11 (Buster) (ARM)               | PASS               |
+----------------------------------------+--------------------+
| Debian 12 (arm)                        | PASS               |
+----------------------------------------+--------------------+
| Ubuntu 20.04 ARM Clang Cross Compile   | PASS               |
+----------------------------------------+--------------------+
| Ubuntu 20.04 aarch32 GCC Cross Compile | PASS               |
+----------------------------------------+--------------------+


RHEL9 (ARM)
	Kernel: Depends on container host
	Compiler: gcc 11.4.1

Ubuntu 20.04 ARM GCC Cross Compile
	Kernel: 5.4.0-167-generic
	Compiler: aarch64-linux-gnu-gcc (Ubuntu 9.4.0-1ubuntu1~20.04.2) 9.4.0

Ubuntu 20.04 ARM SVE
	Kernel: 5.4.0-167-generic
	Compiler: gcc (Ubuntu 10.5.0-1ubuntu1~20.04) 10.5.0

Debian 12 with MUSDK
	Kernel: Container Host Kernel
	Compiler: gcc 12.2.0

Fedora 37 (ARM)
	Kernel: Depends on container host
	Compiler: gcc 12.3.1

Fedora 38 (ARM)
	Kernel: Depends on container host
	Compiler: gcc 13.2.1

Fedora 38 (ARM Clang)
	Kernel: Depends on container host
	Compiler: clang 16.0.6

Fedora 39 (ARM)
	Kernel: Depends on container host
	Compiler: gcc 13.2.1

Fedora 39 (ARM Clang)
	Kernel: Depends on container host
	Compiler: clang 17.0.6

Fedora 40 (ARM)
	Kernel: Depends on container host
	Compiler: gcc 14.1.1

Fedora 40 (ARM Clang)
	Kernel: Depends on container host
	Compiler: clang 18.1.6

Ubuntu 20.04 (ARM)
	Kernel: Container Host Kernel
	Compiler: gcc 9.4.0

Ubuntu 22.04 (ARM)
	Kernel: Container Host Kernel
	Compiler: gcc 11.4.0

Ubuntu 24.04 (ARM)
	Kernel: 5.4.0-167-generic
	Compiler: gcc 13.2.0

CentOS Stream 9 (ARM)
	Kernel: Container Host Kernel
	Compiler: gcc 11.4.1

Debian 11 (Buster) (ARM)
	Kernel: Container Host Kernel
	Compiler: gcc 10.2.1

Debian 12 (arm)
	Kernel: Container Host Kernel
	Compiler: gcc 12.2.0

Ubuntu 20.04 ARM Clang Cross Compile
	Kernel: 5.4.0-72-generic
	Compiler: clang 10.0.0-4ubuntu1

Ubuntu 20.04 aarch32 GCC Cross Compile
	Kernel: 5.4.0-167-generic
	Compiler: gcc 9.4.0

To view detailed results, visit:
https://lab.dpdk.org/results/dashboard/patchsets/30765/

UNH-IOL DPDK Community Lab

To manage your email subscriptions, visit: 
https://lab.dpdk.org/results/dashboard/preferences/subscriptions/