From mboxrd@z Thu Jan  1 00:00:00 1970
Return-Path: <test-report-bounces@dpdk.org>
Received: from mails.dpdk.org (mails.dpdk.org [217.70.189.124])
	by inbox.dpdk.org (Postfix) with ESMTP id 26F5C457A1
	for <public@inbox.dpdk.org>; Mon, 12 Aug 2024 16:36:38 +0200 (CEST)
Received: from mails.dpdk.org (localhost [127.0.0.1])
	by mails.dpdk.org (Postfix) with ESMTP id 20F9E402BB;
	Mon, 12 Aug 2024 16:36:38 +0200 (CEST)
Received: from mail-ot1-f99.google.com (mail-ot1-f99.google.com
 [209.85.210.99]) by mails.dpdk.org (Postfix) with ESMTP id C9FFC4014F
 for <test-report@dpdk.org>; Mon, 12 Aug 2024 16:36:36 +0200 (CEST)
Received: by mail-ot1-f99.google.com with SMTP id
 46e09a7af769-7094468d392so2546759a34.0
 for <test-report@dpdk.org>; Mon, 12 Aug 2024 07:36:36 -0700 (PDT)
DKIM-Signature: v=1; a=rsa-sha256; c=relaxed/relaxed;
 d=iol.unh.edu; s=unh-iol; t=1723473396; x=1724078196; darn=dpdk.org;
 h=references:in-reply-to:cc:to:from:subject:message-id:date:from:to
 :cc:subject:date:message-id:reply-to;
 bh=86w/Sh674sySekn8mlJNOddB/jdh5wgiLU9AR5BO0Dg=;
 b=jSYl1qsWKgaX2TTA/ykgNtS9DoShbD1bq3J/R3OBIielJp18qlAGGHisZilFRu+FrF
 n0TGl43gkYhJqQmIiWBBOVw61r627SjMsyfNjoLbzzn0/0Xg+eXkPRWXNOhubb1ql/NV
 2mNsljDIN4A05EevxC+uhpEV6V5E9fVRzkFkI=
X-Google-DKIM-Signature: v=1; a=rsa-sha256; c=relaxed/relaxed;
 d=1e100.net; s=20230601; t=1723473396; x=1724078196;
 h=references:in-reply-to:cc:to:from:subject:message-id:date
 :x-gm-message-state:from:to:cc:subject:date:message-id:reply-to;
 bh=86w/Sh674sySekn8mlJNOddB/jdh5wgiLU9AR5BO0Dg=;
 b=ZkYGEvVUknmtimWV/ZyQDl9tQ05PqUTKAUxpQcVREGcdPv7/yL+nhvCk1EVZmDQhKN
 Lq2WNTXq3Q1bf9tFAlRiWXLKhgJeAB+bI7pYY+SnJFQkvuZttwlSK6h7jLRj9U/Y1dbi
 E+OvHmjG2Xe+H7xBA8u91yjQciNUqzlzsIdeP0XBvNN6t3r+pup1d2QAmoRJhmZJLnNO
 Ddmc5PnCRKofvhf8LQAcJJ2OBpZ8ty3kzo+vPHtWyiMelZoXphDMklUhsM2TN4Cz+WJb
 oDhrZk4oCHPdp7q/Eo7rol/ijkFpE6cAh8CuetMBo0EcSnSL/+YFB+Ik7gNwQqTub1ip
 bKBA==
X-Gm-Message-State: AOJu0YxluSImEtzeTE3dDzvoFG3XLrUGnfeTnDzO5nW3CYAnwSBo5Mri
 1dUrhlo5bEg1+AyuIFOE904m4/oAt2Lo0oiLPM5DcwAasRdoomiuZH/Sdw8koy8pj+CTrwmgFBl
 HzJST1Ri+WRPJPHCQQB5RpyHADsIlLaBogiJbAcvm
X-Google-Smtp-Source: AGHT+IEwtR2DX9fFB38mSkrP5CtXWkLu55TZ0ebnZtcdm2awX20doTYzp8kXmmhvem0H9pE/mOlKEmeiLbsj
X-Received: by 2002:a05:6830:4411:b0:709:4578:8e06 with SMTP id
 46e09a7af769-70c938678b6mr618772a34.4.1723473396027; 
 Mon, 12 Aug 2024 07:36:36 -0700 (PDT)
Received: from postal.iol.unh.edu (postal.iol.unh.edu. [132.177.123.84])
 by smtp-relay.gmail.com with ESMTPS id
 46e09a7af769-70c7b8918ffsm233850a34.13.2024.08.12.07.36.35
 (version=TLS1_2 cipher=ECDHE-ECDSA-AES128-GCM-SHA256 bits=128/128);
 Mon, 12 Aug 2024 07:36:36 -0700 (PDT)
X-Relaying-Domain: iol.unh.edu
Date: Mon, 12 Aug 2024 07:36:36 -0700 (PDT)
Message-ID: <66ba1df4.050a0220.20f82.ec93SMTPIN_ADDED_MISSING@mx.google.com>
Received: from [172.17.0.4] (unknown [172.18.0.217])
 by postal.iol.unh.edu (Postfix) with ESMTP id 759CA605C380;
 Mon, 12 Aug 2024 10:36:35 -0400 (EDT)
Subject: |PENDING| pw143071-143072 [PATCH] [v3,5/5] eal: extend bitops to han
From: dpdklab@iol.unh.edu
To: Test Report <test-report@dpdk.org>
Cc: dpdk-test-reports@iol.unh.edu
In-Reply-To: <20240812124930.604796-6-mattias.ronnblom@ericsson.com>
References: <20240812124930.604796-6-mattias.ronnblom@ericsson.com>
Content-Type: text/plain
X-BeenThere: test-report@dpdk.org
X-Mailman-Version: 2.1.29
Precedence: list
List-Id: automatic DPDK test reports <test-report.dpdk.org>
List-Unsubscribe: <https://mails.dpdk.org/options/test-report>,
 <mailto:test-report-request@dpdk.org?subject=unsubscribe>
List-Archive: <http://mails.dpdk.org/archives/test-report/>
List-Post: <mailto:test-report@dpdk.org>
List-Help: <mailto:test-report-request@dpdk.org?subject=help>
List-Subscribe: <https://mails.dpdk.org/listinfo/test-report>,
 <mailto:test-report-request@dpdk.org?subject=subscribe>
Errors-To: test-report-bounces@dpdk.org

Test-Label: iol-unit-arm64-testing
Test-Status: PENDING
http://dpdk.org/patch/143072

_Testing pending_

Submitter: Mattias Ronnblom <mattias.ronnblom@ericsson.com>
Date: Monday, August 12 2024 12:49:30 
DPDK git baseline: Repo:dpdk
  Branch: master
  CommitID:cb9187bc5c2b4bab0ad80194ac3b60491de14e8c

143071-143072 --> testing pending

Upstream job id: Generic-Unit-Test-DPDK#251203

Test environment and result as below:

+-----------------------------+--------------+----------------+---------------------------+------------------------------+
|         Environment         | lpm_autotest | dpdk_unit_test | cryptodev_sw_zuc_autotest | cryptodev_sw_snow3g_autotest |
+=============================+==============+================+===========================+==============================+
| Ubuntu 20.04 ARM SVE        | PASS         | SKIPPED        | SKIPPED                   | SKIPPED                      |
+-----------------------------+--------------+----------------+---------------------------+------------------------------+
| 32-bit Ubuntu 20.04.4 (ARM) | SKIPPED      | PASS           | SKIPPED                   | SKIPPED                      |
+-----------------------------+--------------+----------------+---------------------------+------------------------------+
| CentOS Stream 9 (ARM)       | SKIPPED      | PASS           | SKIPPED                   | SKIPPED                      |
+-----------------------------+--------------+----------------+---------------------------+------------------------------+
| Debian 11 (Buster) (ARM)    | SKIPPED      | PASS           | SKIPPED                   | SKIPPED                      |
+-----------------------------+--------------+----------------+---------------------------+------------------------------+
| Fedora 37 (ARM)             | SKIPPED      | PASS           | SKIPPED                   | SKIPPED                      |
+-----------------------------+--------------+----------------+---------------------------+------------------------------+
| Debian 12 (arm)             | SKIPPED      | PASS           | PASS                      | PASS                         |
+-----------------------------+--------------+----------------+---------------------------+------------------------------+
| Fedora 38 (ARM)             | SKIPPED      | PASS           | SKIPPED                   | SKIPPED                      |
+-----------------------------+--------------+----------------+---------------------------+------------------------------+
| Fedora 38 (ARM Clang)       | SKIPPED      | PEND           | SKIPPED                   | SKIPPED                      |
+-----------------------------+--------------+----------------+---------------------------+------------------------------+
| Fedora 39 (ARM)             | SKIPPED      | PEND           | SKIPPED                   | SKIPPED                      |
+-----------------------------+--------------+----------------+---------------------------+------------------------------+
| Fedora 39 (ARM Clang)       | SKIPPED      | PEND           | SKIPPED                   | SKIPPED                      |
+-----------------------------+--------------+----------------+---------------------------+------------------------------+
| Fedora 40 (ARM)             | SKIPPED      | PEND           | SKIPPED                   | SKIPPED                      |
+-----------------------------+--------------+----------------+---------------------------+------------------------------+
| Fedora 40 (ARM Clang)       | SKIPPED      | PEND           | SKIPPED                   | SKIPPED                      |
+-----------------------------+--------------+----------------+---------------------------+------------------------------+
| RHEL9 (ARM)                 | SKIPPED      | PEND           | SKIPPED                   | SKIPPED                      |
+-----------------------------+--------------+----------------+---------------------------+------------------------------+
| Ubuntu 22.04 (ARM)          | SKIPPED      | PEND           | SKIPPED                   | SKIPPED                      |
+-----------------------------+--------------+----------------+---------------------------+------------------------------+
| Ubuntu 20.04 (ARM)          | SKIPPED      | PEND           | SKIPPED                   | SKIPPED                      |
+-----------------------------+--------------+----------------+---------------------------+------------------------------+
| Ubuntu 24.04 (ARM)          | SKIPPED      | PEND           | SKIPPED                   | SKIPPED                      |
+-----------------------------+--------------+----------------+---------------------------+------------------------------+


Ubuntu 20.04 ARM SVE
	Kernel: 5.4.0-167-generic
	Compiler: gcc (Ubuntu 10.5.0-1ubuntu1~20.04) 10.5.0

32-bit Ubuntu 20.04.4 (ARM)
	Kernel: 5.4.0-155-generic aarch64
	Compiler: gcc 9.4

CentOS Stream 9 (ARM)
	Kernel: Container Host Kernel
	Compiler: gcc 11.4.1

Debian 11 (Buster) (ARM)
	Kernel: Container Host Kernel
	Compiler: gcc 10.2.1

Fedora 37 (ARM)
	Kernel: Depends on container host
	Compiler: gcc 12.3.1

Debian 12 (arm)
	Kernel: Container Host Kernel
	Compiler: gcc 12.2.0

Fedora 38 (ARM)
	Kernel: Depends on container host
	Compiler: gcc 13.2.1

Fedora 38 (ARM Clang)
	Kernel: Depends on container host
	Compiler: clang 16.0.6

Fedora 39 (ARM)
	Kernel: Depends on container host
	Compiler: gcc 13.2.1

Fedora 39 (ARM Clang)
	Kernel: Depends on container host
	Compiler: clang 17.0.6

Fedora 40 (ARM)
	Kernel: Depends on container host
	Compiler: gcc 14.1.1

Fedora 40 (ARM Clang)
	Kernel: Depends on container host
	Compiler: clang 18.1.6

RHEL9 (ARM)
	Kernel: Depends on container host
	Compiler: gcc 11.4.1

Ubuntu 22.04 (ARM)
	Kernel: Container Host Kernel
	Compiler: gcc 11.4.0

Ubuntu 20.04 (ARM)
	Kernel: Container Host Kernel
	Compiler: gcc 9.4.0

Ubuntu 24.04 (ARM)
	Kernel: 5.4.0-167-generic
	Compiler: gcc 13.2.0

To view detailed results, visit:
https://lab.dpdk.org/results/dashboard/patchsets/30766/

UNH-IOL DPDK Community Lab

To manage your email subscriptions, visit: 
https://lab.dpdk.org/results/dashboard/preferences/subscriptions/