From mboxrd@z Thu Jan  1 00:00:00 1970
Return-Path: <test-report-bounces@dpdk.org>
Received: from mails.dpdk.org (mails.dpdk.org [217.70.189.124])
	by inbox.dpdk.org (Postfix) with ESMTP id 379B1457A1
	for <public@inbox.dpdk.org>; Mon, 12 Aug 2024 16:49:11 +0200 (CEST)
Received: from mails.dpdk.org (localhost [127.0.0.1])
	by mails.dpdk.org (Postfix) with ESMTP id 31C41402BB;
	Mon, 12 Aug 2024 16:49:11 +0200 (CEST)
Received: from mail-yw1-f225.google.com (mail-yw1-f225.google.com
 [209.85.128.225])
 by mails.dpdk.org (Postfix) with ESMTP id AE0194014F
 for <test-report@dpdk.org>; Mon, 12 Aug 2024 16:49:09 +0200 (CEST)
Received: by mail-yw1-f225.google.com with SMTP id
 00721157ae682-65fe1239f12so33061137b3.0
 for <test-report@dpdk.org>; Mon, 12 Aug 2024 07:49:09 -0700 (PDT)
DKIM-Signature: v=1; a=rsa-sha256; c=relaxed/relaxed;
 d=iol.unh.edu; s=unh-iol; t=1723474149; x=1724078949; darn=dpdk.org;
 h=references:in-reply-to:cc:to:from:subject:message-id:date:from:to
 :cc:subject:date:message-id:reply-to;
 bh=OAyZxKK6y43TvTcTG246xYJwAYuzlpuKmrhZLHeALG4=;
 b=WGUVE5pNa/A61nS3zA/2lbl+PgYsG2cUlKIjIQhMho7by6REfa8D/45rdh3cZL7w/0
 sYdsiG6o2H3vu43pMS4dzbD7/bHFHV4CR3m+JpXqpPnggxEBPtNvXzSxj0OKC13Odz1x
 g0tn7w1ypwCwwcMa5ESidkAEDbwkt0u577rhg=
X-Google-DKIM-Signature: v=1; a=rsa-sha256; c=relaxed/relaxed;
 d=1e100.net; s=20230601; t=1723474149; x=1724078949;
 h=references:in-reply-to:cc:to:from:subject:message-id:date
 :x-gm-message-state:from:to:cc:subject:date:message-id:reply-to;
 bh=OAyZxKK6y43TvTcTG246xYJwAYuzlpuKmrhZLHeALG4=;
 b=nLm1UNZI4wfddqMJRkY9poIM4R4uOZF3E4aFrHYvIje7sy0eN+aqsI50ReaMZ78Ip1
 8KxRU+ptFamH/Su/stUuOzhs1hcmu0HXg3QHfa7zSboLdam45i7dLlR8q0vsN9oR0ZbU
 jafVAPKqzP9aE3jzXs03/yzRKl1xCOhpGmCNl+JOv1l/f+OuixWLxqbLuDPj/Szy4rzS
 fZpCLIOJhNCYzqXiy5FDyMTKPzbr0EItHNMHdvyVHlbR58lKtMBMBETakjXQPthuAjqu
 Rd3fwNkHjrJJaasP3r66YUgKXN72p0IriPs4juD3mQS175jip5lAVKDvn8CYOo6owbgs
 sVTg==
X-Gm-Message-State: AOJu0Yy+Dw0YV/I9jv4q1bADMX7hf40m8cgYGxl8agO2FhHbukxD1GQa
 gPDKAI7ZNcXCAmHRTyoSD0OGrowVlIOSW6aOtvQO7Ld6xblbl6OkjnDIN0mhJOgcDYu3yJiXkOV
 PWlfsBS5jFlAVjNvR+3Ck1QtJG3XmuOQMEeGnLCAH4J7SbOFDlATibfKe
X-Google-Smtp-Source: AGHT+IGAUn11d9Pl8XIYroPnnTZxGPd9uf3hBlMa16R6xKl6mi9KNYcGRfGTg36bUapqIyBErx62n1/sKwNi
X-Received: by 2002:a05:690c:2fc7:b0:65f:7deb:de59 with SMTP id
 00721157ae682-6a973012052mr6326897b3.21.1723474149024; 
 Mon, 12 Aug 2024 07:49:09 -0700 (PDT)
Received: from postal.iol.unh.edu (postal.iol.unh.edu.
 [2606:4100:3880:1234::84]) by smtp-relay.gmail.com with ESMTPS id
 00721157ae682-6a09fbe88dbsm2575647b3.2.2024.08.12.07.49.08
 (version=TLS1_2 cipher=ECDHE-ECDSA-AES128-GCM-SHA256 bits=128/128);
 Mon, 12 Aug 2024 07:49:09 -0700 (PDT)
X-Relaying-Domain: iol.unh.edu
Date: Mon, 12 Aug 2024 07:49:09 -0700 (PDT)
Message-ID: <66ba20e5.810a0220.3201f5.d33dSMTPIN_ADDED_MISSING@mx.google.com>
Received: from [172.17.0.2] (unknown [172.18.0.217])
 by postal.iol.unh.edu (Postfix) with ESMTP id A4C3C605C380;
 Mon, 12 Aug 2024 10:49:08 -0400 (EDT)
Subject: |PENDING| pw143071-143072 [PATCH] [v3,5/5] eal: extend bitops to han
From: dpdklab@iol.unh.edu
To: Test Report <test-report@dpdk.org>
Cc: dpdk-test-reports@iol.unh.edu
In-Reply-To: <20240812124930.604796-6-mattias.ronnblom@ericsson.com>
References: <20240812124930.604796-6-mattias.ronnblom@ericsson.com>
Content-Type: text/plain
X-BeenThere: test-report@dpdk.org
X-Mailman-Version: 2.1.29
Precedence: list
List-Id: automatic DPDK test reports <test-report.dpdk.org>
List-Unsubscribe: <https://mails.dpdk.org/options/test-report>,
 <mailto:test-report-request@dpdk.org?subject=unsubscribe>
List-Archive: <http://mails.dpdk.org/archives/test-report/>
List-Post: <mailto:test-report@dpdk.org>
List-Help: <mailto:test-report-request@dpdk.org?subject=help>
List-Subscribe: <https://mails.dpdk.org/listinfo/test-report>,
 <mailto:test-report-request@dpdk.org?subject=subscribe>
Errors-To: test-report-bounces@dpdk.org

Test-Label: iol-compile-arm64-testing
Test-Status: PENDING
http://dpdk.org/patch/143072

_Testing pending_

Submitter: Mattias Ronnblom <mattias.ronnblom@ericsson.com>
Date: Monday, August 12 2024 12:49:30 
DPDK git baseline: Repo:dpdk
  Branch: master
  CommitID:cb9187bc5c2b4bab0ad80194ac3b60491de14e8c

143071-143072 --> testing pending

Upstream job id: Generic-DPDK-Compile-Meson#287330

Test environment and result as below:

+----------------------------------------+--------------------+
|              Environment               | dpdk_meson_compile |
+========================================+====================+
| RHEL9 (ARM)                            | PEND               |
+----------------------------------------+--------------------+
| Ubuntu 20.04 ARM GCC Cross Compile     | PEND               |
+----------------------------------------+--------------------+
| Ubuntu 20.04 ARM SVE                   | PASS               |
+----------------------------------------+--------------------+
| Debian 12 with MUSDK                   | PASS               |
+----------------------------------------+--------------------+
| Fedora 37 (ARM)                        | PEND               |
+----------------------------------------+--------------------+
| Fedora 38 (ARM Clang)                  | PEND               |
+----------------------------------------+--------------------+
| Fedora 39 (ARM)                        | PASS               |
+----------------------------------------+--------------------+
| Fedora 38 (ARM)                        | PEND               |
+----------------------------------------+--------------------+
| Fedora 39 (ARM Clang)                  | PEND               |
+----------------------------------------+--------------------+
| CentOS Stream 9 (ARM)                  | PEND               |
+----------------------------------------+--------------------+
| Ubuntu 20.04 (ARM)                     | PEND               |
+----------------------------------------+--------------------+
| Fedora 40 (ARM)                        | PEND               |
+----------------------------------------+--------------------+
| Fedora 40 (ARM Clang)                  | PEND               |
+----------------------------------------+--------------------+
| Ubuntu 24.04 (ARM)                     | PEND               |
+----------------------------------------+--------------------+
| Ubuntu 22.04 (ARM)                     | PEND               |
+----------------------------------------+--------------------+
| Debian 11 (Buster) (ARM)               | PEND               |
+----------------------------------------+--------------------+
| Debian 12 (arm)                        | PEND               |
+----------------------------------------+--------------------+
| Ubuntu 20.04 ARM Clang Cross Compile   | PASS               |
+----------------------------------------+--------------------+
| Ubuntu 20.04 aarch32 GCC Cross Compile | PASS               |
+----------------------------------------+--------------------+


RHEL9 (ARM)
	Kernel: Depends on container host
	Compiler: gcc 11.4.1

Ubuntu 20.04 ARM GCC Cross Compile
	Kernel: 5.4.0-167-generic
	Compiler: aarch64-linux-gnu-gcc (Ubuntu 9.4.0-1ubuntu1~20.04.2) 9.4.0

Ubuntu 20.04 ARM SVE
	Kernel: 5.4.0-167-generic
	Compiler: gcc (Ubuntu 10.5.0-1ubuntu1~20.04) 10.5.0

Debian 12 with MUSDK
	Kernel: Container Host Kernel
	Compiler: gcc 12.2.0

Fedora 37 (ARM)
	Kernel: Depends on container host
	Compiler: gcc 12.3.1

Fedora 38 (ARM Clang)
	Kernel: Depends on container host
	Compiler: clang 16.0.6

Fedora 39 (ARM)
	Kernel: Depends on container host
	Compiler: gcc 13.2.1

Fedora 38 (ARM)
	Kernel: Depends on container host
	Compiler: gcc 13.2.1

Fedora 39 (ARM Clang)
	Kernel: Depends on container host
	Compiler: clang 17.0.6

CentOS Stream 9 (ARM)
	Kernel: Container Host Kernel
	Compiler: gcc 11.4.1

Ubuntu 20.04 (ARM)
	Kernel: Container Host Kernel
	Compiler: gcc 9.4.0

Fedora 40 (ARM)
	Kernel: Depends on container host
	Compiler: gcc 14.1.1

Fedora 40 (ARM Clang)
	Kernel: Depends on container host
	Compiler: clang 18.1.6

Ubuntu 24.04 (ARM)
	Kernel: 5.4.0-167-generic
	Compiler: gcc 13.2.0

Ubuntu 22.04 (ARM)
	Kernel: Container Host Kernel
	Compiler: gcc 11.4.0

Debian 11 (Buster) (ARM)
	Kernel: Container Host Kernel
	Compiler: gcc 10.2.1

Debian 12 (arm)
	Kernel: Container Host Kernel
	Compiler: gcc 12.2.0

Ubuntu 20.04 ARM Clang Cross Compile
	Kernel: 5.4.0-72-generic
	Compiler: clang 10.0.0-4ubuntu1

Ubuntu 20.04 aarch32 GCC Cross Compile
	Kernel: 5.4.0-167-generic
	Compiler: gcc 9.4.0

To view detailed results, visit:
https://lab.dpdk.org/results/dashboard/patchsets/30766/

UNH-IOL DPDK Community Lab

To manage your email subscriptions, visit: 
https://lab.dpdk.org/results/dashboard/preferences/subscriptions/