From mboxrd@z Thu Jan  1 00:00:00 1970
Return-Path: <test-report-bounces@dpdk.org>
Received: from mails.dpdk.org (mails.dpdk.org [217.70.189.124])
	by inbox.dpdk.org (Postfix) with ESMTP id 8FC6D457A6
	for <public@inbox.dpdk.org>; Tue, 13 Aug 2024 02:51:58 +0200 (CEST)
Received: from mails.dpdk.org (localhost [127.0.0.1])
	by mails.dpdk.org (Postfix) with ESMTP id 89E73402C2;
	Tue, 13 Aug 2024 02:51:58 +0200 (CEST)
Received: from mail-oo1-f99.google.com (mail-oo1-f99.google.com
 [209.85.161.99]) by mails.dpdk.org (Postfix) with ESMTP id ABC3A402C0
 for <test-report@dpdk.org>; Tue, 13 Aug 2024 02:51:56 +0200 (CEST)
Received: by mail-oo1-f99.google.com with SMTP id
 006d021491bc7-5d608060241so3012479eaf.1
 for <test-report@dpdk.org>; Mon, 12 Aug 2024 17:51:56 -0700 (PDT)
DKIM-Signature: v=1; a=rsa-sha256; c=relaxed/relaxed;
 d=iol.unh.edu; s=unh-iol; t=1723510316; x=1724115116; darn=dpdk.org;
 h=references:in-reply-to:cc:to:from:subject:message-id:date:from:to
 :cc:subject:date:message-id:reply-to;
 bh=yh9MN7xLkg4TMBVAy79soWcQssFfNLca4PJ6rWuzi+Y=;
 b=eVmFX/BVcGYTKsJD3V83Qf7eMtGK4lAgYDqcz2xCWv8OOtG/jFgnFTe3BXfKGwn7dJ
 akusV4raWtL26alK0E6bQfetwxVxDTjOibgDbIzVciwW08z+suHd4MqAynCwnT9FwGpZ
 0VjbxPSOa5azXbgNQJbjBwIqafHUnOPbODqPk=
X-Google-DKIM-Signature: v=1; a=rsa-sha256; c=relaxed/relaxed;
 d=1e100.net; s=20230601; t=1723510316; x=1724115116;
 h=references:in-reply-to:cc:to:from:subject:message-id:date
 :x-gm-message-state:from:to:cc:subject:date:message-id:reply-to;
 bh=yh9MN7xLkg4TMBVAy79soWcQssFfNLca4PJ6rWuzi+Y=;
 b=DNZ85+eXs+VSUNgaF6/xNFSOYcygLpAGjQDsmXQegTtPlw55IaL6ndLNGe1Uf+bwbj
 JYb8vBGIBOuRUMSgVroTWccTX8MLWdweWJfwSaZJn24hLiELl0tPwilqhXhLA0VdaT1O
 kpsVL2TgyHEtTruj1TIVCLNf4a+VAgINXS4nAEAbuphOZG7RlD3AyLf6OXFTfZIDX18K
 eIt4M9o2pBozDPmHT8menEiWvnQZzmZw/uTEJRvtEWOYfyErYIOESNxFdFTqPRSr1KKn
 8k819BunKrOmT+13obLCdoP1OEospSPtPLtdOY4+q1UdUA+1unz0U9+IkBbGBSHmzx6s
 XOEw==
X-Gm-Message-State: AOJu0Ywuddmc79BdhuQM/bC7KsjUBpBJk2hMVBTWe/AMiogAMfTD9NI8
 JN129nxtRuyt2ovaR/xlU/nlJJ3bcnVQHpgS31AfuXbMzfE7wlwlA54U9ylBCzudtqyWqW8Ssvc
 6E4rls6CDaV9E+alxSy8HaVYGJPwA2RXZlDJ4Od151T2R72ttKTIJmfI4
X-Google-Smtp-Source: AGHT+IHs7cnwz35oAuMpehYfZverRcQGQ7QKMSbH0GMIYt2J8/FyAqrRi/AA8bQg8vNzE5QPXJccKw1Ba2OD
X-Received: by 2002:a05:6820:229b:b0:5c7:b679:4503 with SMTP id
 006d021491bc7-5da6830863amr2673994eaf.0.1723510315862; 
 Mon, 12 Aug 2024 17:51:55 -0700 (PDT)
Received: from postal.iol.unh.edu (postal.iol.unh.edu.
 [2606:4100:3880:1234::84]) by smtp-relay.gmail.com with ESMTPS id
 006d021491bc7-5da3e555f4fsm242132eaf.12.2024.08.12.17.51.55
 (version=TLS1_2 cipher=ECDHE-ECDSA-AES128-GCM-SHA256 bits=128/128);
 Mon, 12 Aug 2024 17:51:55 -0700 (PDT)
X-Relaying-Domain: iol.unh.edu
Date: Mon, 12 Aug 2024 17:51:55 -0700 (PDT)
Message-ID: <66baae2b.050a0220.364aa8.d04cSMTPIN_ADDED_MISSING@mx.google.com>
Received: from [172.21.0.10] (unknown [172.18.0.240])
 by postal.iol.unh.edu (Postfix) with ESMTP id 52945605C380;
 Mon, 12 Aug 2024 20:51:55 -0400 (EDT)
Subject: |PENDING| pw143079-143080 [PATCH] [RFC,v1,2/2] dts: checksum offload
From: dpdklab@iol.unh.edu
To: Test Report <test-report@dpdk.org>
Cc: dpdk-test-reports@iol.unh.edu
In-Reply-To: <20240812134124.27637-3-dmarx@iol.unh.edu>
References: <20240812134124.27637-3-dmarx@iol.unh.edu>
Content-Type: text/plain
X-BeenThere: test-report@dpdk.org
X-Mailman-Version: 2.1.29
Precedence: list
List-Id: automatic DPDK test reports <test-report.dpdk.org>
List-Unsubscribe: <https://mails.dpdk.org/options/test-report>,
 <mailto:test-report-request@dpdk.org?subject=unsubscribe>
List-Archive: <http://mails.dpdk.org/archives/test-report/>
List-Post: <mailto:test-report@dpdk.org>
List-Help: <mailto:test-report-request@dpdk.org?subject=help>
List-Subscribe: <https://mails.dpdk.org/listinfo/test-report>,
 <mailto:test-report-request@dpdk.org?subject=subscribe>
Errors-To: test-report-bounces@dpdk.org

Test-Label: iol-unit-amd64-testing
Test-Status: PENDING
http://dpdk.org/patch/143080

_Testing pending_

Submitter: Dean Marx <dmarx@iol.unh.edu>
Date: Monday, August 12 2024 13:41:24 
DPDK git baseline: Repo:dpdk
  Branch: master
  CommitID:cb9187bc5c2b4bab0ad80194ac3b60491de14e8c

143079-143080 --> testing pending

Upstream job id: Generic-Unit-Test-DPDK#251445

Test environment and result as below:

+---------------------+----------------+
|     Environment     | dpdk_unit_test |
+=====================+================+
| CentOS Stream 9     | PASS           |
+---------------------+----------------+
| Debian Bullseye     | PASS           |
+---------------------+----------------+
| Debian 12           | PASS           |
+---------------------+----------------+
| Fedora 37           | PASS           |
+---------------------+----------------+
| Fedora 38           | PASS           |
+---------------------+----------------+
| Fedora 38 (Clang)   | PASS           |
+---------------------+----------------+
| Fedora 39           | PASS           |
+---------------------+----------------+
| Fedora 39 (Clang)   | PEND           |
+---------------------+----------------+
| Fedora 40           | PASS           |
+---------------------+----------------+
| Fedora 40 (Clang)   | PEND           |
+---------------------+----------------+
| openSUSE Leap 15    | PASS           |
+---------------------+----------------+
| RHEL8               | PEND           |
+---------------------+----------------+
| RHEL9               | PEND           |
+---------------------+----------------+
| Ubuntu 20.04        | PEND           |
+---------------------+----------------+
| Ubuntu 24.04        | PEND           |
+---------------------+----------------+
| Ubuntu 22.04        | PEND           |
+---------------------+----------------+
| Windows Server 2019 | PASS           |
+---------------------+----------------+
| Windows Server 2022 | PASS           |
+---------------------+----------------+


CentOS Stream 9
	Kernel: 5.4.0-167-generic
	Compiler: gcc 11.4.1 20230605

Debian Bullseye
	Kernel: 5.4.0-167-generic
	Compiler: gcc 10.2.1-6

Debian 12
	Kernel: Container Host Kernel
	Compiler: gcc 12.2.0

Fedora 37
	Kernel: Depends on container host system
	Compiler: gcc 12.3.1

Fedora 38
	Kernel: Depends on container host
	Compiler: gcc 13.2.1

Fedora 38 (Clang)
	Kernel: Depends on container host
	Compiler: clang 16.0.6

Fedora 39
	Kernel: Depends on container host
	Compiler: gcc 13.2.1

Fedora 39 (Clang)
	Kernel: Depends on container host
	Compiler: clang 17.0.6

Fedora 40
	Kernel: Depends on container host
	Compiler: gcc 14.1.1

Fedora 40 (Clang)
	Kernel: Depends on container host
	Compiler: clang 18.1.6

openSUSE Leap 15
	Kernel: 5.4.0-167-generic
	Compiler: gcc 7.5.0

RHEL8
	Kernel: 5.4.0-167-generic
	Compiler: gcc 8.5.0 20210514 (Red Hat 8.5.0-20)

RHEL9
	Kernel: Depends on container host
	Compiler: gcc 11.4.1

Ubuntu 20.04
	Kernel: 5.4.0-167-generic
	Compiler: gcc 9.4.0-1ubuntu1~20.04.1

Ubuntu 24.04
	Kernel: 5.4.0-167-generic
	Compiler: gcc 13.2.0

Ubuntu 22.04
	Kernel: 5.4.0-167-generic
	Compiler: gcc 11.4.0

Windows Server 2019
	Kernel: 10.0.17763
	Compiler: clang 14.0 and gcc 8.1.0 (MinGW)

Windows Server 2022
	Kernel: 10.0.20348.2031
	Compiler: clang 15.0.7, gcc 8.1.0 (MinGW), and MSVC VS 17.9

To view detailed results, visit:
https://lab.dpdk.org/results/dashboard/patchsets/30770/

UNH-IOL DPDK Community Lab

To manage your email subscriptions, visit: 
https://lab.dpdk.org/results/dashboard/preferences/subscriptions/