From mboxrd@z Thu Jan  1 00:00:00 1970
Return-Path: <test-report-bounces@dpdk.org>
Received: from mails.dpdk.org (mails.dpdk.org [217.70.189.124])
	by inbox.dpdk.org (Postfix) with ESMTP id 38043457A6
	for <public@inbox.dpdk.org>; Tue, 13 Aug 2024 02:57:46 +0200 (CEST)
Received: from mails.dpdk.org (localhost [127.0.0.1])
	by mails.dpdk.org (Postfix) with ESMTP id 3092940A77;
	Tue, 13 Aug 2024 02:57:46 +0200 (CEST)
Received: from mail-oo1-f97.google.com (mail-oo1-f97.google.com
 [209.85.161.97]) by mails.dpdk.org (Postfix) with ESMTP id 6DF22402C0
 for <test-report@dpdk.org>; Tue, 13 Aug 2024 02:57:44 +0200 (CEST)
Received: by mail-oo1-f97.google.com with SMTP id
 006d021491bc7-5c669a0b5d1so3627844eaf.3
 for <test-report@dpdk.org>; Mon, 12 Aug 2024 17:57:44 -0700 (PDT)
DKIM-Signature: v=1; a=rsa-sha256; c=relaxed/relaxed;
 d=iol.unh.edu; s=unh-iol; t=1723510663; x=1724115463; darn=dpdk.org;
 h=references:in-reply-to:cc:to:from:subject:message-id:date:from:to
 :cc:subject:date:message-id:reply-to;
 bh=BPdLYsEdWQiCedhg3zhI7QCPTvGQgb9JFhQRgUn5BR4=;
 b=esf+vAsI9GakJcXxTiMeYwAAw7IoevdYfas+cpZeM7cr9VU9rvPGtmC4u9sMWzrlda
 sQl5soq0nSaGj7ZkcIilE7q9u7vF1HTMYovUD2duwNMqOW7ze/uwe1ybnbIiAIs7IHIP
 wIAeDUYt8adilVUk8SAKXBSrcjrwdlSpBguX8=
X-Google-DKIM-Signature: v=1; a=rsa-sha256; c=relaxed/relaxed;
 d=1e100.net; s=20230601; t=1723510663; x=1724115463;
 h=references:in-reply-to:cc:to:from:subject:message-id:date
 :x-gm-message-state:from:to:cc:subject:date:message-id:reply-to;
 bh=BPdLYsEdWQiCedhg3zhI7QCPTvGQgb9JFhQRgUn5BR4=;
 b=pPXtM5xUBMwmSet9tbKQPVJx6kydIcyjorrCDCZV/1b3oCetctFCI2MyBCw+QqmzNT
 rPTLuQpAtYqLXSCbTOlHtG15YaTU/51L5X9yJWeYbBq4mrmSHDaM6LFajd1uBqcait5A
 Z8drdNDThx92fYmDVKEXggYfB2afXJ8L26y50wI6dGZOHukpZltwtN67hdfZGXNgocOL
 UzcDEHqKjJF4QmgxSldt/nVteSwaUgfVj7P70YaWKJv6L16tEe2Pxso4Qz2M8fr4c5Az
 3QanT4qowLRPMCQOoecFiduc0X+X/zkPd56kSDdfQKcbUcx5n/XfVmOELmR0YIYbK6qn
 U5aw==
X-Gm-Message-State: AOJu0YyminDHh9H37JEiaYqJ+UxwKSBPs61ga00JIbspFPL8LoPT9NCK
 ViiETbhovZVPkzvAIjbVOovzay1ucn993eQyHjBcYHnrL2b7ybmt16XZZolwd0YYV0oimLMbDeR
 1S1ZBvj+q3MFkZvZltGCl9fEELwLJRsB2nARmATY7JxV/ac9fk/AheZws
X-Google-Smtp-Source: AGHT+IG8Hk3aAgVTk7rj5YTg7hsTDQ/0DLeOappP0D9UqSZaxLr2yxd5b4TfqD3DmKO4Nwi4mzbm3zYuue3K
X-Received: by 2002:a05:6871:5820:b0:260:f7e7:65e with SMTP id
 586e51a60fabf-26fcb84f9c0mr2169307fac.45.1723510663512; 
 Mon, 12 Aug 2024 17:57:43 -0700 (PDT)
Received: from postal.iol.unh.edu (postal.iol.unh.edu.
 [2606:4100:3880:1234::84]) by smtp-relay.gmail.com with ESMTPS id
 586e51a60fabf-26c7203aa90sm390750fac.9.2024.08.12.17.57.43
 (version=TLS1_2 cipher=ECDHE-ECDSA-AES128-GCM-SHA256 bits=128/128);
 Mon, 12 Aug 2024 17:57:43 -0700 (PDT)
X-Relaying-Domain: iol.unh.edu
Date: Mon, 12 Aug 2024 17:57:43 -0700 (PDT)
Message-ID: <66baaf87.050a0220.1a1d2e.6315SMTPIN_ADDED_MISSING@mx.google.com>
Received: from [172.17.0.2] (unknown [172.18.0.217])
 by postal.iol.unh.edu (Postfix) with ESMTP id F3D13605C380;
 Mon, 12 Aug 2024 20:57:42 -0400 (EDT)
Subject: |PENDING| pw143079-143080 [PATCH] [RFC,v1,2/2] dts: checksum offload
From: dpdklab@iol.unh.edu
To: Test Report <test-report@dpdk.org>
Cc: dpdk-test-reports@iol.unh.edu
In-Reply-To: <20240812134124.27637-3-dmarx@iol.unh.edu>
References: <20240812134124.27637-3-dmarx@iol.unh.edu>
Content-Type: text/plain
X-BeenThere: test-report@dpdk.org
X-Mailman-Version: 2.1.29
Precedence: list
List-Id: automatic DPDK test reports <test-report.dpdk.org>
List-Unsubscribe: <https://mails.dpdk.org/options/test-report>,
 <mailto:test-report-request@dpdk.org?subject=unsubscribe>
List-Archive: <http://mails.dpdk.org/archives/test-report/>
List-Post: <mailto:test-report@dpdk.org>
List-Help: <mailto:test-report-request@dpdk.org?subject=help>
List-Subscribe: <https://mails.dpdk.org/listinfo/test-report>,
 <mailto:test-report-request@dpdk.org?subject=subscribe>
Errors-To: test-report-bounces@dpdk.org

Test-Label: iol-compile-arm64-testing
Test-Status: PENDING
http://dpdk.org/patch/143080

_Testing pending_

Submitter: Dean Marx <dmarx@iol.unh.edu>
Date: Monday, August 12 2024 13:41:24 
DPDK git baseline: Repo:dpdk
  Branch: master
  CommitID:cb9187bc5c2b4bab0ad80194ac3b60491de14e8c

143079-143080 --> testing pending

Upstream job id: Generic-DPDK-Compile-Meson#287579

Test environment and result as below:

+------------------------------------+--------------------+
|            Environment             | dpdk_meson_compile |
+====================================+====================+
| RHEL9 (ARM)                        | PASS               |
+------------------------------------+--------------------+
| Ubuntu 20.04 ARM GCC Cross Compile | PASS               |
+------------------------------------+--------------------+
| Ubuntu 20.04 ARM SVE               | PASS               |
+------------------------------------+--------------------+
| Debian 12 with MUSDK               | PASS               |
+------------------------------------+--------------------+
| Fedora 37 (ARM)                    | PASS               |
+------------------------------------+--------------------+
| Fedora 38 (ARM)                    | PASS               |
+------------------------------------+--------------------+
| Fedora 38 (ARM Clang)              | PEND               |
+------------------------------------+--------------------+
| Fedora 39 (ARM)                    | PEND               |
+------------------------------------+--------------------+
| Fedora 39 (ARM Clang)              | PEND               |
+------------------------------------+--------------------+
| Fedora 40 (ARM)                    | PEND               |
+------------------------------------+--------------------+
| Fedora 40 (ARM Clang)              | PEND               |
+------------------------------------+--------------------+
| Ubuntu 20.04 (ARM)                 | PEND               |
+------------------------------------+--------------------+
| Ubuntu 22.04 (ARM)                 | PEND               |
+------------------------------------+--------------------+


RHEL9 (ARM)
	Kernel: Depends on container host
	Compiler: gcc 11.4.1

Ubuntu 20.04 ARM GCC Cross Compile
	Kernel: 5.4.0-167-generic
	Compiler: aarch64-linux-gnu-gcc (Ubuntu 9.4.0-1ubuntu1~20.04.2) 9.4.0

Ubuntu 20.04 ARM SVE
	Kernel: 5.4.0-167-generic
	Compiler: gcc (Ubuntu 10.5.0-1ubuntu1~20.04) 10.5.0

Debian 12 with MUSDK
	Kernel: Container Host Kernel
	Compiler: gcc 12.2.0

Fedora 37 (ARM)
	Kernel: Depends on container host
	Compiler: gcc 12.3.1

Fedora 38 (ARM)
	Kernel: Depends on container host
	Compiler: gcc 13.2.1

Fedora 38 (ARM Clang)
	Kernel: Depends on container host
	Compiler: clang 16.0.6

Fedora 39 (ARM)
	Kernel: Depends on container host
	Compiler: gcc 13.2.1

Fedora 39 (ARM Clang)
	Kernel: Depends on container host
	Compiler: clang 17.0.6

Fedora 40 (ARM)
	Kernel: Depends on container host
	Compiler: gcc 14.1.1

Fedora 40 (ARM Clang)
	Kernel: Depends on container host
	Compiler: clang 18.1.6

Ubuntu 20.04 (ARM)
	Kernel: Container Host Kernel
	Compiler: gcc 9.4.0

Ubuntu 22.04 (ARM)
	Kernel: Container Host Kernel
	Compiler: gcc 11.4.0

To view detailed results, visit:
https://lab.dpdk.org/results/dashboard/patchsets/30770/

UNH-IOL DPDK Community Lab

To manage your email subscriptions, visit: 
https://lab.dpdk.org/results/dashboard/preferences/subscriptions/