From mboxrd@z Thu Jan  1 00:00:00 1970
Return-Path: <test-report-bounces@dpdk.org>
Received: from mails.dpdk.org (mails.dpdk.org [217.70.189.124])
	by inbox.dpdk.org (Postfix) with ESMTP id 4FC15457A6
	for <public@inbox.dpdk.org>; Tue, 13 Aug 2024 02:58:34 +0200 (CEST)
Received: from mails.dpdk.org (localhost [127.0.0.1])
	by mails.dpdk.org (Postfix) with ESMTP id 4C39B402C2;
	Tue, 13 Aug 2024 02:58:34 +0200 (CEST)
Received: from mail-oi1-f226.google.com (mail-oi1-f226.google.com
 [209.85.167.226])
 by mails.dpdk.org (Postfix) with ESMTP id A5A37402C0
 for <test-report@dpdk.org>; Tue, 13 Aug 2024 02:58:33 +0200 (CEST)
Received: by mail-oi1-f226.google.com with SMTP id
 5614622812f47-3db14339fb0so2948452b6e.2
 for <test-report@dpdk.org>; Mon, 12 Aug 2024 17:58:33 -0700 (PDT)
DKIM-Signature: v=1; a=rsa-sha256; c=relaxed/relaxed;
 d=iol.unh.edu; s=unh-iol; t=1723510713; x=1724115513; darn=dpdk.org;
 h=references:in-reply-to:cc:to:from:subject:message-id:date:from:to
 :cc:subject:date:message-id:reply-to;
 bh=DjRiQ/S17IVVaJv/w48LJMFey1BHMaVKPhO7DKkfctM=;
 b=PI4DcM9w9FbwQGjyn3+xbCR9rlMNRREUApN1++e9ps09J6muOjzCXc0Wiqf0yM6L7T
 /k0KwQs+czsLhg969UJDJEleQUen2xy9/uAumOQEvTEaQLRc1cK1lRr1eO+i2j7xkjel
 cNt6XRyxwIdwr8R0hQc402KUykfaWcpbzllsM=
X-Google-DKIM-Signature: v=1; a=rsa-sha256; c=relaxed/relaxed;
 d=1e100.net; s=20230601; t=1723510713; x=1724115513;
 h=references:in-reply-to:cc:to:from:subject:message-id:date
 :x-gm-message-state:from:to:cc:subject:date:message-id:reply-to;
 bh=DjRiQ/S17IVVaJv/w48LJMFey1BHMaVKPhO7DKkfctM=;
 b=huyXKsWGp2TcN4tpUvOKqc0Kjr3DV3yjI7fDrZz3QtVuabpHmq/qAv2WkCNdwcDL6L
 uuWBd5df58aSdQY+vrX5isAAjJLKHqrQEKz5PZLwaROPnQiR/Ohq8ddUV1XVg/7ghEaO
 QGhYVlKvmsjty0TJOxaUrihuF/cRazoP2Aclrwn96NES8h2ovMe8FxUAw1KJy8cLArf6
 j/it4Anx/rgXN0wRIo/umgRPIliKmm3xPVMsY6TQby4zHPoBhyJFgsnwDiqAnhU7Y0zJ
 P/RCg8WAFNEsixKsgB76d/kZMk7BDU7c1RfgTtijSQEfckWFBfsuUao3OIbZHX6W1kB0
 AC4Q==
X-Gm-Message-State: AOJu0YziZn9IKwQ99SZnG7ope1UZ0U7EjEIHzQQ3LsNZgIFy/EX/QAHj
 u0kmM1P66YiKcbdtLwlEChagraziEyIGuQv/ThesiHMX27J6SslkYkK4/Yl2SE/9o/DgU/dA9/2
 Yrqq+g0X/EFQB9mmcsYg9g2gt4ig+Q845ZAJtEMVN
X-Google-Smtp-Source: AGHT+IH1NxB7jJb3wwXdwGuWcmKTErWWbSf5t6ppsYjXRpBSWqrn3sszelgm7O6GbN2OQwzwfvg6iLC6mdHU
X-Received: by 2002:a05:6870:d624:b0:25e:b632:b772 with SMTP id
 586e51a60fabf-26fcb6ddeccmr2188615fac.28.1723510713048; 
 Mon, 12 Aug 2024 17:58:33 -0700 (PDT)
Received: from postal.iol.unh.edu (postal.iol.unh.edu. [132.177.123.84])
 by smtp-relay.gmail.com with ESMTPS id
 586e51a60fabf-26c7229fba7sm396883fac.31.2024.08.12.17.58.32
 (version=TLS1_2 cipher=ECDHE-ECDSA-AES128-GCM-SHA256 bits=128/128);
 Mon, 12 Aug 2024 17:58:33 -0700 (PDT)
X-Relaying-Domain: iol.unh.edu
Date: Mon, 12 Aug 2024 17:58:33 -0700 (PDT)
Message-ID: <66baafb9.050a0220.38d938.7398SMTPIN_ADDED_MISSING@mx.google.com>
Received: from [172.17.0.2] (unknown [172.18.0.217])
 by postal.iol.unh.edu (Postfix) with ESMTP id 82573605C380;
 Mon, 12 Aug 2024 20:58:32 -0400 (EDT)
Subject: |PENDING| pw143079-143080 [PATCH] [RFC,v1,2/2] dts: checksum offload
From: dpdklab@iol.unh.edu
To: Test Report <test-report@dpdk.org>
Cc: dpdk-test-reports@iol.unh.edu
In-Reply-To: <20240812134124.27637-3-dmarx@iol.unh.edu>
References: <20240812134124.27637-3-dmarx@iol.unh.edu>
Content-Type: text/plain
X-BeenThere: test-report@dpdk.org
X-Mailman-Version: 2.1.29
Precedence: list
List-Id: automatic DPDK test reports <test-report.dpdk.org>
List-Unsubscribe: <https://mails.dpdk.org/options/test-report>,
 <mailto:test-report-request@dpdk.org?subject=unsubscribe>
List-Archive: <http://mails.dpdk.org/archives/test-report/>
List-Post: <mailto:test-report@dpdk.org>
List-Help: <mailto:test-report-request@dpdk.org?subject=help>
List-Subscribe: <https://mails.dpdk.org/listinfo/test-report>,
 <mailto:test-report-request@dpdk.org?subject=subscribe>
Errors-To: test-report-bounces@dpdk.org

Test-Label: iol-compile-arm64-testing
Test-Status: PENDING
http://dpdk.org/patch/143080

_Testing pending_

Submitter: Dean Marx <dmarx@iol.unh.edu>
Date: Monday, August 12 2024 13:41:24 
DPDK git baseline: Repo:dpdk
  Branch: master
  CommitID:cb9187bc5c2b4bab0ad80194ac3b60491de14e8c

143079-143080 --> testing pending

Upstream job id: Generic-DPDK-Compile-Meson#287580

Test environment and result as below:

+------------------------------------+--------------------+
|            Environment             | dpdk_meson_compile |
+====================================+====================+
| RHEL9 (ARM)                        | PASS               |
+------------------------------------+--------------------+
| Ubuntu 20.04 ARM GCC Cross Compile | PASS               |
+------------------------------------+--------------------+
| Ubuntu 20.04 ARM SVE               | PASS               |
+------------------------------------+--------------------+
| Debian 12 with MUSDK               | PASS               |
+------------------------------------+--------------------+
| Fedora 37 (ARM)                    | PASS               |
+------------------------------------+--------------------+
| Fedora 38 (ARM)                    | PASS               |
+------------------------------------+--------------------+
| Fedora 38 (ARM Clang)              | PEND               |
+------------------------------------+--------------------+
| Fedora 39 (ARM)                    | PASS               |
+------------------------------------+--------------------+
| Fedora 39 (ARM Clang)              | PEND               |
+------------------------------------+--------------------+
| Fedora 40 (ARM)                    | PEND               |
+------------------------------------+--------------------+
| Fedora 40 (ARM Clang)              | PEND               |
+------------------------------------+--------------------+
| Ubuntu 20.04 (ARM)                 | PEND               |
+------------------------------------+--------------------+
| Ubuntu 22.04 (ARM)                 | PEND               |
+------------------------------------+--------------------+
| Ubuntu 24.04 (ARM)                 | PEND               |
+------------------------------------+--------------------+


RHEL9 (ARM)
	Kernel: Depends on container host
	Compiler: gcc 11.4.1

Ubuntu 20.04 ARM GCC Cross Compile
	Kernel: 5.4.0-167-generic
	Compiler: aarch64-linux-gnu-gcc (Ubuntu 9.4.0-1ubuntu1~20.04.2) 9.4.0

Ubuntu 20.04 ARM SVE
	Kernel: 5.4.0-167-generic
	Compiler: gcc (Ubuntu 10.5.0-1ubuntu1~20.04) 10.5.0

Debian 12 with MUSDK
	Kernel: Container Host Kernel
	Compiler: gcc 12.2.0

Fedora 37 (ARM)
	Kernel: Depends on container host
	Compiler: gcc 12.3.1

Fedora 38 (ARM)
	Kernel: Depends on container host
	Compiler: gcc 13.2.1

Fedora 38 (ARM Clang)
	Kernel: Depends on container host
	Compiler: clang 16.0.6

Fedora 39 (ARM)
	Kernel: Depends on container host
	Compiler: gcc 13.2.1

Fedora 39 (ARM Clang)
	Kernel: Depends on container host
	Compiler: clang 17.0.6

Fedora 40 (ARM)
	Kernel: Depends on container host
	Compiler: gcc 14.1.1

Fedora 40 (ARM Clang)
	Kernel: Depends on container host
	Compiler: clang 18.1.6

Ubuntu 20.04 (ARM)
	Kernel: Container Host Kernel
	Compiler: gcc 9.4.0

Ubuntu 22.04 (ARM)
	Kernel: Container Host Kernel
	Compiler: gcc 11.4.0

Ubuntu 24.04 (ARM)
	Kernel: 5.4.0-167-generic
	Compiler: gcc 13.2.0

To view detailed results, visit:
https://lab.dpdk.org/results/dashboard/patchsets/30770/

UNH-IOL DPDK Community Lab

To manage your email subscriptions, visit: 
https://lab.dpdk.org/results/dashboard/preferences/subscriptions/