From mboxrd@z Thu Jan  1 00:00:00 1970
Return-Path: <test-report-bounces@dpdk.org>
Received: from mails.dpdk.org (mails.dpdk.org [217.70.189.124])
	by inbox.dpdk.org (Postfix) with ESMTP id 78C5A457AF
	for <public@inbox.dpdk.org>; Tue, 13 Aug 2024 10:41:44 +0200 (CEST)
Received: from mails.dpdk.org (localhost [127.0.0.1])
	by mails.dpdk.org (Postfix) with ESMTP id 736C14065B;
	Tue, 13 Aug 2024 10:41:44 +0200 (CEST)
Received: from mail-yw1-f225.google.com (mail-yw1-f225.google.com
 [209.85.128.225])
 by mails.dpdk.org (Postfix) with ESMTP id C8F7640647
 for <test-report@dpdk.org>; Tue, 13 Aug 2024 10:41:09 +0200 (CEST)
Received: by mail-yw1-f225.google.com with SMTP id
 00721157ae682-685cc5415e8so53495917b3.3
 for <test-report@dpdk.org>; Tue, 13 Aug 2024 01:41:09 -0700 (PDT)
DKIM-Signature: v=1; a=rsa-sha256; c=relaxed/relaxed;
 d=iol.unh.edu; s=unh-iol; t=1723538469; x=1724143269; darn=dpdk.org;
 h=references:in-reply-to:cc:to:from:subject:message-id:date:from:to
 :cc:subject:date:message-id:reply-to;
 bh=1b6J1J67qFFNibGLfS3aQm/ejYeB9opKzpniNrdJYHc=;
 b=YZX25TdnEKrw05O3vt/erZydWTTkVRbA7QoykH227mn3+95yI5iAb20IqD+lGX2N2b
 g0jtd0nBZpTbsLj9Ztk/KpmHKUs7w1jth938Sdmj0DMWDLnwhDbDCJAXZnWoayqgsZlp
 edtrwGsqWyFFa7x94qBN3oYkf0rHJWBIJ/jic=
X-Google-DKIM-Signature: v=1; a=rsa-sha256; c=relaxed/relaxed;
 d=1e100.net; s=20230601; t=1723538469; x=1724143269;
 h=references:in-reply-to:cc:to:from:subject:message-id:date
 :x-gm-message-state:from:to:cc:subject:date:message-id:reply-to;
 bh=1b6J1J67qFFNibGLfS3aQm/ejYeB9opKzpniNrdJYHc=;
 b=ACiowziIj5fluHLbPICzbva82/se0DdVYPQZ2VvQzA5OsQqXkuOZiGtnDOLJBjLGbn
 bBvAqAygYRbJVBqXZN6vcILmGmdKhiu3WXVaFcIYEdyqKKOmNZuS7Mbo20aVvFJOwVu5
 EDBwjUy34LY+kNcizMKZrqHnuJHysI+VIaLeiAHwJvSpBonXeUHfNUQEwMsnbj545/HM
 JiUcCFGq91Bx6zVAu6pQDb1bRyOgjX6TypKP65Rmo7VjKlb9FNDwY2Q7fByKpso/El03
 V6iZ2O4u60fRV4DljbqhL/pRS8+i/IIbpZ63yg3EVgajMEuh3kL8aMPgNGZk75Iqp6dO
 isJA==
X-Gm-Message-State: AOJu0Yy4Vl2qVOT9WzUhRq4aP8koNvZYV3p6YnkAJsHpgr11n4zuKHi3
 T2nWT5K4RayzHU6M2EffTyBkJdzjhJAuS+xSmQyzuF+JnqZuxCqO9y1jTFJ4z9O1sy/SSBbFW9r
 OHvFdgaxZ6LAZBipXeVB15379tNuDNjOw1raAO3PLDNDGFi9p/kr+WRJI
X-Google-Smtp-Source: AGHT+IGycKPFduMbGo0Sshkbdk7wy1/sL+f6/Xwk3labCB7e50EN6dsI6sZe3mDhQ67WAN15sG8fmVDf4lAI
X-Received: by 2002:a05:690c:270a:b0:665:3394:c068 with SMTP id
 00721157ae682-6a97608779cmr30368207b3.37.1723538469189; 
 Tue, 13 Aug 2024 01:41:09 -0700 (PDT)
Received: from postal.iol.unh.edu (postal.iol.unh.edu.
 [2606:4100:3880:1234::84]) by smtp-relay.gmail.com with ESMTPS id
 00721157ae682-6a0a121887fsm5805267b3.40.2024.08.13.01.41.09
 (version=TLS1_2 cipher=ECDHE-ECDSA-AES128-GCM-SHA256 bits=128/128);
 Tue, 13 Aug 2024 01:41:09 -0700 (PDT)
X-Relaying-Domain: iol.unh.edu
Date: Tue, 13 Aug 2024 01:41:09 -0700 (PDT)
Message-ID: <66bb1c25.0d0a0220.17780.3df0SMTPIN_ADDED_MISSING@mx.google.com>
Received: from [172.21.0.6] (unknown [172.18.0.240])
 by postal.iol.unh.edu (Postfix) with ESMTP id D65D160526E2;
 Tue, 13 Aug 2024 04:41:08 -0400 (EDT)
Subject: |PENDING| pw143105-143107 [PATCH] [v8,3/3] event/dsw: add capability
From: dpdklab@iol.unh.edu
To: Test Report <test-report@dpdk.org>
Cc: dpdk-test-reports@iol.unh.edu
In-Reply-To: <20240812200030.988314-4-abdullah.sevincer@intel.com>
References: <20240812200030.988314-4-abdullah.sevincer@intel.com>
Content-Type: text/plain
X-BeenThere: test-report@dpdk.org
X-Mailman-Version: 2.1.29
Precedence: list
List-Id: automatic DPDK test reports <test-report.dpdk.org>
List-Unsubscribe: <https://mails.dpdk.org/options/test-report>,
 <mailto:test-report-request@dpdk.org?subject=unsubscribe>
List-Archive: <http://mails.dpdk.org/archives/test-report/>
List-Post: <mailto:test-report@dpdk.org>
List-Help: <mailto:test-report-request@dpdk.org?subject=help>
List-Subscribe: <https://mails.dpdk.org/listinfo/test-report>,
 <mailto:test-report-request@dpdk.org?subject=subscribe>
Errors-To: test-report-bounces@dpdk.org

Test-Label: iol-unit-amd64-testing
Test-Status: PENDING
http://dpdk.org/patch/143107

_Testing pending_

Submitter: Abdullah Sevincer <abdullah.sevincer@intel.com>
Date: Monday, August 12 2024 20:00:30 
DPDK git baseline: Repo:dpdk
  Branch: master
  CommitID:cb9187bc5c2b4bab0ad80194ac3b60491de14e8c

143105-143107 --> testing pending

Upstream job id: Generic-Unit-Test-DPDK#251670

Test environment and result as below:

+---------------------+----------------+
|     Environment     | dpdk_unit_test |
+=====================+================+
| Windows Server 2019 | PASS           |
+---------------------+----------------+
| Windows Server 2022 | PASS           |
+---------------------+----------------+
| CentOS Stream 9     | PASS           |
+---------------------+----------------+
| Debian 12           | PASS           |
+---------------------+----------------+
| Debian Bullseye     | PASS           |
+---------------------+----------------+
| Fedora 37           | PASS           |
+---------------------+----------------+
| Fedora 38           | PASS           |
+---------------------+----------------+
| Fedora 38 (Clang)   | PASS           |
+---------------------+----------------+
| Fedora 39 (Clang)   | PASS           |
+---------------------+----------------+
| Fedora 40           | PASS           |
+---------------------+----------------+
| openSUSE Leap 15    | PASS           |
+---------------------+----------------+
| Fedora 40 (Clang)   | PEND           |
+---------------------+----------------+
| RHEL8               | PEND           |
+---------------------+----------------+
| RHEL9               | PEND           |
+---------------------+----------------+
| Ubuntu 20.04        | PEND           |
+---------------------+----------------+
| Ubuntu 22.04        | PEND           |
+---------------------+----------------+
| Ubuntu 24.04        | PEND           |
+---------------------+----------------+
| Fedora 39           | PEND           |
+---------------------+----------------+


Windows Server 2019
	Kernel: 10.0.17763
	Compiler: clang 14.0 and gcc 8.1.0 (MinGW)

Windows Server 2022
	Kernel: 10.0.20348.2031
	Compiler: clang 15.0.7, gcc 8.1.0 (MinGW), and MSVC VS 17.9

CentOS Stream 9
	Kernel: 5.4.0-167-generic
	Compiler: gcc 11.4.1 20230605

Debian 12
	Kernel: Container Host Kernel
	Compiler: gcc 12.2.0

Debian Bullseye
	Kernel: 5.4.0-167-generic
	Compiler: gcc 10.2.1-6

Fedora 37
	Kernel: Depends on container host system
	Compiler: gcc 12.3.1

Fedora 38
	Kernel: Depends on container host
	Compiler: gcc 13.2.1

Fedora 38 (Clang)
	Kernel: Depends on container host
	Compiler: clang 16.0.6

Fedora 39 (Clang)
	Kernel: Depends on container host
	Compiler: clang 17.0.6

Fedora 40
	Kernel: Depends on container host
	Compiler: gcc 14.1.1

openSUSE Leap 15
	Kernel: 5.4.0-167-generic
	Compiler: gcc 7.5.0

Fedora 40 (Clang)
	Kernel: Depends on container host
	Compiler: clang 18.1.6

RHEL8
	Kernel: 5.4.0-167-generic
	Compiler: gcc 8.5.0 20210514 (Red Hat 8.5.0-20)

RHEL9
	Kernel: Depends on container host
	Compiler: gcc 11.4.1

Ubuntu 20.04
	Kernel: 5.4.0-167-generic
	Compiler: gcc 9.4.0-1ubuntu1~20.04.1

Ubuntu 22.04
	Kernel: 5.4.0-167-generic
	Compiler: gcc 11.4.0

Ubuntu 24.04
	Kernel: 5.4.0-167-generic
	Compiler: gcc 13.2.0

Fedora 39
	Kernel: Depends on container host
	Compiler: gcc 13.2.1

To view detailed results, visit:
https://lab.dpdk.org/results/dashboard/patchsets/30778/

UNH-IOL DPDK Community Lab

To manage your email subscriptions, visit: 
https://lab.dpdk.org/results/dashboard/preferences/subscriptions/