From mboxrd@z Thu Jan  1 00:00:00 1970
Return-Path: <test-report-bounces@dpdk.org>
Received: from mails.dpdk.org (mails.dpdk.org [217.70.189.124])
	by inbox.dpdk.org (Postfix) with ESMTP id E63F8457B3
	for <public@inbox.dpdk.org>; Tue, 13 Aug 2024 18:43:17 +0200 (CEST)
Received: from mails.dpdk.org (localhost [127.0.0.1])
	by mails.dpdk.org (Postfix) with ESMTP id E27BB402A8;
	Tue, 13 Aug 2024 18:43:17 +0200 (CEST)
Received: from mail-qv1-f97.google.com (mail-qv1-f97.google.com
 [209.85.219.97]) by mails.dpdk.org (Postfix) with ESMTP id 5DF744028B
 for <test-report@dpdk.org>; Tue, 13 Aug 2024 18:43:16 +0200 (CEST)
Received: by mail-qv1-f97.google.com with SMTP id
 6a1803df08f44-6b797fb1c4aso38864286d6.2
 for <test-report@dpdk.org>; Tue, 13 Aug 2024 09:43:16 -0700 (PDT)
DKIM-Signature: v=1; a=rsa-sha256; c=relaxed/relaxed;
 d=iol.unh.edu; s=unh-iol; t=1723567396; x=1724172196; darn=dpdk.org;
 h=references:in-reply-to:cc:to:from:subject:message-id:date:from:to
 :cc:subject:date:message-id:reply-to;
 bh=y5sv13FX2R9jogs+ACp9BSNwGwxoyYNYPoEHAH+Yk3o=;
 b=b/gDiieJ8hdBid03JIl6sHop2sKMuAzFs0va8KMUZpyk6r1NknEhES2LGDrnsvA9yx
 9KKKc5xqtvkh5qXf/+/WrUQtyrhUbToEYQvJVdmnk1YWBwgrjlxBhfBRizm6E189HmuM
 OkgfUAJrqhZNi5QrpasxE7tCmvfQdfH/8OPFs=
X-Google-DKIM-Signature: v=1; a=rsa-sha256; c=relaxed/relaxed;
 d=1e100.net; s=20230601; t=1723567396; x=1724172196;
 h=references:in-reply-to:cc:to:from:subject:message-id:date
 :x-gm-message-state:from:to:cc:subject:date:message-id:reply-to;
 bh=y5sv13FX2R9jogs+ACp9BSNwGwxoyYNYPoEHAH+Yk3o=;
 b=FxAxM3wIS7m5Lb10H6N5Y4RY4JY0J0z7ArsgI/NPO40mCsLGHxLc5JystwoCP0mFeS
 eFSB8YN7NHZTl8Zr6D5rHfe8LszfxhsT0eyYwkRtejsMhimWn+JDDhzRLLzIEfvMAJCG
 8nN0r094Q/s7p0PrCIUQSe8mzT5ENc6P2Fxj7Rxk5a+gn9SyKHtk9WyVzYlgDd0iEwUq
 Ofnb1bLCL8JMDMSEIVJWJksYjufFow2deteAwFlxxwzo/CiGgLtlE/brBXxG1uJcvd0E
 pn3Vipin4xK1d4z2Tt2f4OHU2sUFAop8rLQQ/imGXKl1Wvnu5+c9QAkw1iecjrSL63po
 XXUA==
X-Gm-Message-State: AOJu0YxptUc8xmjh+LEe5NsKASBbyA9j4m9lTlVJT++mZZTKnWAFVeey
 a+J4F5QKXXX9isJ/6VisWGpUl+yRTK8rhX4d+naVa0nhNvX4h+M0C0iHL9/70YPdDLMmDNpBrV1
 niKHzUmbRn5G0JPbM1K8o4JVBqDQ1OxxJCTP/Kgh/97s7404kek2idO9m
X-Google-Smtp-Source: AGHT+IGpkQMdTBzpjnuaLsBv7JIili/q7xkU5pXGQfGVqvu1t4Gd8QCxGhVPTOmr+aorpFgwexYINdVkhIQH
X-Received: by 2002:a05:6214:4993:b0:6b0:7413:e0e9 with SMTP id
 6a1803df08f44-6bf5d1642a6mr1170756d6.5.1723567395834; 
 Tue, 13 Aug 2024 09:43:15 -0700 (PDT)
Received: from postal.iol.unh.edu (postal.iol.unh.edu.
 [2606:4100:3880:1234::84]) by smtp-relay.gmail.com with ESMTPS id
 6a1803df08f44-6bf5231f22fsm1213626d6.40.2024.08.13.09.43.15
 (version=TLS1_2 cipher=ECDHE-ECDSA-AES128-GCM-SHA256 bits=128/128);
 Tue, 13 Aug 2024 09:43:15 -0700 (PDT)
X-Relaying-Domain: iol.unh.edu
Date: Tue, 13 Aug 2024 09:43:15 -0700 (PDT)
Message-ID: <66bb8d23.050a0220.2c7859.49daSMTPIN_ADDED_MISSING@mx.google.com>
Received: from [172.21.0.8] (unknown [172.18.0.240])
 by postal.iol.unh.edu (Postfix) with ESMTP id 84414605C351;
 Tue, 13 Aug 2024 12:43:15 -0400 (EDT)
Subject: |PENDING| pw143109-143110 [PATCH] [v2,3/3] test/bbdev: update for qu
From: dpdklab@iol.unh.edu
To: Test Report <test-report@dpdk.org>
Cc: dpdk-test-reports@iol.unh.edu
In-Reply-To: <20240812234201.2196633-4-nicolas.chautru@intel.com>
References: <20240812234201.2196633-4-nicolas.chautru@intel.com>
Content-Type: text/plain
X-BeenThere: test-report@dpdk.org
X-Mailman-Version: 2.1.29
Precedence: list
List-Id: automatic DPDK test reports <test-report.dpdk.org>
List-Unsubscribe: <https://mails.dpdk.org/options/test-report>,
 <mailto:test-report-request@dpdk.org?subject=unsubscribe>
List-Archive: <http://mails.dpdk.org/archives/test-report/>
List-Post: <mailto:test-report@dpdk.org>
List-Help: <mailto:test-report-request@dpdk.org?subject=help>
List-Subscribe: <https://mails.dpdk.org/listinfo/test-report>,
 <mailto:test-report-request@dpdk.org?subject=subscribe>
Errors-To: test-report-bounces@dpdk.org

Test-Label: iol-unit-arm64-testing
Test-Status: PENDING
http://dpdk.org/patch/143110

_Testing pending_

Submitter: Nicolas Chautru <nicolas.chautru@intel.com>
Date: Monday, August 12 2024 23:42:01 
DPDK git baseline: Repo:dpdk
  Branch: master
  CommitID:cb9187bc5c2b4bab0ad80194ac3b60491de14e8c

143109-143110 --> testing pending

Upstream job id: Generic-Unit-Test-DPDK#251823

Test environment and result as below:

+-----------------------------+----------------+--------------+---------------------------+------------------------------+
|         Environment         | dpdk_unit_test | lpm_autotest | cryptodev_sw_zuc_autotest | cryptodev_sw_snow3g_autotest |
+=============================+================+==============+===========================+==============================+
| 32-bit Ubuntu 20.04.4 (ARM) | PEND           | SKIPPED      | SKIPPED                   | SKIPPED                      |
+-----------------------------+----------------+--------------+---------------------------+------------------------------+
| Debian 11 (Buster) (ARM)    | PASS           | SKIPPED      | SKIPPED                   | SKIPPED                      |
+-----------------------------+----------------+--------------+---------------------------+------------------------------+
| Debian 12 (arm)             | PASS           | SKIPPED      | PASS                      | PASS                         |
+-----------------------------+----------------+--------------+---------------------------+------------------------------+
| Fedora 37 (ARM)             | PASS           | SKIPPED      | SKIPPED                   | SKIPPED                      |
+-----------------------------+----------------+--------------+---------------------------+------------------------------+
| Fedora 38 (ARM)             | PASS           | SKIPPED      | SKIPPED                   | SKIPPED                      |
+-----------------------------+----------------+--------------+---------------------------+------------------------------+
| Fedora 38 (ARM Clang)       | PEND           | SKIPPED      | SKIPPED                   | SKIPPED                      |
+-----------------------------+----------------+--------------+---------------------------+------------------------------+
| Ubuntu 20.04 ARM SVE        | SKIPPED        | PASS         | SKIPPED                   | SKIPPED                      |
+-----------------------------+----------------+--------------+---------------------------+------------------------------+


32-bit Ubuntu 20.04.4 (ARM)
	Kernel: 5.4.0-155-generic aarch64
	Compiler: gcc 9.4

Debian 11 (Buster) (ARM)
	Kernel: Container Host Kernel
	Compiler: gcc 10.2.1

Debian 12 (arm)
	Kernel: Container Host Kernel
	Compiler: gcc 12.2.0

Fedora 37 (ARM)
	Kernel: Depends on container host
	Compiler: gcc 12.3.1

Fedora 38 (ARM)
	Kernel: Depends on container host
	Compiler: gcc 13.2.1

Fedora 38 (ARM Clang)
	Kernel: Depends on container host
	Compiler: clang 16.0.6

Ubuntu 20.04 ARM SVE
	Kernel: 5.4.0-167-generic
	Compiler: gcc (Ubuntu 10.5.0-1ubuntu1~20.04) 10.5.0

To view detailed results, visit:
https://lab.dpdk.org/results/dashboard/patchsets/30780/

UNH-IOL DPDK Community Lab

To manage your email subscriptions, visit: 
https://lab.dpdk.org/results/dashboard/preferences/subscriptions/