From mboxrd@z Thu Jan  1 00:00:00 1970
Return-Path: <test-report-bounces@dpdk.org>
Received: from mails.dpdk.org (mails.dpdk.org [217.70.189.124])
	by inbox.dpdk.org (Postfix) with ESMTP id 9411C457B4
	for <public@inbox.dpdk.org>; Tue, 13 Aug 2024 20:56:12 +0200 (CEST)
Received: from mails.dpdk.org (localhost [127.0.0.1])
	by mails.dpdk.org (Postfix) with ESMTP id 90AA84065C;
	Tue, 13 Aug 2024 20:56:12 +0200 (CEST)
Received: from mail-yw1-f225.google.com (mail-yw1-f225.google.com
 [209.85.128.225])
 by mails.dpdk.org (Postfix) with ESMTP id 25386402A8
 for <test-report@dpdk.org>; Tue, 13 Aug 2024 20:56:08 +0200 (CEST)
Received: by mail-yw1-f225.google.com with SMTP id
 00721157ae682-65fe1239f12so44994487b3.0
 for <test-report@dpdk.org>; Tue, 13 Aug 2024 11:56:08 -0700 (PDT)
DKIM-Signature: v=1; a=rsa-sha256; c=relaxed/relaxed;
 d=iol.unh.edu; s=unh-iol; t=1723575367; x=1724180167; darn=dpdk.org;
 h=references:in-reply-to:cc:to:from:subject:message-id:date:from:to
 :cc:subject:date:message-id:reply-to;
 bh=zdpoRFDKPcl2CLEW89lcF8QboetLIG8E9DdynsdiBBU=;
 b=SK3GLEBbj6SUgW4dbE2y+AWBrhjkeNwfiYYc4bOdGvh4r1i6J9jwVvIjZv0qNX0faN
 pLywxk/yS3KumUnzN/9XAdGOTbEAn0C8qSyombz87qWqcdqguV+pfJxxjZg9r6hCixIp
 SnMLg8L2cMsDKdsg99jTQ+4LImavDDT1Z97Hs=
X-Google-DKIM-Signature: v=1; a=rsa-sha256; c=relaxed/relaxed;
 d=1e100.net; s=20230601; t=1723575367; x=1724180167;
 h=references:in-reply-to:cc:to:from:subject:message-id:date
 :x-gm-message-state:from:to:cc:subject:date:message-id:reply-to;
 bh=zdpoRFDKPcl2CLEW89lcF8QboetLIG8E9DdynsdiBBU=;
 b=tKq2fupg+OhtQK9grl/1yTR4cfeu8dDP5mp/dBsH10MNPzwOkjRkPPNExeH5MPqlfA
 NqL71lMGMmF563Gqa2GE9duWyZVJLA1ypqNmi5UwRtMsBEPXps/54GP3ODOpXcBzyRyZ
 A99QxPtx4h3bxlKXuyyg9uasAobpcM9SyWiQUD4040+r3dNBN9JxtJM56eCIfcqUpOzo
 wRV5TnqVZ+O8AwlR/qj4OcDucsh60KvNOP6G00zKt9DvZ+GnWhYKm1UqV1n0c0OgG5zQ
 XL4Yt5QZK7kh59yloln2+i89W0ORxxbP68qhNvBYHJd8X/3F4jWo71vGPSg2j/vXEEYf
 vB5w==
X-Gm-Message-State: AOJu0YxMeEMEgHQd9Z8cnADrlEOab9phfH3eDy5emhFf5bkbUQ9N5CJP
 4NKdTmnQUW4d5XdtFpBRpzM1eBrfrkFg17WWjLsZ5kiD2VQJ1hPqs2gdj1S7UYxvkbn44b5vB4r
 NJjVUUq3b+aEPu99Vda1TiJHTsrocSHFCJofyhvuH9Y1SC6YJBRplN+za
X-Google-Smtp-Source: AGHT+IE8cQzbbnxFS1YtezD5XStZNhDrYWoXr0Eh5T+RhQ08GR0s0YECDkdckIKKPCZWmZDJJfN/OB90HqUS
X-Received: by 2002:a05:690c:3209:b0:65f:9796:2bdf with SMTP id
 00721157ae682-6ac98b7777fmr3838637b3.27.1723575367565; 
 Tue, 13 Aug 2024 11:56:07 -0700 (PDT)
Received: from postal.iol.unh.edu (postal.iol.unh.edu.
 [2606:4100:3880:1234::84]) by smtp-relay.gmail.com with ESMTPS id
 00721157ae682-6a09f906a03sm6705237b3.5.2024.08.13.11.56.07
 (version=TLS1_2 cipher=ECDHE-ECDSA-AES128-GCM-SHA256 bits=128/128);
 Tue, 13 Aug 2024 11:56:07 -0700 (PDT)
X-Relaying-Domain: iol.unh.edu
Date: Tue, 13 Aug 2024 11:56:07 -0700 (PDT)
Message-ID: <66bbac47.0d0a0220.e6180.88e5SMTPIN_ADDED_MISSING@mx.google.com>
Received: from [172.21.0.7] (unknown [172.18.0.240])
 by postal.iol.unh.edu (Postfix) with ESMTP id 3C94D605C380;
 Tue, 13 Aug 2024 14:56:07 -0400 (EDT)
Subject: |PENDING| pw143114-143117 [PATCH] [v6,4/4] test: restore cfgfile tes
From: dpdklab@iol.unh.edu
To: Test Report <test-report@dpdk.org>
Cc: dpdk-test-reports@iol.unh.edu
In-Reply-To: <20240813160039.5861-5-stephen@networkplumber.org>
References: <20240813160039.5861-5-stephen@networkplumber.org>
Content-Type: text/plain
X-BeenThere: test-report@dpdk.org
X-Mailman-Version: 2.1.29
Precedence: list
List-Id: automatic DPDK test reports <test-report.dpdk.org>
List-Unsubscribe: <https://mails.dpdk.org/options/test-report>,
 <mailto:test-report-request@dpdk.org?subject=unsubscribe>
List-Archive: <http://mails.dpdk.org/archives/test-report/>
List-Post: <mailto:test-report@dpdk.org>
List-Help: <mailto:test-report-request@dpdk.org?subject=help>
List-Subscribe: <https://mails.dpdk.org/listinfo/test-report>,
 <mailto:test-report-request@dpdk.org?subject=subscribe>
Errors-To: test-report-bounces@dpdk.org

Test-Label: iol-compile-arm64-testing
Test-Status: PENDING
http://dpdk.org/patch/143117

_Testing pending_

Submitter: Stephen Hemminger <stephen@networkplumber.org>
Date: Tuesday, August 13 2024 15:57:55 
DPDK git baseline: Repo:dpdk
  Branch: master
  CommitID:cb9187bc5c2b4bab0ad80194ac3b60491de14e8c

143114-143117 --> testing pending

Upstream job id: Generic-DPDK-Compile-Meson#288110

Test environment and result as below:

+------------------------------------+--------------------+
|            Environment             | dpdk_meson_compile |
+====================================+====================+
| RHEL9 (ARM)                        | PASS               |
+------------------------------------+--------------------+
| Ubuntu 20.04 ARM GCC Cross Compile | PASS               |
+------------------------------------+--------------------+
| Ubuntu 20.04 ARM SVE               | PASS               |
+------------------------------------+--------------------+
| Debian 12 with MUSDK               | PASS               |
+------------------------------------+--------------------+
| Fedora 37 (ARM)                    | PASS               |
+------------------------------------+--------------------+
| Fedora 38 (ARM)                    | PASS               |
+------------------------------------+--------------------+
| Fedora 38 (ARM Clang)              | PEND               |
+------------------------------------+--------------------+
| Fedora 40 (ARM)                    | PASS               |
+------------------------------------+--------------------+
| Fedora 39 (ARM Clang)              | PEND               |
+------------------------------------+--------------------+
| Fedora 39 (ARM)                    | PASS               |
+------------------------------------+--------------------+
| Ubuntu 20.04 (ARM)                 | PASS               |
+------------------------------------+--------------------+
| Fedora 40 (ARM Clang)              | PEND               |
+------------------------------------+--------------------+
| Ubuntu 24.04 (ARM)                 | PEND               |
+------------------------------------+--------------------+
| Ubuntu 22.04 (ARM)                 | PEND               |
+------------------------------------+--------------------+
| CentOS Stream 9 (ARM)              | PEND               |
+------------------------------------+--------------------+
| Debian 11 (Buster) (ARM)           | PEND               |
+------------------------------------+--------------------+


RHEL9 (ARM)
	Kernel: Depends on container host
	Compiler: gcc 11.4.1

Ubuntu 20.04 ARM GCC Cross Compile
	Kernel: 5.4.0-167-generic
	Compiler: aarch64-linux-gnu-gcc (Ubuntu 9.4.0-1ubuntu1~20.04.2) 9.4.0

Ubuntu 20.04 ARM SVE
	Kernel: 5.4.0-167-generic
	Compiler: gcc (Ubuntu 10.5.0-1ubuntu1~20.04) 10.5.0

Debian 12 with MUSDK
	Kernel: Container Host Kernel
	Compiler: gcc 12.2.0

Fedora 37 (ARM)
	Kernel: Depends on container host
	Compiler: gcc 12.3.1

Fedora 38 (ARM)
	Kernel: Depends on container host
	Compiler: gcc 13.2.1

Fedora 38 (ARM Clang)
	Kernel: Depends on container host
	Compiler: clang 16.0.6

Fedora 40 (ARM)
	Kernel: Depends on container host
	Compiler: gcc 14.1.1

Fedora 39 (ARM Clang)
	Kernel: Depends on container host
	Compiler: clang 17.0.6

Fedora 39 (ARM)
	Kernel: Depends on container host
	Compiler: gcc 13.2.1

Ubuntu 20.04 (ARM)
	Kernel: Container Host Kernel
	Compiler: gcc 9.4.0

Fedora 40 (ARM Clang)
	Kernel: Depends on container host
	Compiler: clang 18.1.6

Ubuntu 24.04 (ARM)
	Kernel: 5.4.0-167-generic
	Compiler: gcc 13.2.0

Ubuntu 22.04 (ARM)
	Kernel: Container Host Kernel
	Compiler: gcc 11.4.0

CentOS Stream 9 (ARM)
	Kernel: Container Host Kernel
	Compiler: gcc 11.4.1

Debian 11 (Buster) (ARM)
	Kernel: Container Host Kernel
	Compiler: gcc 10.2.1

To view detailed results, visit:
https://lab.dpdk.org/results/dashboard/patchsets/30783/

UNH-IOL DPDK Community Lab

To manage your email subscriptions, visit: 
https://lab.dpdk.org/results/dashboard/preferences/subscriptions/