From mboxrd@z Thu Jan  1 00:00:00 1970
Return-Path: <test-report-bounces@dpdk.org>
Received: from mails.dpdk.org (mails.dpdk.org [217.70.189.124])
	by inbox.dpdk.org (Postfix) with ESMTP id D852D457D5
	for <public@inbox.dpdk.org>; Thu, 15 Aug 2024 15:43:48 +0200 (CEST)
Received: from mails.dpdk.org (localhost [127.0.0.1])
	by mails.dpdk.org (Postfix) with ESMTP id D1D2742D6A;
	Thu, 15 Aug 2024 15:43:48 +0200 (CEST)
Received: from mail-il1-f228.google.com (mail-il1-f228.google.com
 [209.85.166.228])
 by mails.dpdk.org (Postfix) with ESMTP id BC37A40647
 for <test-report@dpdk.org>; Thu, 15 Aug 2024 15:43:37 +0200 (CEST)
Received: by mail-il1-f228.google.com with SMTP id
 e9e14a558f8ab-39b38295008so3398445ab.2
 for <test-report@dpdk.org>; Thu, 15 Aug 2024 06:43:37 -0700 (PDT)
DKIM-Signature: v=1; a=rsa-sha256; c=relaxed/relaxed;
 d=iol.unh.edu; s=unh-iol; t=1723729417; x=1724334217; darn=dpdk.org;
 h=references:in-reply-to:cc:to:from:subject:message-id:date:from:to
 :cc:subject:date:message-id:reply-to;
 bh=FPVyWK9Kavc7CfLRxwpz8aqEw+POV6e33H3I8QbxNek=;
 b=Yu2dQ0+eQDUoYT2Q/uEspzOWHRqbf0JicPCT40Mpu2+tIwid1I9Ldw1OminOk/qZVi
 Am10cbvPCURfBQITGeU9159fHlPB1RXbQL+Tlvos8xI7igjR3Lmqy5l4nJgJR0zI6pbd
 rkcP23Iu1Ym7+89AghkyIW82qUTco8MJFhNYc=
X-Google-DKIM-Signature: v=1; a=rsa-sha256; c=relaxed/relaxed;
 d=1e100.net; s=20230601; t=1723729417; x=1724334217;
 h=references:in-reply-to:cc:to:from:subject:message-id:date
 :x-gm-message-state:from:to:cc:subject:date:message-id:reply-to;
 bh=FPVyWK9Kavc7CfLRxwpz8aqEw+POV6e33H3I8QbxNek=;
 b=P2nj95teRs6ks3xS56tYbSE7buwaVyq8G3NyNTCnp7qT/CZT1HTobmpGl00KvPyQhe
 GJxwjozKiN/ueYUOsU1zcLXd6+TKcKgZ0dNz+v0U06NWzAbi2bd37/nxA/eiQZ2dctpV
 aNKSjE8T+2ed5Zr1nN40ROjgd5dUve2QuHlRbR+37ZRfEli1nC81Ocde5uvOa+TzvY+k
 ye3U6ht7DaAB7OVFLf24mLDkUml8lHmq4a9anydd4s39ziNeWiSLgDRW+JnUWHAvq0RY
 FB5+8uq3c9Yjx2S/4nj2Qr3BiMoTsnw0l8x5n/5Fmmqox5jpfZQQuqQLcK+Oof4M4QCV
 twWw==
X-Gm-Message-State: AOJu0YwyrTYdx+z/QHP5scsbF83u8vUy1tW4jQ0IPx5fu+4jzknAFBFE
 MKmfO647dt+HqD8VFjjR/4UKphN25VRYy4PPlSULJwB+QYcFdrHSqZ9bTDHU+UW38JuiJX5t3ZZ
 8MfgYzN5R2PCI/z0ba9uc+d8gXVSFdAB2ws9myVh3C1RuQsjk6EnRE4AS
X-Google-Smtp-Source: AGHT+IGjgRnjZm+VAlBIW7eRPYUYALTz0XQPlJPlNBLWcE3o4o9yfbFQYDuoxVrsfNo82IsdWLJ6DkkyfNS0
X-Received: by 2002:a05:6e02:184d:b0:39d:254c:ecd2 with SMTP id
 e9e14a558f8ab-39d254cee4dmr8273895ab.19.1723729417073; 
 Thu, 15 Aug 2024 06:43:37 -0700 (PDT)
Received: from postal.iol.unh.edu (postal.iol.unh.edu.
 [2606:4100:3880:1234::84]) by smtp-relay.gmail.com with ESMTPS id
 8926c6da1cb9f-4ccd6c8e88dsm50588173.15.2024.08.15.06.43.36
 (version=TLS1_2 cipher=ECDHE-ECDSA-AES128-GCM-SHA256 bits=128/128);
 Thu, 15 Aug 2024 06:43:37 -0700 (PDT)
X-Relaying-Domain: iol.unh.edu
Date: Thu, 15 Aug 2024 06:43:37 -0700 (PDT)
Message-ID: <66be0609.050a0220.f152a.2169SMTPIN_ADDED_MISSING@mx.google.com>
Received: from [172.17.0.2] (unknown [172.18.0.215])
 by postal.iol.unh.edu (Postfix) with ESMTP id B3892605C351;
 Thu, 15 Aug 2024 09:43:36 -0400 (EDT)
Subject: |PENDING| pw143193 [PATCH] net/bonding: add user callback for bond x
From: dpdklab@iol.unh.edu
To: Test Report <test-report@dpdk.org>
Cc: dpdk-test-reports@iol.unh.edu
In-Reply-To: <20240815121014.612170-1-vignesh.purushotham.srinivas@ericsson.com>
References: <20240815121014.612170-1-vignesh.purushotham.srinivas@ericsson.com>
Content-Type: text/plain
X-BeenThere: test-report@dpdk.org
X-Mailman-Version: 2.1.29
Precedence: list
List-Id: automatic DPDK test reports <test-report.dpdk.org>
List-Unsubscribe: <https://mails.dpdk.org/options/test-report>,
 <mailto:test-report-request@dpdk.org?subject=unsubscribe>
List-Archive: <http://mails.dpdk.org/archives/test-report/>
List-Post: <mailto:test-report@dpdk.org>
List-Help: <mailto:test-report-request@dpdk.org?subject=help>
List-Subscribe: <https://mails.dpdk.org/listinfo/test-report>,
 <mailto:test-report-request@dpdk.org?subject=subscribe>
Errors-To: test-report-bounces@dpdk.org

Test-Label: iol-unit-arm64-testing
Test-Status: PENDING
http://dpdk.org/patch/143193

_Testing pending_

Submitter: Vignesh Purushotham Srinivas <vignesh.purushotham.srinivas@ericsson.com>
Date: Thursday, August 15 2024 12:10:14 
DPDK git baseline: Repo:dpdk
  Branch: master
  CommitID:e0f7ebe88ab4588dd352e9ec14270ce4e3b1470b

143193 --> testing pending

Upstream job id: Generic-Unit-Test-DPDK#252609

Test environment and result as below:

+-----------------------------+----------------+--------------+---------------------------+------------------------------+
|         Environment         | dpdk_unit_test | lpm_autotest | cryptodev_sw_zuc_autotest | cryptodev_sw_snow3g_autotest |
+=============================+================+==============+===========================+==============================+
| 32-bit Ubuntu 20.04.4 (ARM) | PASS           | SKIPPED      | SKIPPED                   | SKIPPED                      |
+-----------------------------+----------------+--------------+---------------------------+------------------------------+
| CentOS Stream 9 (ARM)       | PASS           | SKIPPED      | SKIPPED                   | SKIPPED                      |
+-----------------------------+----------------+--------------+---------------------------+------------------------------+
| Debian 11 (Buster) (ARM)    | PASS           | SKIPPED      | SKIPPED                   | SKIPPED                      |
+-----------------------------+----------------+--------------+---------------------------+------------------------------+
| Debian 12 (arm)             | PASS           | SKIPPED      | PASS                      | PASS                         |
+-----------------------------+----------------+--------------+---------------------------+------------------------------+
| Fedora 37 (ARM)             | PASS           | SKIPPED      | SKIPPED                   | SKIPPED                      |
+-----------------------------+----------------+--------------+---------------------------+------------------------------+
| Fedora 38 (ARM)             | PASS           | SKIPPED      | SKIPPED                   | SKIPPED                      |
+-----------------------------+----------------+--------------+---------------------------+------------------------------+
| Fedora 38 (ARM Clang)       | PEND           | SKIPPED      | SKIPPED                   | SKIPPED                      |
+-----------------------------+----------------+--------------+---------------------------+------------------------------+
| Fedora 39 (ARM)             | PASS           | SKIPPED      | SKIPPED                   | SKIPPED                      |
+-----------------------------+----------------+--------------+---------------------------+------------------------------+
| Fedora 40 (ARM)             | PASS           | SKIPPED      | SKIPPED                   | SKIPPED                      |
+-----------------------------+----------------+--------------+---------------------------+------------------------------+
| Fedora 39 (ARM Clang)       | PEND           | SKIPPED      | SKIPPED                   | SKIPPED                      |
+-----------------------------+----------------+--------------+---------------------------+------------------------------+
| Fedora 40 (ARM Clang)       | PEND           | SKIPPED      | SKIPPED                   | SKIPPED                      |
+-----------------------------+----------------+--------------+---------------------------+------------------------------+
| RHEL9 (ARM)                 | PEND           | SKIPPED      | SKIPPED                   | SKIPPED                      |
+-----------------------------+----------------+--------------+---------------------------+------------------------------+
| Ubuntu 20.04 (ARM)          | PEND           | SKIPPED      | SKIPPED                   | SKIPPED                      |
+-----------------------------+----------------+--------------+---------------------------+------------------------------+
| Ubuntu 22.04 (ARM)          | PEND           | SKIPPED      | SKIPPED                   | SKIPPED                      |
+-----------------------------+----------------+--------------+---------------------------+------------------------------+
| Ubuntu 24.04 (ARM)          | PEND           | SKIPPED      | SKIPPED                   | SKIPPED                      |
+-----------------------------+----------------+--------------+---------------------------+------------------------------+
| Ubuntu 20.04 ARM SVE        | SKIPPED        | PEND         | SKIPPED                   | SKIPPED                      |
+-----------------------------+----------------+--------------+---------------------------+------------------------------+


32-bit Ubuntu 20.04.4 (ARM)
	Kernel: 5.4.0-155-generic aarch64
	Compiler: gcc 9.4

CentOS Stream 9 (ARM)
	Kernel: Container Host Kernel
	Compiler: gcc 11.4.1

Debian 11 (Buster) (ARM)
	Kernel: Container Host Kernel
	Compiler: gcc 10.2.1

Debian 12 (arm)
	Kernel: Container Host Kernel
	Compiler: gcc 12.2.0

Fedora 37 (ARM)
	Kernel: Depends on container host
	Compiler: gcc 12.3.1

Fedora 38 (ARM)
	Kernel: Depends on container host
	Compiler: gcc 13.2.1

Fedora 38 (ARM Clang)
	Kernel: Depends on container host
	Compiler: clang 16.0.6

Fedora 39 (ARM)
	Kernel: Depends on container host
	Compiler: gcc 13.2.1

Fedora 40 (ARM)
	Kernel: Depends on container host
	Compiler: gcc 14.1.1

Fedora 39 (ARM Clang)
	Kernel: Depends on container host
	Compiler: clang 17.0.6

Fedora 40 (ARM Clang)
	Kernel: Depends on container host
	Compiler: clang 18.1.6

RHEL9 (ARM)
	Kernel: Depends on container host
	Compiler: gcc 11.4.1

Ubuntu 20.04 (ARM)
	Kernel: Container Host Kernel
	Compiler: gcc 9.4.0

Ubuntu 22.04 (ARM)
	Kernel: Container Host Kernel
	Compiler: gcc 11.4.0

Ubuntu 24.04 (ARM)
	Kernel: 5.4.0-167-generic
	Compiler: gcc 13.2.0

Ubuntu 20.04 ARM SVE
	Kernel: 5.4.0-167-generic
	Compiler: gcc (Ubuntu 10.5.0-1ubuntu1~20.04) 10.5.0

To view detailed results, visit:
https://lab.dpdk.org/results/dashboard/patchsets/30798/

UNH-IOL DPDK Community Lab

To manage your email subscriptions, visit: 
https://lab.dpdk.org/results/dashboard/preferences/subscriptions/