From mboxrd@z Thu Jan  1 00:00:00 1970
Return-Path: <test-report-bounces@dpdk.org>
Received: from mails.dpdk.org (mails.dpdk.org [217.70.189.124])
	by inbox.dpdk.org (Postfix) with ESMTP id 9415B457D7
	for <public@inbox.dpdk.org>; Thu, 15 Aug 2024 17:25:34 +0200 (CEST)
Received: from mails.dpdk.org (localhost [127.0.0.1])
	by mails.dpdk.org (Postfix) with ESMTP id 8ED1F4275C;
	Thu, 15 Aug 2024 17:25:34 +0200 (CEST)
Received: from mail-qv1-f98.google.com (mail-qv1-f98.google.com
 [209.85.219.98]) by mails.dpdk.org (Postfix) with ESMTP id 4404440647
 for <test-report@dpdk.org>; Thu, 15 Aug 2024 17:25:01 +0200 (CEST)
Received: by mail-qv1-f98.google.com with SMTP id
 6a1803df08f44-6bf7ba05f75so1178276d6.0
 for <test-report@dpdk.org>; Thu, 15 Aug 2024 08:25:01 -0700 (PDT)
DKIM-Signature: v=1; a=rsa-sha256; c=relaxed/relaxed;
 d=iol.unh.edu; s=unh-iol; t=1723735500; x=1724340300; darn=dpdk.org;
 h=references:in-reply-to:cc:to:from:subject:message-id:date:from:to
 :cc:subject:date:message-id:reply-to;
 bh=BRSSeFCDR2Stc25evXTUY+MxhK5rTUhomEUjpcpWojo=;
 b=SpyTJsubvBJLnByDVUVqSl/rZi5p3ZaRpNhRPJ7DuDwZRCGEERnmTxVwHl0rDT/F6p
 Merold0iV5/y7VR8i//RC+A6t+/oGyJgmGxnL4itXNDNb68059SbeHu3YURelmvjDdlF
 VKV+h5d+ezBt+aEPpMebzGI8FDWPTu1LLyDEI=
X-Google-DKIM-Signature: v=1; a=rsa-sha256; c=relaxed/relaxed;
 d=1e100.net; s=20230601; t=1723735500; x=1724340300;
 h=references:in-reply-to:cc:to:from:subject:message-id:date
 :x-gm-message-state:from:to:cc:subject:date:message-id:reply-to;
 bh=BRSSeFCDR2Stc25evXTUY+MxhK5rTUhomEUjpcpWojo=;
 b=rimqvpc7mZufmp80pw7aR0Pp2LrnsJiY8DXTDQ1GU3VsGfbBjcJeAhJvMaZANIXTwY
 0fEDsiH4rk+hSiJ8Kd7vzToqw2/Yg4rmx61o8T6+BuzbRVTKyZ7O9M3Qk3Z/NhBBLlz0
 z6Ol4heOB1lMEgvw0k8vj6J8LyWoxJvbb3/aUy2rrN1pYuz5pjBxAzv+DfUNkrOCpONc
 KZmJz/xQgnvsNU43FlTl9b+bmq/ZfJAfu01vOBuUyYt3JcpsTzIVyDdsELYpirTbKREg
 AK+y2shGYJJPdIVQWhe23ZjzwYz6RaJh2D8Jk+O8+uF2Vif4A4QUXyIdFeFIrtAfJd76
 7J9A==
X-Gm-Message-State: AOJu0Yz1f433oLuVhI0GrdFbp4rI34ofXpoJE9XOJ2EV2ItjAgOWDK7r
 v+gXg2/leLlNNjCluy5CzvgwV7cRMkh/ZzU9A6qBcpF7ARZP/3YuyFlmO+VLDjTCb7Kx961A0fd
 s4gs1+z6dQjivx9XbJqtBXk5r+MMFgFYg1a/RSqZDhpg5IvtJsJLE791U
X-Google-Smtp-Source: AGHT+IEKdCn1InbqJhhq6C/4GFCZVV7/4spLPWO4vTDca4VL/kZrdOks8F7DJXKTajqqvUNB2r70wxGRdgZs
X-Received: by 2002:a05:6214:246e:b0:6b2:a68e:6cf5 with SMTP id
 6a1803df08f44-6bf6dd08d83mr58256146d6.5.1723735500598; 
 Thu, 15 Aug 2024 08:25:00 -0700 (PDT)
Received: from postal.iol.unh.edu (postal.iol.unh.edu.
 [2606:4100:3880:1234::84]) by smtp-relay.gmail.com with ESMTPS id
 6a1803df08f44-6bf6fde28c0sm949436d6.16.2024.08.15.08.25.00
 (version=TLS1_2 cipher=ECDHE-ECDSA-AES128-GCM-SHA256 bits=128/128);
 Thu, 15 Aug 2024 08:25:00 -0700 (PDT)
X-Relaying-Domain: iol.unh.edu
Date: Thu, 15 Aug 2024 08:25:00 -0700 (PDT)
Message-ID: <66be1dcc.0c0a0220.2461ba.3f15SMTPIN_ADDED_MISSING@mx.google.com>
Received: from [172.17.0.2] (unknown [172.18.0.214])
 by postal.iol.unh.edu (Postfix) with ESMTP id 55D72605C351;
 Thu, 15 Aug 2024 11:25:00 -0400 (EDT)
Subject: |PENDING| pw143193 [PATCH] net/bonding: add user callback for bond x
From: dpdklab@iol.unh.edu
To: Test Report <test-report@dpdk.org>
Cc: dpdk-test-reports@iol.unh.edu
In-Reply-To: <20240815121014.612170-1-vignesh.purushotham.srinivas@ericsson.com>
References: <20240815121014.612170-1-vignesh.purushotham.srinivas@ericsson.com>
Content-Type: text/plain
X-BeenThere: test-report@dpdk.org
X-Mailman-Version: 2.1.29
Precedence: list
List-Id: automatic DPDK test reports <test-report.dpdk.org>
List-Unsubscribe: <https://mails.dpdk.org/options/test-report>,
 <mailto:test-report-request@dpdk.org?subject=unsubscribe>
List-Archive: <http://mails.dpdk.org/archives/test-report/>
List-Post: <mailto:test-report@dpdk.org>
List-Help: <mailto:test-report-request@dpdk.org?subject=help>
List-Subscribe: <https://mails.dpdk.org/listinfo/test-report>,
 <mailto:test-report-request@dpdk.org?subject=subscribe>
Errors-To: test-report-bounces@dpdk.org

Test-Label: iol-compile-amd64-testing
Test-Status: PENDING
http://dpdk.org/patch/143193

_Testing pending_

Submitter: Vignesh Purushotham Srinivas <vignesh.purushotham.srinivas@ericsson.com>
Date: Thursday, August 15 2024 12:10:14 
DPDK git baseline: Repo:dpdk
  Branch: master
  CommitID:e0f7ebe88ab4588dd352e9ec14270ce4e3b1470b

143193 --> testing pending

Upstream job id: Generic-DPDK-Compile-Meson#288947

Test environment and result as below:

+---------------------+-----------------------+----------------------+--------------------+------------------+-------------------+-------------------+
|     Environment     | dpdk_win_llvm_compile | dpdk_mingw64_compile | dpdk_meson_compile | dpdk_compile_ovs | dpdk_compile_spdk | dpdk_msvc_compile |
+=====================+=======================+======================+====================+==================+===================+===================+
| Windows Server 2022 | PASS                  | PASS                 | SKIPPED            | SKIPPED          | SKIPPED           | PASS              |
+---------------------+-----------------------+----------------------+--------------------+------------------+-------------------+-------------------+
| FreeBSD 13.3        | SKIPPED               | SKIPPED              | PASS               | SKIPPED          | SKIPPED           | SKIPPED           |
+---------------------+-----------------------+----------------------+--------------------+------------------+-------------------+-------------------+
| FreeBSD 14.1        | SKIPPED               | SKIPPED              | PASS               | SKIPPED          | SKIPPED           | SKIPPED           |
+---------------------+-----------------------+----------------------+--------------------+------------------+-------------------+-------------------+
| Debian Bullseye     | SKIPPED               | SKIPPED              | PASS               | PASS             | PASS              | SKIPPED           |
+---------------------+-----------------------+----------------------+--------------------+------------------+-------------------+-------------------+
| Debian 12           | SKIPPED               | SKIPPED              | PASS               | PASS             | PASS              | SKIPPED           |
+---------------------+-----------------------+----------------------+--------------------+------------------+-------------------+-------------------+
| Fedora 37           | SKIPPED               | SKIPPED              | PASS               | PASS             | PASS              | SKIPPED           |
+---------------------+-----------------------+----------------------+--------------------+------------------+-------------------+-------------------+
| Fedora 38 (Clang)   | SKIPPED               | SKIPPED              | PEND               | PEND             | PEND              | SKIPPED           |
+---------------------+-----------------------+----------------------+--------------------+------------------+-------------------+-------------------+
| Fedora 38           | SKIPPED               | SKIPPED              | PASS               | PASS             | PASS              | SKIPPED           |
+---------------------+-----------------------+----------------------+--------------------+------------------+-------------------+-------------------+
| Fedora 39 (Clang)   | SKIPPED               | SKIPPED              | PASS               | PASS             | PEND              | SKIPPED           |
+---------------------+-----------------------+----------------------+--------------------+------------------+-------------------+-------------------+
| Fedora 40           | SKIPPED               | SKIPPED              | PASS               | PASS             | PASS              | SKIPPED           |
+---------------------+-----------------------+----------------------+--------------------+------------------+-------------------+-------------------+
| Fedora 40 (Clang)   | SKIPPED               | SKIPPED              | PASS               | PEND             | PEND              | SKIPPED           |
+---------------------+-----------------------+----------------------+--------------------+------------------+-------------------+-------------------+
| Fedora 39           | SKIPPED               | SKIPPED              | PASS               | PASS             | PASS              | SKIPPED           |
+---------------------+-----------------------+----------------------+--------------------+------------------+-------------------+-------------------+
| openSUSE Leap 15    | SKIPPED               | SKIPPED              | PASS               | PASS             | SKIPPED           | SKIPPED           |
+---------------------+-----------------------+----------------------+--------------------+------------------+-------------------+-------------------+
| RHEL8               | SKIPPED               | SKIPPED              | PASS               | PASS             | SKIPPED           | SKIPPED           |
+---------------------+-----------------------+----------------------+--------------------+------------------+-------------------+-------------------+
| RHEL9               | SKIPPED               | SKIPPED              | PASS               | PASS             | SKIPPED           | SKIPPED           |
+---------------------+-----------------------+----------------------+--------------------+------------------+-------------------+-------------------+
| Ubuntu 20.04        | SKIPPED               | SKIPPED              | PASS               | PASS             | SKIPPED           | SKIPPED           |
+---------------------+-----------------------+----------------------+--------------------+------------------+-------------------+-------------------+
| Ubuntu 22.04        | SKIPPED               | SKIPPED              | PASS               | PASS             | PASS              | SKIPPED           |
+---------------------+-----------------------+----------------------+--------------------+------------------+-------------------+-------------------+
| Ubuntu 24.04        | SKIPPED               | SKIPPED              | PASS               | PASS             | PEND              | SKIPPED           |
+---------------------+-----------------------+----------------------+--------------------+------------------+-------------------+-------------------+
| Alpine              | SKIPPED               | SKIPPED              | PASS               | PEND             | SKIPPED           | SKIPPED           |
+---------------------+-----------------------+----------------------+--------------------+------------------+-------------------+-------------------+
| CentOS Stream 9     | SKIPPED               | SKIPPED              | PEND               | PEND             | PEND              | SKIPPED           |
+---------------------+-----------------------+----------------------+--------------------+------------------+-------------------+-------------------+


Windows Server 2022
	Kernel: 10.0.20348.2031
	Compiler: clang 15.0.7, gcc 8.1.0 (MinGW), and MSVC VS 17.9

FreeBSD 13.3
	Kernel: 13.3-RELEASE-p1
	Compiler: clang 17.0.6

FreeBSD 14.1
	Kernel: 14.1
	Compiler: clang 18.1.5

Debian Bullseye
	Kernel: 5.4.0-167-generic
	Compiler: gcc 10.2.1-6

Debian 12
	Kernel: Container Host Kernel
	Compiler: gcc 12.2.0

Fedora 37
	Kernel: Depends on container host system
	Compiler: gcc 12.3.1

Fedora 38 (Clang)
	Kernel: Depends on container host
	Compiler: clang 16.0.6

Fedora 38
	Kernel: Depends on container host
	Compiler: gcc 13.2.1

Fedora 39 (Clang)
	Kernel: Depends on container host
	Compiler: clang 17.0.6

Fedora 40
	Kernel: Depends on container host
	Compiler: gcc 14.1.1

Fedora 40 (Clang)
	Kernel: Depends on container host
	Compiler: clang 18.1.6

Fedora 39
	Kernel: Depends on container host
	Compiler: gcc 13.2.1

openSUSE Leap 15
	Kernel: 5.4.0-167-generic
	Compiler: gcc 7.5.0

RHEL8
	Kernel: 5.4.0-167-generic
	Compiler: gcc 8.5.0 20210514 (Red Hat 8.5.0-20)

RHEL9
	Kernel: Depends on container host
	Compiler: gcc 11.4.1

Ubuntu 20.04
	Kernel: 5.4.0-167-generic
	Compiler: gcc 9.4.0-1ubuntu1~20.04.1

Ubuntu 22.04
	Kernel: 5.4.0-167-generic
	Compiler: gcc 11.4.0

Ubuntu 24.04
	Kernel: 5.4.0-167-generic
	Compiler: gcc 13.2.0

Alpine
	Kernel: 5.4.0-167-generic
	Compiler: gcc (Alpine 13.2.1_git20231014) 13.2.1 20231014

CentOS Stream 9
	Kernel: 5.4.0-167-generic
	Compiler: gcc 11.4.1 20230605

To view detailed results, visit:
https://lab.dpdk.org/results/dashboard/patchsets/30798/

UNH-IOL DPDK Community Lab

To manage your email subscriptions, visit: 
https://lab.dpdk.org/results/dashboard/preferences/subscriptions/