From mboxrd@z Thu Jan  1 00:00:00 1970
Return-Path: <test-report-bounces@dpdk.org>
Received: from mails.dpdk.org (mails.dpdk.org [217.70.189.124])
	by inbox.dpdk.org (Postfix) with ESMTP id 1ACDF45838
	for <public@inbox.dpdk.org>; Wed, 21 Aug 2024 22:15:08 +0200 (CEST)
Received: from mails.dpdk.org (localhost [127.0.0.1])
	by mails.dpdk.org (Postfix) with ESMTP id 17CFF41148;
	Wed, 21 Aug 2024 22:15:08 +0200 (CEST)
Received: from mail-qt1-f228.google.com (mail-qt1-f228.google.com
 [209.85.160.228])
 by mails.dpdk.org (Postfix) with ESMTP id 6558940E0B
 for <test-report@dpdk.org>; Wed, 21 Aug 2024 22:15:06 +0200 (CEST)
Received: by mail-qt1-f228.google.com with SMTP id
 d75a77b69052e-44fe11dedb3so755521cf.1
 for <test-report@dpdk.org>; Wed, 21 Aug 2024 13:15:06 -0700 (PDT)
DKIM-Signature: v=1; a=rsa-sha256; c=relaxed/relaxed;
 d=iol.unh.edu; s=unh-iol; t=1724271306; x=1724876106; darn=dpdk.org;
 h=references:in-reply-to:cc:to:from:subject:message-id:date:from:to
 :cc:subject:date:message-id:reply-to;
 bh=ABcxnRS6e0FXeoLiq2qElG4vLB8qbNY6EecohmZ4egM=;
 b=hY8TWnNiuwsREY3zDi2mq6u5nAunSIQx4woMOvWvcpZoYsxu7jL2dVuBhAX5TwDNfA
 r6qtSZxtZs1VyA0XGPfGYHshz5oZanKEL3Bjj85djOoaBWRe8kq1BPnZlaSXhslaQgMo
 jvtSNCcpKh65Qavdlfioa7j09B0p4LTb+T1aY=
X-Google-DKIM-Signature: v=1; a=rsa-sha256; c=relaxed/relaxed;
 d=1e100.net; s=20230601; t=1724271306; x=1724876106;
 h=references:in-reply-to:cc:to:from:subject:message-id:date
 :x-gm-message-state:from:to:cc:subject:date:message-id:reply-to;
 bh=ABcxnRS6e0FXeoLiq2qElG4vLB8qbNY6EecohmZ4egM=;
 b=jRX/ff8XFzE8nptMVfjA5kvsxXq773/YN0GjhlSWoOtPLwtnwrd7go4S09o+tXaxRq
 BkNBxP6VMz2FWKd4YhgSiPNZbY+TJPcpopSkHxaDtest6/aDpZ1XDUiCL6+xabV0+y8Q
 PHImyb/tud8V4+JWf57Ta01t64fukZjk4rOTp6rx9ZcTHUQa4G/39pvABwMTO07lAbv1
 p0kaUMLEiVwLwSt35IdfW6cQWca2seyer/6zgGlop3TTtl7hbmFfqFO7TutfefeLwbbN
 Q60HfWqKxIRQhye+gPJXJfDvyAcC1h4+kLREpTqF/73IJZpHaQibHk8PSz130mBgRvK6
 f+hw==
X-Gm-Message-State: AOJu0Yxnm+cT3UP3LSUdMI6rMz3+5uaTjhtbU6Qp+u9fpUNwl46cjWcc
 U7AbJQIGUTYddDjq/DmKgbLBh49o6WSEJZXj+iU6lvI7cdzx5p+KkXnVKTzbcZQQCpkzVgUK29L
 o2/Ire5+/tOhVGhDyFC/T6cO7HCCH8+fddv6o5M58jIOuE6XQh1NZo6nG
X-Google-Smtp-Source: AGHT+IFeLZjVmShTfUTsGQdYUYJ0HW2LJSI6CjC+vCpnailDELrYWvvgEosfO+4YjrIVaE4jlRCTNzKS2d9Y
X-Received: by 2002:a05:622a:4011:b0:447:f89a:4d41 with SMTP id
 d75a77b69052e-454f2230881mr45153371cf.30.1724271305686; 
 Wed, 21 Aug 2024 13:15:05 -0700 (PDT)
Received: from postal.iol.unh.edu (postal.iol.unh.edu.
 [2606:4100:3880:1234::84]) by smtp-relay.gmail.com with ESMTPS id
 d75a77b69052e-45369ff10a6sm6935081cf.12.2024.08.21.13.15.05
 (version=TLS1_2 cipher=ECDHE-ECDSA-AES128-GCM-SHA256 bits=128/128);
 Wed, 21 Aug 2024 13:15:05 -0700 (PDT)
X-Relaying-Domain: iol.unh.edu
Date: Wed, 21 Aug 2024 13:15:05 -0700 (PDT)
Message-ID: <66c64ac9.050a0220.37dd30.e3ebSMTPIN_ADDED_MISSING@mx.google.com>
Received: from [172.17.0.4] (unknown [172.18.0.217])
 by postal.iol.unh.edu (Postfix) with ESMTP id 6540B605C351;
 Wed, 21 Aug 2024 16:15:05 -0400 (EDT)
Subject: |SUCCESS| pw143269-143271 [PATCH] [v1,3/3] dts: rework test suite an
From: dpdklab@iol.unh.edu
To: Test Report <test-report@dpdk.org>
Cc: dpdk-test-reports@iol.unh.edu
In-Reply-To: <20240821184305.28028-5-npratte@iol.unh.edu>
References: <20240821184305.28028-5-npratte@iol.unh.edu>
Content-Type: text/plain
X-BeenThere: test-report@dpdk.org
X-Mailman-Version: 2.1.29
Precedence: list
List-Id: automatic DPDK test reports <test-report.dpdk.org>
List-Unsubscribe: <https://mails.dpdk.org/options/test-report>,
 <mailto:test-report-request@dpdk.org?subject=unsubscribe>
List-Archive: <http://mails.dpdk.org/archives/test-report/>
List-Post: <mailto:test-report@dpdk.org>
List-Help: <mailto:test-report-request@dpdk.org?subject=help>
List-Subscribe: <https://mails.dpdk.org/listinfo/test-report>,
 <mailto:test-report-request@dpdk.org?subject=subscribe>
Errors-To: test-report-bounces@dpdk.org

Test-Label: iol-sample-apps-testing
Test-Status: SUCCESS
http://dpdk.org/patch/143271

_Testing PASS_

Submitter: Nicholas Pratte <npratte@iol.unh.edu>
Date: Wednesday, August 21 2024 18:43:06 
DPDK git baseline: Repo:dpdk
  Branch: master
  CommitID:cb9187bc5c2b4bab0ad80194ac3b60491de14e8c

143269-143271 --> testing pass

Upstream job id: ACVP-FIPS-testing#6682

Test environment and result as below:

+--------------------+----------------------+----------------------+
|    Environment     | dpdk_fips_validation | compressdev_zlib_pmd |
+====================+======================+======================+
| Ubuntu 20.04       | PASS                 | SKIPPED              |
+--------------------+----------------------+----------------------+
| Ubuntu 22.04 (ARM) | SKIPPED              | PASS                 |
+--------------------+----------------------+----------------------+
| Ubuntu 22.04       | SKIPPED              | PASS                 |
+--------------------+----------------------+----------------------+


Ubuntu 20.04
	Kernel: Depends on container host
	Compiler: gcc (Ubuntu 9.4.0-1ubuntu1~20.04.2) 9.4.0

Ubuntu 22.04 (ARM)
	Kernel: 5.15.0-97-generic
	Compiler: gcc gcc (Ubuntu 11.4.0-1ubuntu1~22.04) 11.4.0

Ubuntu 22.04
	Kernel: 5.15.0-100-generic
	Compiler: gcc gcc (Ubuntu 11.4.0-1ubuntu1~22.04) 11.4.0

To view detailed results, visit:
https://lab.dpdk.org/results/dashboard/patchsets/30817/

UNH-IOL DPDK Community Lab

To manage your email subscriptions, visit: 
https://lab.dpdk.org/results/dashboard/preferences/subscriptions/