From mboxrd@z Thu Jan  1 00:00:00 1970
Return-Path: <test-report-bounces@dpdk.org>
Received: from mails.dpdk.org (mails.dpdk.org [217.70.189.124])
	by inbox.dpdk.org (Postfix) with ESMTP id 6150745838
	for <public@inbox.dpdk.org>; Wed, 21 Aug 2024 22:28:56 +0200 (CEST)
Received: from mails.dpdk.org (localhost [127.0.0.1])
	by mails.dpdk.org (Postfix) with ESMTP id 5AED741148;
	Wed, 21 Aug 2024 22:28:56 +0200 (CEST)
Received: from mail-io1-f98.google.com (mail-io1-f98.google.com
 [209.85.166.98]) by mails.dpdk.org (Postfix) with ESMTP id CB6A540E0B
 for <test-report@dpdk.org>; Wed, 21 Aug 2024 22:28:54 +0200 (CEST)
Received: by mail-io1-f98.google.com with SMTP id
 ca18e2360f4ac-81f861f369aso43256739f.0
 for <test-report@dpdk.org>; Wed, 21 Aug 2024 13:28:54 -0700 (PDT)
DKIM-Signature: v=1; a=rsa-sha256; c=relaxed/relaxed;
 d=iol.unh.edu; s=unh-iol; t=1724272134; x=1724876934; darn=dpdk.org;
 h=references:in-reply-to:cc:to:from:subject:message-id:date:from:to
 :cc:subject:date:message-id:reply-to;
 bh=fEcZeUjaDL5cp5OOCZR9tB0jjPEGZeEAEo96xdkLHOQ=;
 b=PbRV8s+MyJiaJnvk9ZXfHAvAhbF6sex3aZ9TIzM0e3d9UVDa789DErTdxMl49n4qYX
 glE/tnP+LRNyQKbJGop6jNgucLWz/gsoLxyyofdJio+gFsKIeQ2VJIx36P9q4UkyPx53
 +nc14qWRQ5R/Q5EMJHnM9F2VE9c/eG6dylLyE=
X-Google-DKIM-Signature: v=1; a=rsa-sha256; c=relaxed/relaxed;
 d=1e100.net; s=20230601; t=1724272134; x=1724876934;
 h=references:in-reply-to:cc:to:from:subject:message-id:date
 :x-gm-message-state:from:to:cc:subject:date:message-id:reply-to;
 bh=fEcZeUjaDL5cp5OOCZR9tB0jjPEGZeEAEo96xdkLHOQ=;
 b=Yr5CBq6i9CXu/wqE9OIgH0XxyoGG2LQrQgJh+6Y3+n65KYHh3gvTwLnAmdlGdoV2aH
 SSFgHkfUd+lwnCCRXoGUxJ03/fKsyLvTP064p4cI+dH//bGq1lPohXTJJDGMSks64KtA
 hbTk2go2FCJaLs577xbtjTgTHKCRJ64vP67M1r0b9t+rd/w/fMkgTgHoE7CN4RMiqRym
 dFwDFlP4LpPG45xdXzYO/5HxpQf7ITmpOrMZprxYWyB7KUQ7sl5oyVU5Q5cRu1+RQrPx
 t8NNbkvismdQdidLoOBW36C1EsdQVzBoLi/cyY1SKz82QYdPgg1swEdneel26f4/RPUp
 CwPw==
X-Gm-Message-State: AOJu0YzA35uE5XAtHTtdkQx+IkOfeg6UT1hftiEFGmAyZjaVYDWAfu0W
 HAE+pSdUdI0oZDUdgJ0+zwfvHMmXkV0BBN6jTtDm4SS+gOfP2E7MtSXXTaYo3/OOgNSIovI9keS
 MmRGOrb511J0xllb3HRekB1d0dMgKBRQOLVgSEkGSaPLr24Kz055eh1Hn
X-Google-Smtp-Source: AGHT+IE3u7CVwY013dUaiakwWVEJ/bUjNHDF0g6Bb18ngPMott41YRPlrb2RgtbAkrZGCrmegR0oTxibvraj
X-Received: by 2002:a05:6e02:1aac:b0:39b:35d8:dc37 with SMTP id
 e9e14a558f8ab-39d72860483mr5891825ab.13.1724272134078; 
 Wed, 21 Aug 2024 13:28:54 -0700 (PDT)
Received: from postal.iol.unh.edu (postal.iol.unh.edu.
 [2606:4100:3880:1234::84]) by smtp-relay.gmail.com with ESMTPS id
 e9e14a558f8ab-39d73e775efsm34775ab.34.2024.08.21.13.28.53
 (version=TLS1_2 cipher=ECDHE-ECDSA-AES128-GCM-SHA256 bits=128/128);
 Wed, 21 Aug 2024 13:28:54 -0700 (PDT)
X-Relaying-Domain: iol.unh.edu
Date: Wed, 21 Aug 2024 13:28:54 -0700 (PDT)
Message-ID: <66c64e06.920a0220.6c81.035bSMTPIN_ADDED_MISSING@mx.google.com>
Received: from [172.17.0.2] (unknown [172.18.0.217])
 by postal.iol.unh.edu (Postfix) with ESMTP id 8D299605C351;
 Wed, 21 Aug 2024 16:28:53 -0400 (EDT)
Subject: |SUCCESS| pw143269-143271 [PATCH] [v1,3/3] dts: rework test suite an
From: dpdklab@iol.unh.edu
To: Test Report <test-report@dpdk.org>
Cc: dpdk-test-reports@iol.unh.edu
In-Reply-To: <20240821184305.28028-5-npratte@iol.unh.edu>
References: <20240821184305.28028-5-npratte@iol.unh.edu>
Content-Type: text/plain
X-BeenThere: test-report@dpdk.org
X-Mailman-Version: 2.1.29
Precedence: list
List-Id: automatic DPDK test reports <test-report.dpdk.org>
List-Unsubscribe: <https://mails.dpdk.org/options/test-report>,
 <mailto:test-report-request@dpdk.org?subject=unsubscribe>
List-Archive: <http://mails.dpdk.org/archives/test-report/>
List-Post: <mailto:test-report@dpdk.org>
List-Help: <mailto:test-report-request@dpdk.org?subject=help>
List-Subscribe: <https://mails.dpdk.org/listinfo/test-report>,
 <mailto:test-report-request@dpdk.org?subject=subscribe>
Errors-To: test-report-bounces@dpdk.org

Test-Label: iol-unit-amd64-testing
Test-Status: SUCCESS
http://dpdk.org/patch/143271

_Testing PASS_

Submitter: Nicholas Pratte <npratte@iol.unh.edu>
Date: Wednesday, August 21 2024 18:43:06 
DPDK git baseline: Repo:dpdk
  Branch: master
  CommitID:cb9187bc5c2b4bab0ad80194ac3b60491de14e8c

143269-143271 --> testing pass

Upstream job id: Generic-Unit-Test-DPDK#253808

Test environment and result as below:

+---------------------+----------------+
|     Environment     | dpdk_unit_test |
+=====================+================+
| Windows Server 2022 | PASS           |
+---------------------+----------------+
| CentOS Stream 9     | PASS           |
+---------------------+----------------+
| Debian Bullseye     | PASS           |
+---------------------+----------------+
| Fedora 37           | PASS           |
+---------------------+----------------+
| Debian 12           | PASS           |
+---------------------+----------------+
| Fedora 38           | PASS           |
+---------------------+----------------+
| Fedora 39           | PASS           |
+---------------------+----------------+
| Fedora 38 (Clang)   | PASS           |
+---------------------+----------------+
| Fedora 39 (Clang)   | PASS           |
+---------------------+----------------+
| Fedora 40           | PASS           |
+---------------------+----------------+
| Fedora 40 (Clang)   | PASS           |
+---------------------+----------------+
| RHEL9               | PASS           |
+---------------------+----------------+
| RHEL8               | PASS           |
+---------------------+----------------+
| Ubuntu 20.04        | PASS           |
+---------------------+----------------+
| Ubuntu 22.04        | PASS           |
+---------------------+----------------+
| Ubuntu 24.04        | PASS           |
+---------------------+----------------+


Windows Server 2022
	Kernel: 10.0.20348.2031
	Compiler: clang 15.0.7, gcc 14.1.0 (MinGW), and MSVC VS 19.39.33521

CentOS Stream 9
	Kernel: Depends on container host
	Compiler: gcc 11.4.1 20231218 (Red Hat 11.4.1-3)

Debian Bullseye
	Kernel: Depends on container host
	Compiler: gcc (Debian 10.2.1-6) 10.2.1 20210110

Fedora 37
	Kernel: Depends on container host system
	Compiler: gcc 12.3.1 20230508 (Red Hat 12.3.1-1)

Debian 12
	Kernel: Depends on container host
	Compiler: gcc (Debian 12.2.0-14) 12.2.0

Fedora 38
	Kernel: Depends on container host
	Compiler: gcc 13.2.1 20240316 (Red Hat 13.2.1-7)

Fedora 39
	Kernel: Depends on container host
	Compiler: gcc 13.3.1 20240522 (Red Hat 13.3.1-1)

Fedora 38 (Clang)
	Kernel: Depends on container host
	Compiler: clang 16.0.6 (Fedora 16.0.6-4.fc38)

Fedora 39 (Clang)
	Kernel: Depends on container host
	Compiler: clang 17.0.6 (Fedora 17.0.6-2.fc39)

Fedora 40
	Kernel: Depends on container host
	Compiler: gcc 14.2.1 20240801 (Red Hat 14.2.1-1)

Fedora 40 (Clang)
	Kernel: Depends on container host
	Compiler: clang 18.1.6 (Fedora 18.1.6-3.fc40)

RHEL9
	Kernel: Depends on container host
	Compiler: gcc 11.4.1 20231218 (Red Hat 11.4.1-3)

RHEL8
	Kernel: Depends on container host
	Compiler: gcc 8.5.0 20210514 (Red Hat 8.5.0-22)

Ubuntu 20.04
	Kernel: Depends on container host
	Compiler: gcc (Ubuntu 9.4.0-1ubuntu1~20.04.2) 9.4.0

Ubuntu 22.04
	Kernel: Depends on container host
	Compiler: gcc (Ubuntu 11.4.0-1ubuntu1~22.04) 11.4.0

Ubuntu 24.04
	Kernel: Depends on container host
	Compiler: gcc (Ubuntu 13.2.0-23ubuntu4) 13.2.0

To view detailed results, visit:
https://lab.dpdk.org/results/dashboard/patchsets/30817/

UNH-IOL DPDK Community Lab

To manage your email subscriptions, visit: 
https://lab.dpdk.org/results/dashboard/preferences/subscriptions/