From mboxrd@z Thu Jan  1 00:00:00 1970
Return-Path: <test-report-bounces@dpdk.org>
Received: from mails.dpdk.org (mails.dpdk.org [217.70.189.124])
	by inbox.dpdk.org (Postfix) with ESMTP id D937845839
	for <public@inbox.dpdk.org>; Thu, 22 Aug 2024 02:53:22 +0200 (CEST)
Received: from mails.dpdk.org (localhost [127.0.0.1])
	by mails.dpdk.org (Postfix) with ESMTP id CCC4940DCD;
	Thu, 22 Aug 2024 02:53:22 +0200 (CEST)
Received: from mail-io1-f100.google.com (mail-io1-f100.google.com
 [209.85.166.100])
 by mails.dpdk.org (Postfix) with ESMTP id 218D140609
 for <test-report@dpdk.org>; Thu, 22 Aug 2024 02:53:21 +0200 (CEST)
Received: by mail-io1-f100.google.com with SMTP id
 ca18e2360f4ac-81fdaccd75eso10346139f.3
 for <test-report@dpdk.org>; Wed, 21 Aug 2024 17:53:21 -0700 (PDT)
DKIM-Signature: v=1; a=rsa-sha256; c=relaxed/relaxed;
 d=iol.unh.edu; s=unh-iol; t=1724288000; x=1724892800; darn=dpdk.org;
 h=references:in-reply-to:cc:to:from:subject:message-id:date:from:to
 :cc:subject:date:message-id:reply-to;
 bh=BllnezTFoEc9jl03kvHCKvvvkMfqeKwEct/gY9xeM/U=;
 b=IkPbvaKabizH5/5KXtQ38pQjnYFDbnkwmI9eVm2UaZB7AETStdLyl7eaTMOpU0a5R6
 dbQRYo2OSBcPnbuPbRKUzAuX/qNiKo5Mg+HKaeuZ4PcBKohFe14vMkbjLgfAUJ7jKUJa
 Mn0We0u+dib/zrgz35Bm/rdv3MB37tfg9T8NA=
X-Google-DKIM-Signature: v=1; a=rsa-sha256; c=relaxed/relaxed;
 d=1e100.net; s=20230601; t=1724288000; x=1724892800;
 h=references:in-reply-to:cc:to:from:subject:message-id:date
 :x-gm-message-state:from:to:cc:subject:date:message-id:reply-to;
 bh=BllnezTFoEc9jl03kvHCKvvvkMfqeKwEct/gY9xeM/U=;
 b=wb3ygncmM5InkEX13O8PpHsQWjzRynptHlO3ONWtpdQ2a4Z2mFZfTOzUAhNaGuQogM
 AmSHcSP63FDSBfmNahfhhuIoh3KgX4/tu0sSzVzWxkna3YVhN8fy1NZtXXb5lSCVCfAd
 GU09qS5KFBwCqCgoZ4l4cXQjK7QyTqi5oBlRcGxrDbUlylYHm4H+mPRVSyDvsfY3DEFA
 igp5RBmXqgPHlry68AJKDRNryjW+9oRo+toS71tPPAVuaVpqWAby6q3dc70EYAP2uFf5
 QdLdn21rpriMe8ToEEKLo/PmyLDV/u+UiIOmKH7Q4+pJvLlTpbLfAmlcoRtSIC6jKYhl
 vqdQ==
X-Gm-Message-State: AOJu0YwGUbu1EJNp/eCSCXfgMwQuJW1XAOho+n6TwKHz5idWvdNfjbmc
 wDn89Zhb6DLf9zkzfOtneaYeXpLpG07SK7pTJM/aRHa+wqVEDSXdrcgg0Mmn1kPHMEIzADzVOtj
 DCdtb6c/i/mheAnIXmV4+oP7l1wVzoGbdwGdMwqxs
X-Google-Smtp-Source: AGHT+IF6prDo9/kLACGKXRbizIF9OfaO8VYCVO7VpQf3gA4RIbaSGDi/eWdLO4DirpWGvsPAsUB/JWyXcYdf
X-Received: by 2002:a05:6e02:1a23:b0:39d:1ca5:3904 with SMTP id
 e9e14a558f8ab-39d6c391163mr44858195ab.14.1724288000318; 
 Wed, 21 Aug 2024 17:53:20 -0700 (PDT)
Received: from postal.iol.unh.edu (postal.iol.unh.edu. [132.177.123.84])
 by smtp-relay.gmail.com with ESMTPS id
 8926c6da1cb9f-4ce70f56629sm24788173.20.2024.08.21.17.53.20
 (version=TLS1_2 cipher=ECDHE-ECDSA-AES128-GCM-SHA256 bits=128/128);
 Wed, 21 Aug 2024 17:53:20 -0700 (PDT)
X-Relaying-Domain: iol.unh.edu
Date: Wed, 21 Aug 2024 17:53:20 -0700 (PDT)
Message-ID: <66c68c00.050a0220.93554.16fbSMTPIN_ADDED_MISSING@mx.google.com>
Received: from [172.17.0.2] (unknown [172.18.0.213])
 by postal.iol.unh.edu (Postfix) with ESMTP id C84E8605C351;
 Wed, 21 Aug 2024 20:53:19 -0400 (EDT)
Subject: |SUCCESS| pw143246-143250 [PATCH] [v19,5/5] dts: add API doc generat
From: dpdklab@iol.unh.edu
To: Test Report <test-report@dpdk.org>
Cc: dpdk-test-reports@iol.unh.edu
In-Reply-To: <20240821150254.158912-6-juraj.linkes@pantheon.tech>
References: <20240821150254.158912-6-juraj.linkes@pantheon.tech>
Content-Type: text/plain
X-BeenThere: test-report@dpdk.org
X-Mailman-Version: 2.1.29
Precedence: list
List-Id: automatic DPDK test reports <test-report.dpdk.org>
List-Unsubscribe: <https://mails.dpdk.org/options/test-report>,
 <mailto:test-report-request@dpdk.org?subject=unsubscribe>
List-Archive: <http://mails.dpdk.org/archives/test-report/>
List-Post: <mailto:test-report@dpdk.org>
List-Help: <mailto:test-report-request@dpdk.org?subject=help>
List-Subscribe: <https://mails.dpdk.org/listinfo/test-report>,
 <mailto:test-report-request@dpdk.org?subject=subscribe>
Errors-To: test-report-bounces@dpdk.org

Test-Label: iol-sample-apps-testing
Test-Status: SUCCESS
http://dpdk.org/patch/143250

_Testing PASS_

Submitter: Juraj Linkes <juraj.linkes@pantheon.tech>
Date: Wednesday, August 21 2024 15:02:54 
DPDK git baseline: Repo:dpdk
  Branch: master
  CommitID:cb9187bc5c2b4bab0ad80194ac3b60491de14e8c

143246-143250 --> testing pass

Upstream job id: ACVP-FIPS-testing#6686

Test environment and result as below:

+--------------------+----------------------+----------------------+
|    Environment     | compressdev_zlib_pmd | dpdk_fips_validation |
+====================+======================+======================+
| Ubuntu 22.04 (ARM) | PASS                 | SKIPPED              |
+--------------------+----------------------+----------------------+
| Ubuntu 22.04       | PASS                 | SKIPPED              |
+--------------------+----------------------+----------------------+
| Ubuntu 20.04       | SKIPPED              | PASS                 |
+--------------------+----------------------+----------------------+


Ubuntu 22.04 (ARM)
	Kernel: 5.15.0-97-generic
	Compiler: gcc gcc (Ubuntu 11.4.0-1ubuntu1~22.04) 11.4.0

Ubuntu 22.04
	Kernel: 5.15.0-100-generic
	Compiler: gcc gcc (Ubuntu 11.4.0-1ubuntu1~22.04) 11.4.0

Ubuntu 20.04
	Kernel: Depends on container host
	Compiler: gcc (Ubuntu 9.4.0-1ubuntu1~20.04.2) 9.4.0

To view detailed results, visit:
https://lab.dpdk.org/results/dashboard/patchsets/30813/

UNH-IOL DPDK Community Lab

To manage your email subscriptions, visit: 
https://lab.dpdk.org/results/dashboard/preferences/subscriptions/