From mboxrd@z Thu Jan  1 00:00:00 1970
Return-Path: <test-report-bounces@dpdk.org>
Received: from mails.dpdk.org (mails.dpdk.org [217.70.189.124])
	by inbox.dpdk.org (Postfix) with ESMTP id 28A5F4584B
	for <public@inbox.dpdk.org>; Thu, 22 Aug 2024 21:43:01 +0200 (CEST)
Received: from mails.dpdk.org (localhost [127.0.0.1])
	by mails.dpdk.org (Postfix) with ESMTP id F379D42F57;
	Thu, 22 Aug 2024 21:43:00 +0200 (CEST)
Received: from mail-pg1-f225.google.com (mail-pg1-f225.google.com
 [209.85.215.225])
 by mails.dpdk.org (Postfix) with ESMTP id A554342EB0
 for <test-report@dpdk.org>; Thu, 22 Aug 2024 21:42:59 +0200 (CEST)
Received: by mail-pg1-f225.google.com with SMTP id
 41be03b00d2f7-7cd830e0711so1180025a12.0
 for <test-report@dpdk.org>; Thu, 22 Aug 2024 12:42:59 -0700 (PDT)
DKIM-Signature: v=1; a=rsa-sha256; c=relaxed/relaxed;
 d=iol.unh.edu; s=unh-iol; t=1724355778; x=1724960578; darn=dpdk.org;
 h=references:in-reply-to:cc:to:from:subject:message-id:date:from:to
 :cc:subject:date:message-id:reply-to;
 bh=2E5JNH3XxQv+VlB1uOXeKF53yMuOSDkmjM4H+yg03sU=;
 b=V3pUHYXWdq361qGfDLR4+phFcHZJCd0BWttRODpIP2YDA7hp7hzlmyxHsvkfYEbaLW
 +6DNVQLPYjH6uYh+gJil8HxT7sgLm0MQeqQBwF+kY6ITpZeFFDetumPqJNkxLtaO1q8U
 zhqsIwJbsR04yJAiRCS0U3eRkIT+4G03ESrwA=
X-Google-DKIM-Signature: v=1; a=rsa-sha256; c=relaxed/relaxed;
 d=1e100.net; s=20230601; t=1724355778; x=1724960578;
 h=references:in-reply-to:cc:to:from:subject:message-id:date
 :x-gm-message-state:from:to:cc:subject:date:message-id:reply-to;
 bh=2E5JNH3XxQv+VlB1uOXeKF53yMuOSDkmjM4H+yg03sU=;
 b=Y5f8oYvO6ka+Ga5H4087eGQQsccG5JwCr1mEQRgfaoh9YBmqStvVA6gSePq2/+IlnW
 dCBCtnJQxJ+nI3K9HfcFFXaMV142BJ53zoZ82apBgD6boIiVMq7JwKeVpJpjxw/iI/W7
 zMf4EHvS1ithCMscPV3B2AS1eGulFyQyNCWbf+qK+T306XnoCxhgqXiNClXS9fuqkhpa
 gDTYCxAJvf2Ccf84/iokBqc5F5N6XN0X6ZkOldwJ1jik4aiCmND9BcdQAVe6JtEd3cce
 wCTO9mqlYpd5FLaZszH7CaAgGvgZUfUJjToG1dYBRxIG3S7EBIbUdmUeaJdYKFsbq6Od
 SUhQ==
X-Gm-Message-State: AOJu0YwPHM4iHB/jaX5p01wOFQzjlXknRzFzWLSQM3nu2xjDp0tfg2k5
 hB0oKLqwVv65p/DVVSixYTutpmWBQsJiI2lLa02/MYaXOl7RVCIJBvJ7WEK7p6xlwCcLE1y2b0S
 BC7KAFnhcCJcnZTMNl5MuXiPxxyh4Fp+9Daw5JVLahBUK1YrjELbX2WZb
X-Google-Smtp-Source: AGHT+IGk8WaYvXPEO2RYeMfubUuj80J9DBKuRlhVPlQLFx9qmQcz03qwgQF2vRLv9JbSebboQP0L/sWtslYz
X-Received: by 2002:a17:90b:3b52:b0:2c9:6abd:ca64 with SMTP id
 98e67ed59e1d1-2d6447b63cemr168540a91.9.1724355778537; 
 Thu, 22 Aug 2024 12:42:58 -0700 (PDT)
Received: from postal.iol.unh.edu (postal.iol.unh.edu.
 [2606:4100:3880:1234::84]) by smtp-relay.gmail.com with ESMTPS id
 98e67ed59e1d1-2d613b04e79sm107923a91.11.2024.08.22.12.42.58
 (version=TLS1_2 cipher=ECDHE-ECDSA-AES128-GCM-SHA256 bits=128/128);
 Thu, 22 Aug 2024 12:42:58 -0700 (PDT)
X-Relaying-Domain: iol.unh.edu
Date: Thu, 22 Aug 2024 12:42:58 -0700 (PDT)
Message-ID: <66c794c2.170a0220.123ca1.75f5SMTPIN_ADDED_MISSING@mx.google.com>
Received: from [172.17.0.4] (unknown [172.18.0.217])
 by postal.iol.unh.edu (Postfix) with ESMTP id A7662605C351;
 Thu, 22 Aug 2024 15:42:57 -0400 (EDT)
Subject: |SUCCESS| pw143299-143294 [PATCH] [6/6] test/crypto: free pools in t
From: dpdklab@iol.unh.edu
To: Test Report <test-report@dpdk.org>
Cc: dpdk-test-reports@iol.unh.edu
In-Reply-To: <20240822071651.2403105-7-anoobj@marvell.com>
References: <20240822071651.2403105-7-anoobj@marvell.com>
Content-Type: text/plain
X-BeenThere: test-report@dpdk.org
X-Mailman-Version: 2.1.29
Precedence: list
List-Id: automatic DPDK test reports <test-report.dpdk.org>
List-Unsubscribe: <https://mails.dpdk.org/options/test-report>,
 <mailto:test-report-request@dpdk.org?subject=unsubscribe>
List-Archive: <http://mails.dpdk.org/archives/test-report/>
List-Post: <mailto:test-report@dpdk.org>
List-Help: <mailto:test-report-request@dpdk.org?subject=help>
List-Subscribe: <https://mails.dpdk.org/listinfo/test-report>,
 <mailto:test-report-request@dpdk.org?subject=subscribe>
Errors-To: test-report-bounces@dpdk.org

Test-Label: iol-compile-arm64-testing
Test-Status: SUCCESS
http://dpdk.org/patch/143294

_Testing PASS_

Submitter: Anoob Joseph <anoobj@marvell.com>
Date: Thursday, August 22 2024 07:16:34 
DPDK git baseline: Repo:dpdk
  Branch: master
  CommitID:b3485f4293997d35b6daecc3437bb0c183a51fb3

143299-143294 --> testing pass

Upstream job id: Generic-DPDK-Compile-Meson#290845

Test environment and result as below:

+----------------------------------------+--------------------+
|              Environment               | dpdk_meson_compile |
+========================================+====================+
| RHEL9 (ARM)                            | PASS               |
+----------------------------------------+--------------------+
| Ubuntu 20.04 ARM GCC Cross Compile     | PASS               |
+----------------------------------------+--------------------+
| Ubuntu 20.04 ARM SVE                   | PASS               |
+----------------------------------------+--------------------+
| Debian 12 with MUSDK                   | PASS               |
+----------------------------------------+--------------------+
| Fedora 37 (ARM)                        | PASS               |
+----------------------------------------+--------------------+
| Fedora 38 (ARM)                        | PASS               |
+----------------------------------------+--------------------+
| Fedora 38 (ARM Clang)                  | PASS               |
+----------------------------------------+--------------------+
| Fedora 39 (ARM)                        | PASS               |
+----------------------------------------+--------------------+
| Fedora 39 (ARM Clang)                  | PASS               |
+----------------------------------------+--------------------+
| Fedora 40 (ARM)                        | PASS               |
+----------------------------------------+--------------------+
| Fedora 40 (ARM Clang)                  | PASS               |
+----------------------------------------+--------------------+
| Ubuntu 20.04 (ARM)                     | PASS               |
+----------------------------------------+--------------------+
| Ubuntu 22.04 (ARM)                     | PASS               |
+----------------------------------------+--------------------+
| Ubuntu 24.04 (ARM)                     | PASS               |
+----------------------------------------+--------------------+
| Debian 11 (Buster) (ARM)               | PASS               |
+----------------------------------------+--------------------+
| Debian 12 (arm)                        | PASS               |
+----------------------------------------+--------------------+
| Ubuntu 20.04 ARM Clang Cross Compile   | PASS               |
+----------------------------------------+--------------------+
| Ubuntu 20.04 aarch32 GCC Cross Compile | PASS               |
+----------------------------------------+--------------------+
| CentOS Stream 9 (ARM)                  | PASS               |
+----------------------------------------+--------------------+


RHEL9 (ARM)
	Kernel: Depends on container host
	Compiler: gcc 11.4.1 20231218 (Red Hat 11.4.1-3)

Ubuntu 20.04 ARM GCC Cross Compile
	Kernel: Depends on container host
	Compiler: aarch64-linux-gnu-gcc (Ubuntu 9.4.0-1ubuntu1~20.04.2) 9.4.0

Ubuntu 20.04 ARM SVE
	Kernel: Depends on container host
	Compiler: gcc (Ubuntu 10.5.0-1ubuntu1~20.04) 10.5.0

Debian 12 with MUSDK
	Kernel: Depends on container host
	Compiler: gcc (Debian 12.2.0-14) 12.2.0

Fedora 37 (ARM)
	Kernel: Depends on container host
	Compiler: gcc 12.3.1 20230508 (Red Hat 12.3.1-1)

Fedora 38 (ARM)
	Kernel: Depends on container host
	Compiler: gcc 13.2.1 20240316 (Red Hat 13.2.1-7)

Fedora 38 (ARM Clang)
	Kernel: Depends on container host
	Compiler: clang 16.0.6 (Fedora 16.0.6-4.fc38)

Fedora 39 (ARM)
	Kernel: Depends on container host
	Compiler: gcc 13.3.1 20240522 (Red Hat 13.3.1-1)

Fedora 39 (ARM Clang)
	Kernel: Depends on container host
	Compiler: clang 17.0.6 (Fedora 17.0.6-2.fc39)

Fedora 40 (ARM)
	Kernel: Depends on container host
	Compiler: gcc 14.2.1 20240801 (Red Hat 14.2.1-1)

Fedora 40 (ARM Clang)
	Kernel: Depends on container host
	Compiler: clang 18.1.6 (Fedora 18.1.6-3.fc40)

Ubuntu 20.04 (ARM)
	Kernel: Depends on container host
	Compiler: gcc (Ubuntu 9.4.0-1ubuntu1~20.04.2) 9.4.0

Ubuntu 22.04 (ARM)
	Kernel: Depends on container host
	Compiler: gcc (Ubuntu 11.4.0-1ubuntu1~22.04) 11.4.0

Ubuntu 24.04 (ARM)
	Kernel: Depends on container host
	Compiler: gcc (Ubuntu 13.2.0-23ubuntu4) 13.2.0

Debian 11 (Buster) (ARM)
	Kernel: Depends on container host
	Compiler: gcc (Debian 10.2.1-6) 10.2.1 20210110

Debian 12 (arm)
	Kernel: Depends on container host
	Compiler: gcc (Debian 12.2.0-14) 12.2.0

Ubuntu 20.04 ARM Clang Cross Compile
	Kernel: Depends on container host
	Compiler: clang 10.0.0-4ubuntu1

Ubuntu 20.04 aarch32 GCC Cross Compile
	Kernel: Depends on container host
	Compiler: gcc 9.4.0

CentOS Stream 9 (ARM)
	Kernel: Depends on container host
	Compiler: gcc 11.4.1 20231218 (Red Hat 11.4.1-3)

To view detailed results, visit:
https://lab.dpdk.org/results/dashboard/patchsets/30828/

UNH-IOL DPDK Community Lab

To manage your email subscriptions, visit: 
https://lab.dpdk.org/results/dashboard/preferences/subscriptions/