From mboxrd@z Thu Jan  1 00:00:00 1970
Return-Path: <test-report-bounces@dpdk.org>
Received: from mails.dpdk.org (mails.dpdk.org [217.70.189.124])
	by inbox.dpdk.org (Postfix) with ESMTP id 7424E4584B
	for <public@inbox.dpdk.org>; Thu, 22 Aug 2024 21:50:42 +0200 (CEST)
Received: from mails.dpdk.org (localhost [127.0.0.1])
	by mails.dpdk.org (Postfix) with ESMTP id 70ED542FD9;
	Thu, 22 Aug 2024 21:50:42 +0200 (CEST)
Received: from mail-il1-f228.google.com (mail-il1-f228.google.com
 [209.85.166.228])
 by mails.dpdk.org (Postfix) with ESMTP id 4792142F6B
 for <test-report@dpdk.org>; Thu, 22 Aug 2024 21:50:37 +0200 (CEST)
Received: by mail-il1-f228.google.com with SMTP id
 e9e14a558f8ab-39d4161c398so5588275ab.3
 for <test-report@dpdk.org>; Thu, 22 Aug 2024 12:50:37 -0700 (PDT)
DKIM-Signature: v=1; a=rsa-sha256; c=relaxed/relaxed;
 d=iol.unh.edu; s=unh-iol; t=1724356236; x=1724961036; darn=dpdk.org;
 h=references:in-reply-to:cc:to:from:subject:message-id:date:from:to
 :cc:subject:date:message-id:reply-to;
 bh=5Se69kcgCFqd7vms2j5t6GWnd308Zx7dQj4ISW5khaM=;
 b=b6QeYEscTczSmflLGF7hIG5t2eAeh9OVdEhWrJ/V1ED13bXu/7+04cg6JNEc4ViEOc
 6hmbEUePAx1BcuU4SeHupU0Py5NvKj8qssarCd80F6oJB3NTGJn8AQAYe1lC8KQE/XMV
 2cWxWhbt9qHFOS6RjcUuCsTSji3l0N4rzN8Ho=
X-Google-DKIM-Signature: v=1; a=rsa-sha256; c=relaxed/relaxed;
 d=1e100.net; s=20230601; t=1724356236; x=1724961036;
 h=references:in-reply-to:cc:to:from:subject:message-id:date
 :x-gm-message-state:from:to:cc:subject:date:message-id:reply-to;
 bh=5Se69kcgCFqd7vms2j5t6GWnd308Zx7dQj4ISW5khaM=;
 b=Ero/L43/a3pEnqSacZbBEBf6Yo04gCHvdYoyIUeokm9VuB8Genoi9IswwsyEqAGBW3
 dXdkXadouvM4iHcqqGXOd8+sLDnvDPMxeIApkcksl2c7Lb0jatP+dgWTPfsPSQ8ASoT7
 7tWIfakPe87Mfi8Yhbdoc/vdFTCUA31Hh43Jis2Sgi9VgQ/KOHXyzM1hBbMOlEHmOMuh
 HE4UO+6aqbZ/KsXOcYFzflnB2k/nWofD2A9iYJEWFTDKvIV2JfD+jOuOcXXQTMytSvJf
 e4xq9fi560e1eEqwI/L9geOm8VuzeLkOL41Q03IDIsPKJGbmhO6KnRtluAy87fwepczm
 aEAA==
X-Gm-Message-State: AOJu0YzOcTY0eGt7nuJJXvwNuXzPExHtztyMBZwp0odCsErF2lJ6l3+d
 DiRQIbUSQqkB8KME5TX5wkp/N9tseBLIW65zE1CXlvJRQ1UaoYRYZSoASOb+N4j93ScBiAIRfDZ
 WVkKwrPS2kfMtuSjgJ4HXi0cbxjKb3XU3W6ZntRFi
X-Google-Smtp-Source: AGHT+IFVutsSoI5OTdFGJlT76OCx3Z/1+tuBR+PogPKY1L3JobJX4mYrK9XLmq8MkvzYBC0GfAGyj6awwtNM
X-Received: by 2002:a05:6e02:1a6e:b0:383:5520:cc48 with SMTP id
 e9e14a558f8ab-39d6c2c6f2bmr80074185ab.0.1724356236542; 
 Thu, 22 Aug 2024 12:50:36 -0700 (PDT)
Received: from postal.iol.unh.edu (postal.iol.unh.edu. [132.177.123.84])
 by smtp-relay.gmail.com with ESMTPS id
 e9e14a558f8ab-39d73e77835sm987165ab.44.2024.08.22.12.50.36
 (version=TLS1_2 cipher=ECDHE-ECDSA-AES128-GCM-SHA256 bits=128/128);
 Thu, 22 Aug 2024 12:50:36 -0700 (PDT)
X-Relaying-Domain: iol.unh.edu
Date: Thu, 22 Aug 2024 12:50:36 -0700 (PDT)
Message-ID: <66c7968c.050a0220.bf53b.689dSMTPIN_ADDED_MISSING@mx.google.com>
Received: from [172.17.0.3] (unknown [172.18.0.217])
 by postal.iol.unh.edu (Postfix) with ESMTP id 2BCF6605C351;
 Thu, 22 Aug 2024 15:50:36 -0400 (EDT)
Subject: |SUCCESS| pw143304-143307 [PATCH] [v6,4/4] usertools/dpdk-devbind: p
From: dpdklab@iol.unh.edu
To: Test Report <test-report@dpdk.org>
Cc: dpdk-test-reports@iol.unh.edu
In-Reply-To: <d39a2b9360550a506a93da13ca5645f4c48e3b6f.1724323106.git.anatoly.burakov@intel.com>
References: <d39a2b9360550a506a93da13ca5645f4c48e3b6f.1724323106.git.anatoly.burakov@intel.com>
Content-Type: text/plain
X-BeenThere: test-report@dpdk.org
X-Mailman-Version: 2.1.29
Precedence: list
List-Id: automatic DPDK test reports <test-report.dpdk.org>
List-Unsubscribe: <https://mails.dpdk.org/options/test-report>,
 <mailto:test-report-request@dpdk.org?subject=unsubscribe>
List-Archive: <http://mails.dpdk.org/archives/test-report/>
List-Post: <mailto:test-report@dpdk.org>
List-Help: <mailto:test-report-request@dpdk.org?subject=help>
List-Subscribe: <https://mails.dpdk.org/listinfo/test-report>,
 <mailto:test-report-request@dpdk.org?subject=subscribe>
Errors-To: test-report-bounces@dpdk.org

Test-Label: iol-sample-apps-testing
Test-Status: SUCCESS
http://dpdk.org/patch/143307

_Testing PASS_

Submitter: Anatoly Burakov <anatoly.burakov@intel.com>
Date: Thursday, August 22 2024 10:38:26 
DPDK git baseline: Repo:dpdk
  Branch: master
  CommitID:cb9187bc5c2b4bab0ad80194ac3b60491de14e8c

143304-143307 --> testing pass

Upstream job id: ACVP-FIPS-testing#6699

Test environment and result as below:

+--------------------+----------------------+----------------------+
|    Environment     | compressdev_zlib_pmd | dpdk_fips_validation |
+====================+======================+======================+
| Ubuntu 22.04 (ARM) | PASS                 | SKIPPED              |
+--------------------+----------------------+----------------------+
| Ubuntu 22.04       | PASS                 | SKIPPED              |
+--------------------+----------------------+----------------------+
| Ubuntu 20.04       | SKIPPED              | PASS                 |
+--------------------+----------------------+----------------------+


Ubuntu 22.04 (ARM)
	Kernel: 5.15.0-97-generic
	Compiler: gcc gcc (Ubuntu 11.4.0-1ubuntu1~22.04) 11.4.0

Ubuntu 22.04
	Kernel: 5.15.0-100-generic
	Compiler: gcc gcc (Ubuntu 11.4.0-1ubuntu1~22.04) 11.4.0

Ubuntu 20.04
	Kernel: Depends on container host
	Compiler: gcc (Ubuntu 9.4.0-1ubuntu1~20.04.2) 9.4.0

To view detailed results, visit:
https://lab.dpdk.org/results/dashboard/patchsets/30831/

UNH-IOL DPDK Community Lab

To manage your email subscriptions, visit: 
https://lab.dpdk.org/results/dashboard/preferences/subscriptions/