From mboxrd@z Thu Jan  1 00:00:00 1970
Return-Path: <test-report-bounces@dpdk.org>
Received: from mails.dpdk.org (mails.dpdk.org [217.70.189.124])
	by inbox.dpdk.org (Postfix) with ESMTP id EBF47457CE
	for <public@inbox.dpdk.org>; Fri, 23 Aug 2024 00:31:52 +0200 (CEST)
Received: from mails.dpdk.org (localhost [127.0.0.1])
	by mails.dpdk.org (Postfix) with ESMTP id E1FA740298;
	Fri, 23 Aug 2024 00:31:52 +0200 (CEST)
Received: from mail-oo1-f99.google.com (mail-oo1-f99.google.com
 [209.85.161.99]) by mails.dpdk.org (Postfix) with ESMTP id EA01642F6B
 for <test-report@dpdk.org>; Fri, 23 Aug 2024 00:31:43 +0200 (CEST)
Received: by mail-oo1-f99.google.com with SMTP id
 006d021491bc7-5d5e1c86b83so1038167eaf.3
 for <test-report@dpdk.org>; Thu, 22 Aug 2024 15:31:43 -0700 (PDT)
DKIM-Signature: v=1; a=rsa-sha256; c=relaxed/relaxed;
 d=iol.unh.edu; s=unh-iol; t=1724365903; x=1724970703; darn=dpdk.org;
 h=references:in-reply-to:cc:to:from:subject:message-id:date:from:to
 :cc:subject:date:message-id:reply-to;
 bh=WEv7X/8r/51MDKr98HsUqJ1K+vWEwwwJs4SZGaKGJ7Q=;
 b=P5z7cBCEN/IvDOAl2nrC+RMwv61WUXGU/wnSj7fYUOi+EYHSPLb6Pkf0G+rvZdgSpi
 LEajIAek2ULzuvaiq+a6S1OvSKqz+p8ABfc+2a0sa1/GHeTBpqzlgapRBpUng/qzoXd6
 6xg35l5DwNTB/u40IhWrlRfGvT/gA/BDCiuug=
X-Google-DKIM-Signature: v=1; a=rsa-sha256; c=relaxed/relaxed;
 d=1e100.net; s=20230601; t=1724365903; x=1724970703;
 h=references:in-reply-to:cc:to:from:subject:message-id:date
 :x-gm-message-state:from:to:cc:subject:date:message-id:reply-to;
 bh=WEv7X/8r/51MDKr98HsUqJ1K+vWEwwwJs4SZGaKGJ7Q=;
 b=MfXv+Un8MQppD3wVjPDYUVFgmw8W+SEgL4jsvzPXOhkQIA6C2Qy4dZ/Xn7avCeQB1i
 S/mKq9ywmuDi3cesaRX+OVvz5Ai3mIr/2wrHBLJeRonMhi+3P2hxIYI/i0nVJL0Nw/8f
 2xj2Kl0KFilg9SxU3e4LzBDOfXAjGt3Ggyro1V0WACUnjNt8OSIwKeDshUkk7+L7X9zK
 VCKwm3BzLvesHizHI6E6mDU7I0n0Hkq8HecwYiFoJS0qLYU78O+hbpphjmdLMU/fMtYO
 0PsIoFqcmJqSzTVVG9HWsFmzohy0AwzdwwAtFdiX/0w2R6mwT9zNDWgus5Gjrm4kL02W
 UCJQ==
X-Gm-Message-State: AOJu0YzagUY/OVuCIb2//5VUjV4MGoWKDA+DgMpSp578tkBP3hLGk9DJ
 teS9vsjDWHfAXmaAQ/SjJG5sKcTfBuK5oCN1Ow8l8GE7iSPxbZeESM67FJHgFiLa4JPfUJull8W
 cfcP74qOVmJoyKZnTUkQDOYH0B4w+9zydtf3Xg5Fr
X-Google-Smtp-Source: AGHT+IE5zEd45QTkjdCBfrnm0P9GPAeAd6zppxtSO8GvEEGJebYVRwltv6qJdi19FAYik9wsVvyMbEWgnmMS
X-Received: by 2002:a05:6820:1ac6:b0:5c9:d9db:6a51 with SMTP id
 006d021491bc7-5dcc5b67513mr269180eaf.0.1724365902987; 
 Thu, 22 Aug 2024 15:31:42 -0700 (PDT)
Received: from postal.iol.unh.edu (postal.iol.unh.edu. [132.177.123.84])
 by smtp-relay.gmail.com with ESMTPS id
 006d021491bc7-5dcb59b2870sm58156eaf.5.2024.08.22.15.31.42
 (version=TLS1_2 cipher=ECDHE-ECDSA-AES128-GCM-SHA256 bits=128/128);
 Thu, 22 Aug 2024 15:31:42 -0700 (PDT)
X-Relaying-Domain: iol.unh.edu
Date: Thu, 22 Aug 2024 15:31:42 -0700 (PDT)
Message-ID: <66c7bc4e.4a0a0220.1e6062.3b13SMTPIN_ADDED_MISSING@mx.google.com>
Received: from [172.17.0.2] (unknown [172.18.0.213])
 by postal.iol.unh.edu (Postfix) with ESMTP id 6BFCB605C351;
 Thu, 22 Aug 2024 18:31:42 -0400 (EDT)
Subject: |SUCCESS| pw143304-143307 [PATCH] [v6,4/4] usertools/dpdk-devbind: p
From: dpdklab@iol.unh.edu
To: Test Report <test-report@dpdk.org>
Cc: dpdk-test-reports@iol.unh.edu
In-Reply-To: <d39a2b9360550a506a93da13ca5645f4c48e3b6f.1724323106.git.anatoly.burakov@intel.com>
References: <d39a2b9360550a506a93da13ca5645f4c48e3b6f.1724323106.git.anatoly.burakov@intel.com>
Content-Type: text/plain
X-BeenThere: test-report@dpdk.org
X-Mailman-Version: 2.1.29
Precedence: list
List-Id: automatic DPDK test reports <test-report.dpdk.org>
List-Unsubscribe: <https://mails.dpdk.org/options/test-report>,
 <mailto:test-report-request@dpdk.org?subject=unsubscribe>
List-Archive: <http://mails.dpdk.org/archives/test-report/>
List-Post: <mailto:test-report@dpdk.org>
List-Help: <mailto:test-report-request@dpdk.org?subject=help>
List-Subscribe: <https://mails.dpdk.org/listinfo/test-report>,
 <mailto:test-report-request@dpdk.org?subject=subscribe>
Errors-To: test-report-bounces@dpdk.org

Test-Label: iol-compile-amd64-testing
Test-Status: SUCCESS
http://dpdk.org/patch/143307

_Testing PASS_

Submitter: Anatoly Burakov <anatoly.burakov@intel.com>
Date: Thursday, August 22 2024 10:38:26 
DPDK git baseline: Repo:dpdk
  Branch: master
  CommitID:cb9187bc5c2b4bab0ad80194ac3b60491de14e8c

143304-143307 --> testing pass

Upstream job id: Generic-DPDK-Compile-Meson#290971

Test environment and result as below:

+---------------------+-----------------------+--------------------+----------------------+-------------------+------------------+-------------------+
|     Environment     | dpdk_win_llvm_compile | dpdk_meson_compile | dpdk_mingw64_compile | dpdk_msvc_compile | dpdk_compile_ovs | dpdk_compile_spdk |
+=====================+=======================+====================+======================+===================+==================+===================+
| Windows Server 2022 | PASS                  | SKIPPED            | PASS                 | PASS              | SKIPPED          | SKIPPED           |
+---------------------+-----------------------+--------------------+----------------------+-------------------+------------------+-------------------+
| FreeBSD 13.3        | SKIPPED               | PASS               | SKIPPED              | SKIPPED           | SKIPPED          | SKIPPED           |
+---------------------+-----------------------+--------------------+----------------------+-------------------+------------------+-------------------+
| FreeBSD 14.1        | SKIPPED               | PASS               | SKIPPED              | SKIPPED           | SKIPPED          | SKIPPED           |
+---------------------+-----------------------+--------------------+----------------------+-------------------+------------------+-------------------+
| CentOS Stream 9     | SKIPPED               | PASS               | SKIPPED              | SKIPPED           | PASS             | PASS              |
+---------------------+-----------------------+--------------------+----------------------+-------------------+------------------+-------------------+
| Debian Bullseye     | SKIPPED               | PASS               | SKIPPED              | SKIPPED           | PASS             | PASS              |
+---------------------+-----------------------+--------------------+----------------------+-------------------+------------------+-------------------+
| Debian 12           | SKIPPED               | PASS               | SKIPPED              | SKIPPED           | PASS             | PASS              |
+---------------------+-----------------------+--------------------+----------------------+-------------------+------------------+-------------------+
| Fedora 37           | SKIPPED               | PASS               | SKIPPED              | SKIPPED           | PASS             | PASS              |
+---------------------+-----------------------+--------------------+----------------------+-------------------+------------------+-------------------+
| Fedora 38 (Clang)   | SKIPPED               | PASS               | SKIPPED              | SKIPPED           | PASS             | PASS              |
+---------------------+-----------------------+--------------------+----------------------+-------------------+------------------+-------------------+
| Fedora 38           | SKIPPED               | PASS               | SKIPPED              | SKIPPED           | PASS             | PASS              |
+---------------------+-----------------------+--------------------+----------------------+-------------------+------------------+-------------------+
| Fedora 39 (Clang)   | SKIPPED               | PASS               | SKIPPED              | SKIPPED           | PASS             | PASS              |
+---------------------+-----------------------+--------------------+----------------------+-------------------+------------------+-------------------+
| Fedora 39           | SKIPPED               | PASS               | SKIPPED              | SKIPPED           | PASS             | PASS              |
+---------------------+-----------------------+--------------------+----------------------+-------------------+------------------+-------------------+
| Fedora 40 (Clang)   | SKIPPED               | PASS               | SKIPPED              | SKIPPED           | PASS             | PASS              |
+---------------------+-----------------------+--------------------+----------------------+-------------------+------------------+-------------------+
| Fedora 40           | SKIPPED               | PASS               | SKIPPED              | SKIPPED           | PASS             | PASS              |
+---------------------+-----------------------+--------------------+----------------------+-------------------+------------------+-------------------+
| openSUSE Leap 15    | SKIPPED               | PASS               | SKIPPED              | SKIPPED           | PASS             | SKIPPED           |
+---------------------+-----------------------+--------------------+----------------------+-------------------+------------------+-------------------+
| RHEL8               | SKIPPED               | PASS               | SKIPPED              | SKIPPED           | PASS             | SKIPPED           |
+---------------------+-----------------------+--------------------+----------------------+-------------------+------------------+-------------------+
| RHEL9               | SKIPPED               | PASS               | SKIPPED              | SKIPPED           | PASS             | SKIPPED           |
+---------------------+-----------------------+--------------------+----------------------+-------------------+------------------+-------------------+
| Ubuntu 20.04        | SKIPPED               | PASS               | SKIPPED              | SKIPPED           | PASS             | SKIPPED           |
+---------------------+-----------------------+--------------------+----------------------+-------------------+------------------+-------------------+
| Ubuntu 22.04        | SKIPPED               | PASS               | SKIPPED              | SKIPPED           | PASS             | PASS              |
+---------------------+-----------------------+--------------------+----------------------+-------------------+------------------+-------------------+
| Ubuntu 24.04        | SKIPPED               | PASS               | SKIPPED              | SKIPPED           | PASS             | PASS              |
+---------------------+-----------------------+--------------------+----------------------+-------------------+------------------+-------------------+
| Alpine              | SKIPPED               | PASS               | SKIPPED              | SKIPPED           | PASS             | SKIPPED           |
+---------------------+-----------------------+--------------------+----------------------+-------------------+------------------+-------------------+


Windows Server 2022
	Kernel: 10.0.20348.2031
	Compiler: clang 15.0.7, gcc 14.1.0 (MinGW), and MSVC VS 19.39.33521

FreeBSD 13.3
	Kernel: 13.3-RELEASE-p5
	Compiler: clang 17.0.6

FreeBSD 14.1
	Kernel: 14.1-RELEASE-p3
	Compiler: clang 18.1.5

CentOS Stream 9
	Kernel: Depends on container host
	Compiler: gcc 11.4.1 20231218 (Red Hat 11.4.1-3)

Debian Bullseye
	Kernel: Depends on container host
	Compiler: gcc (Debian 10.2.1-6) 10.2.1 20210110

Debian 12
	Kernel: Depends on container host
	Compiler: gcc (Debian 12.2.0-14) 12.2.0

Fedora 37
	Kernel: Depends on container host system
	Compiler: gcc 12.3.1 20230508 (Red Hat 12.3.1-1)

Fedora 38 (Clang)
	Kernel: Depends on container host
	Compiler: clang 16.0.6 (Fedora 16.0.6-4.fc38)

Fedora 38
	Kernel: Depends on container host
	Compiler: gcc 13.2.1 20240316 (Red Hat 13.2.1-7)

Fedora 39 (Clang)
	Kernel: Depends on container host
	Compiler: clang 17.0.6 (Fedora 17.0.6-2.fc39)

Fedora 39
	Kernel: Depends on container host
	Compiler: gcc 13.3.1 20240522 (Red Hat 13.3.1-1)

Fedora 40 (Clang)
	Kernel: Depends on container host
	Compiler: clang 18.1.6 (Fedora 18.1.6-3.fc40)

Fedora 40
	Kernel: Depends on container host
	Compiler: gcc 14.2.1 20240801 (Red Hat 14.2.1-1)

openSUSE Leap 15
	Kernel: Depends on container host
	Compiler: gcc (SUSE Linux) 7.5.0

RHEL8
	Kernel: Depends on container host
	Compiler: gcc 8.5.0 20210514 (Red Hat 8.5.0-22)

RHEL9
	Kernel: Depends on container host
	Compiler: gcc 11.4.1 20231218 (Red Hat 11.4.1-3)

Ubuntu 20.04
	Kernel: Depends on container host
	Compiler: gcc (Ubuntu 9.4.0-1ubuntu1~20.04.2) 9.4.0

Ubuntu 22.04
	Kernel: Depends on container host
	Compiler: gcc (Ubuntu 11.4.0-1ubuntu1~22.04) 11.4.0

Ubuntu 24.04
	Kernel: Depends on container host
	Compiler: gcc (Ubuntu 13.2.0-23ubuntu4) 13.2.0

Alpine
	Kernel: Depends on container host
	Compiler: gcc (Alpine 13.2.1_git20240309) 13.2.1 20240309

To view detailed results, visit:
https://lab.dpdk.org/results/dashboard/patchsets/30831/

UNH-IOL DPDK Community Lab

To manage your email subscriptions, visit: 
https://lab.dpdk.org/results/dashboard/preferences/subscriptions/