From mboxrd@z Thu Jan  1 00:00:00 1970
Return-Path: <test-report-bounces@dpdk.org>
Received: from mails.dpdk.org (mails.dpdk.org [217.70.189.124])
	by inbox.dpdk.org (Postfix) with ESMTP id 16D7845835
	for <public@inbox.dpdk.org>; Fri, 23 Aug 2024 03:49:48 +0200 (CEST)
Received: from mails.dpdk.org (localhost [127.0.0.1])
	by mails.dpdk.org (Postfix) with ESMTP id 0B14440298;
	Fri, 23 Aug 2024 03:49:48 +0200 (CEST)
Received: from mail-il1-f227.google.com (mail-il1-f227.google.com
 [209.85.166.227])
 by mails.dpdk.org (Postfix) with ESMTP id D0C7240265
 for <test-report@dpdk.org>; Fri, 23 Aug 2024 03:49:45 +0200 (CEST)
Received: by mail-il1-f227.google.com with SMTP id
 e9e14a558f8ab-39d2ac2a9d9so4657495ab.0
 for <test-report@dpdk.org>; Thu, 22 Aug 2024 18:49:45 -0700 (PDT)
DKIM-Signature: v=1; a=rsa-sha256; c=relaxed/relaxed;
 d=iol.unh.edu; s=unh-iol; t=1724377785; x=1724982585; darn=dpdk.org;
 h=references:in-reply-to:cc:to:from:subject:message-id:date:from:to
 :cc:subject:date:message-id:reply-to;
 bh=/fQIhGsUuKxz5pSHh7yO4ez9biVtVXbmDrZa6TfaX/0=;
 b=jY6LEAwlOY2+BBn4Tjw4Du78W/LUDQBq7NE0uh21/s5yXk7/9NSgqR9TEUa8sORD3K
 eC6XqlrdEBSSvdLHgc9Kk2uc1zH5p93ylHOAYmlqkgE/LEZ9Mix/U7P3fF0SKQEBWqOX
 HaB7Feca3c0/OZqdEZGmlsVD8W2CG4UaRQY3o=
X-Google-DKIM-Signature: v=1; a=rsa-sha256; c=relaxed/relaxed;
 d=1e100.net; s=20230601; t=1724377785; x=1724982585;
 h=references:in-reply-to:cc:to:from:subject:message-id:date
 :x-gm-message-state:from:to:cc:subject:date:message-id:reply-to;
 bh=/fQIhGsUuKxz5pSHh7yO4ez9biVtVXbmDrZa6TfaX/0=;
 b=kk/CcSCyBixKcAb2UHf0Z6rYYSr+CKXY02664/Iwzf1PJQHEirZgduS2eD45fTzCA6
 CDaYZFqAt+KxmU62UF+OT50Qk576nWhhYkzWQfqNdYJPiEOp5xaNhNVdBrSzey9mpPK0
 7W8Fyn1T9hQCycAPvpsB9L8npGIDBT7Ukz1yxw+zRxZqDaKTrL5mcltadkqsdb+IRLlk
 QXnIvXfg+torGyhSX3EA9M3UYb1yJKPqhmtcLZdxMCNKitUH+mBfpZCFDREjCdz29vc2
 21DREnx913AGCG9bHfJ7X+QtkTe8JB8672rrqgqr/znqPU0JF9P+0uXmhl3w4LL+tOCU
 9e8w==
X-Gm-Message-State: AOJu0YxnNQOEczpDoYRjH5ku4u65VNCxUwPl6Ujq1zN1/t2+28AK+U8p
 AHqsjm2Nu4ca2uJC00LS2CnLsv/tm0oofxMM4O+wc/RhFoJQqweuopjciyTmuGFaz6H2VXR6jV/
 qxJ3LCsY526rbHfp3ix4EZlHQ5/10nA85NaIEFpj/
X-Google-Smtp-Source: AGHT+IFJ1tLFJxGSGrXOVWtG++sK4uzd+Nc4O2nqwhwpJuuabPC187GQ2GTS7kI516O/UI9yNXf8iib/L/VI
X-Received: by 2002:a05:6e02:1a0f:b0:39d:351a:d0a2 with SMTP id
 e9e14a558f8ab-39e3c9edcd9mr7055265ab.25.1724377784833; 
 Thu, 22 Aug 2024 18:49:44 -0700 (PDT)
Received: from postal.iol.unh.edu (postal.iol.unh.edu. [132.177.123.84])
 by smtp-relay.gmail.com with ESMTPS id
 e9e14a558f8ab-39d73e4db50sm1273935ab.1.2024.08.22.18.49.44
 (version=TLS1_2 cipher=ECDHE-ECDSA-AES128-GCM-SHA256 bits=128/128);
 Thu, 22 Aug 2024 18:49:44 -0700 (PDT)
X-Relaying-Domain: iol.unh.edu
Date: Thu, 22 Aug 2024 18:49:44 -0700 (PDT)
Message-ID: <66c7eab8.050a0220.6ce3.7deaSMTPIN_ADDED_MISSING@mx.google.com>
Received: from [172.17.0.2] (unknown [172.18.0.217])
 by postal.iol.unh.edu (Postfix) with ESMTP id AA7AC605C351;
 Thu, 22 Aug 2024 21:49:43 -0400 (EDT)
Subject: |SUCCESS| pw143322-143326 [PATCH] [5/5] dts: add JSON schema generat
From: dpdklab@iol.unh.edu
To: Test Report <test-report@dpdk.org>
Cc: dpdk-test-reports@iol.unh.edu
In-Reply-To: <20240822163941.1390326-6-luca.vizzarro@arm.com>
References: <20240822163941.1390326-6-luca.vizzarro@arm.com>
Content-Type: text/plain
X-BeenThere: test-report@dpdk.org
X-Mailman-Version: 2.1.29
Precedence: list
List-Id: automatic DPDK test reports <test-report.dpdk.org>
List-Unsubscribe: <https://mails.dpdk.org/options/test-report>,
 <mailto:test-report-request@dpdk.org?subject=unsubscribe>
List-Archive: <http://mails.dpdk.org/archives/test-report/>
List-Post: <mailto:test-report@dpdk.org>
List-Help: <mailto:test-report-request@dpdk.org?subject=help>
List-Subscribe: <https://mails.dpdk.org/listinfo/test-report>,
 <mailto:test-report-request@dpdk.org?subject=subscribe>
Errors-To: test-report-bounces@dpdk.org

Test-Label: iol-compile-arm64-testing
Test-Status: SUCCESS
http://dpdk.org/patch/143326

_Testing PASS_

Submitter: Luca Vizzarro <luca.vizzarro@arm.com>
Date: Thursday, August 22 2024 16:39:41 
DPDK git baseline: Repo:dpdk
  Branch: master
  CommitID:cb9187bc5c2b4bab0ad80194ac3b60491de14e8c

143322-143326 --> testing pass

Upstream job id: Generic-DPDK-Compile-Meson#291089

Test environment and result as below:

+----------------------------------------+--------------------+
|              Environment               | dpdk_meson_compile |
+========================================+====================+
| RHEL9 (ARM)                            | PASS               |
+----------------------------------------+--------------------+
| Ubuntu 20.04 ARM GCC Cross Compile     | PASS               |
+----------------------------------------+--------------------+
| Ubuntu 20.04 ARM SVE                   | PASS               |
+----------------------------------------+--------------------+
| Debian 12 with MUSDK                   | PASS               |
+----------------------------------------+--------------------+
| Fedora 37 (ARM)                        | PASS               |
+----------------------------------------+--------------------+
| Fedora 38 (ARM)                        | PASS               |
+----------------------------------------+--------------------+
| Fedora 38 (ARM Clang)                  | PASS               |
+----------------------------------------+--------------------+
| Fedora 39 (ARM)                        | PASS               |
+----------------------------------------+--------------------+
| Fedora 39 (ARM Clang)                  | PASS               |
+----------------------------------------+--------------------+
| Fedora 40 (ARM)                        | PASS               |
+----------------------------------------+--------------------+
| Fedora 40 (ARM Clang)                  | PASS               |
+----------------------------------------+--------------------+
| Ubuntu 20.04 (ARM)                     | PASS               |
+----------------------------------------+--------------------+
| Ubuntu 22.04 (ARM)                     | PASS               |
+----------------------------------------+--------------------+
| Ubuntu 24.04 (ARM)                     | PASS               |
+----------------------------------------+--------------------+
| CentOS Stream 9 (ARM)                  | PASS               |
+----------------------------------------+--------------------+
| Debian 11 (Buster) (ARM)               | PASS               |
+----------------------------------------+--------------------+
| Debian 12 (arm)                        | PASS               |
+----------------------------------------+--------------------+
| Ubuntu 20.04 ARM Clang Cross Compile   | PASS               |
+----------------------------------------+--------------------+
| Ubuntu 20.04 aarch32 GCC Cross Compile | PASS               |
+----------------------------------------+--------------------+


RHEL9 (ARM)
	Kernel: Depends on container host
	Compiler: gcc 11.4.1 20231218 (Red Hat 11.4.1-3)

Ubuntu 20.04 ARM GCC Cross Compile
	Kernel: Depends on container host
	Compiler: aarch64-linux-gnu-gcc (Ubuntu 9.4.0-1ubuntu1~20.04.2) 9.4.0

Ubuntu 20.04 ARM SVE
	Kernel: Depends on container host
	Compiler: gcc (Ubuntu 10.5.0-1ubuntu1~20.04) 10.5.0

Debian 12 with MUSDK
	Kernel: Depends on container host
	Compiler: gcc (Debian 12.2.0-14) 12.2.0

Fedora 37 (ARM)
	Kernel: Depends on container host
	Compiler: gcc 12.3.1 20230508 (Red Hat 12.3.1-1)

Fedora 38 (ARM)
	Kernel: Depends on container host
	Compiler: gcc 13.2.1 20240316 (Red Hat 13.2.1-7)

Fedora 38 (ARM Clang)
	Kernel: Depends on container host
	Compiler: clang 16.0.6 (Fedora 16.0.6-4.fc38)

Fedora 39 (ARM)
	Kernel: Depends on container host
	Compiler: gcc 13.3.1 20240522 (Red Hat 13.3.1-1)

Fedora 39 (ARM Clang)
	Kernel: Depends on container host
	Compiler: clang 17.0.6 (Fedora 17.0.6-2.fc39)

Fedora 40 (ARM)
	Kernel: Depends on container host
	Compiler: gcc 14.2.1 20240801 (Red Hat 14.2.1-1)

Fedora 40 (ARM Clang)
	Kernel: Depends on container host
	Compiler: clang 18.1.6 (Fedora 18.1.6-3.fc40)

Ubuntu 20.04 (ARM)
	Kernel: Depends on container host
	Compiler: gcc (Ubuntu 9.4.0-1ubuntu1~20.04.2) 9.4.0

Ubuntu 22.04 (ARM)
	Kernel: Depends on container host
	Compiler: gcc (Ubuntu 11.4.0-1ubuntu1~22.04) 11.4.0

Ubuntu 24.04 (ARM)
	Kernel: Depends on container host
	Compiler: gcc (Ubuntu 13.2.0-23ubuntu4) 13.2.0

CentOS Stream 9 (ARM)
	Kernel: Depends on container host
	Compiler: gcc 11.4.1 20231218 (Red Hat 11.4.1-3)

Debian 11 (Buster) (ARM)
	Kernel: Depends on container host
	Compiler: gcc (Debian 10.2.1-6) 10.2.1 20210110

Debian 12 (arm)
	Kernel: Depends on container host
	Compiler: gcc (Debian 12.2.0-14) 12.2.0

Ubuntu 20.04 ARM Clang Cross Compile
	Kernel: Depends on container host
	Compiler: clang 10.0.0-4ubuntu1

Ubuntu 20.04 aarch32 GCC Cross Compile
	Kernel: Depends on container host
	Compiler: gcc 9.4.0

To view detailed results, visit:
https://lab.dpdk.org/results/dashboard/patchsets/30835/

UNH-IOL DPDK Community Lab

To manage your email subscriptions, visit: 
https://lab.dpdk.org/results/dashboard/preferences/subscriptions/