From mboxrd@z Thu Jan  1 00:00:00 1970
Return-Path: <test-report-bounces@dpdk.org>
Received: from mails.dpdk.org (mails.dpdk.org [217.70.189.124])
	by inbox.dpdk.org (Postfix) with ESMTP id A53FB45851
	for <public@inbox.dpdk.org>; Sat, 24 Aug 2024 10:58:54 +0200 (CEST)
Received: from mails.dpdk.org (localhost [127.0.0.1])
	by mails.dpdk.org (Postfix) with ESMTP id A049F402A8;
	Sat, 24 Aug 2024 10:58:54 +0200 (CEST)
Received: from mail-pj1-f97.google.com (mail-pj1-f97.google.com
 [209.85.216.97]) by mails.dpdk.org (Postfix) with ESMTP id 04CDE4028B
 for <test-report@dpdk.org>; Sat, 24 Aug 2024 10:58:52 +0200 (CEST)
Received: by mail-pj1-f97.google.com with SMTP id
 98e67ed59e1d1-2d3c99033d6so2168436a91.0
 for <test-report@dpdk.org>; Sat, 24 Aug 2024 01:58:52 -0700 (PDT)
DKIM-Signature: v=1; a=rsa-sha256; c=relaxed/relaxed;
 d=iol.unh.edu; s=unh-iol; t=1724489932; x=1725094732; darn=dpdk.org;
 h=references:in-reply-to:cc:to:from:subject:message-id:date:from:to
 :cc:subject:date:message-id:reply-to;
 bh=Y0zcrBfep2QrgeJbkwUgx/xTAxuKJHUZmbtmET/H7Vc=;
 b=NoCH3tPnjQ8ATmg3YOknpdnDm2yqd07AZYdhSFhAmBb6feAdiZSp8lQ+g/E60QG+dc
 aQxFo9e9Eo56aqboj9xUPEzKx/ZR0hh8sSrWprgeyP4Lv9Ayu+UroYeN0uzamdvgLyG4
 lvneVjPvJUtHJAkfiz0suuslSyOMdS20/du6Y=
X-Google-DKIM-Signature: v=1; a=rsa-sha256; c=relaxed/relaxed;
 d=1e100.net; s=20230601; t=1724489932; x=1725094732;
 h=references:in-reply-to:cc:to:from:subject:message-id:date
 :x-gm-message-state:from:to:cc:subject:date:message-id:reply-to;
 bh=Y0zcrBfep2QrgeJbkwUgx/xTAxuKJHUZmbtmET/H7Vc=;
 b=oYx9FrGOaQw42lUfMyIlNBus7Caos6Q6VwYTsFkG/+TxHGW3KSU7D0dGKXaHEz9nJC
 TUKEAJZJYg7V6x7c4WD+sNamSWunIw1QeTH3v1UcJFFhshZ/Jrci4+RS3ygPRnKEP73v
 pLHYvS4Ax9gn0QgX6ayhlqbMCrsFoPKFJLPiF/QK1deeuk/pYOQg1cQLuJqLtY2V38Nl
 GT1DZIuSB/5cDtuRl8bOybDqgStq54e4yoAcQy22RyhVqIGYEOFtHQmre5i6t+xQNUSs
 en7jINSIIfgZ+EaprLONorm7mijHpORwGY0F9c/qIW2fCgbI2+or9bZarYZYQ0II+g0o
 w1Rg==
X-Gm-Message-State: AOJu0YzemLCYo1HEzLxm6UqWFxfqzsXQmon3eCZ2rVJ9U561n0sgNd6W
 OQn3gfcbb6/MlEDa67xTXG09calWCRd3Z8AXnWw0GPAQG8CMpcQRU2LvXtX6MiZNuKkDydu/fwn
 ubNPTfAzBYDGgInN9yEBnQWw31oBh98lwEasz9VBo
X-Google-Smtp-Source: AGHT+IHFYSNb5gOGkWe68usKam2+dPYIgCN82bjYBYzu2mFU/nvnqUqsPWu/jLCls3eZnnTcwNL5GK071wbG
X-Received: by 2002:a17:90b:ecd:b0:2cd:619:6826 with SMTP id
 98e67ed59e1d1-2d646d4dcfbmr5870312a91.34.1724489932060; 
 Sat, 24 Aug 2024 01:58:52 -0700 (PDT)
Received: from postal.iol.unh.edu (postal.iol.unh.edu. [132.177.123.84])
 by smtp-relay.gmail.com with ESMTPS id
 98e67ed59e1d1-2d5eb8cea23sm499799a91.3.2024.08.24.01.58.51
 (version=TLS1_2 cipher=ECDHE-ECDSA-AES128-GCM-SHA256 bits=128/128);
 Sat, 24 Aug 2024 01:58:52 -0700 (PDT)
X-Relaying-Domain: iol.unh.edu
Date: Sat, 24 Aug 2024 01:58:52 -0700 (PDT)
Message-ID: <66c9a0cc.170a0220.391dd4.cc07SMTPIN_ADDED_MISSING@mx.google.com>
Received: from [172.17.0.3] (unknown [172.18.0.217])
 by postal.iol.unh.edu (Postfix) with ESMTP id D6C9A6050A6B;
 Sat, 24 Aug 2024 04:58:50 -0400 (EDT)
Subject: |SUCCESS| pw143365-143376 [PATCH] [v3,12/12] net/ice: add support fo
From: dpdklab@iol.unh.edu
To: Test Report <test-report@dpdk.org>
Cc: dpdk-test-reports@iol.unh.edu
In-Reply-To: <20240823095650.349785-13-soumyadeep.hore@intel.com>
References: <20240823095650.349785-13-soumyadeep.hore@intel.com>
Content-Type: text/plain
X-BeenThere: test-report@dpdk.org
X-Mailman-Version: 2.1.29
Precedence: list
List-Id: automatic DPDK test reports <test-report.dpdk.org>
List-Unsubscribe: <https://mails.dpdk.org/options/test-report>,
 <mailto:test-report-request@dpdk.org?subject=unsubscribe>
List-Archive: <http://mails.dpdk.org/archives/test-report/>
List-Post: <mailto:test-report@dpdk.org>
List-Help: <mailto:test-report-request@dpdk.org?subject=help>
List-Subscribe: <https://mails.dpdk.org/listinfo/test-report>,
 <mailto:test-report-request@dpdk.org?subject=subscribe>
Errors-To: test-report-bounces@dpdk.org

Test-Label: iol-unit-amd64-testing
Test-Status: SUCCESS
http://dpdk.org/patch/143376

_Testing PASS_

Submitter: Soumyadeep Hore <soumyadeep.hore@intel.com>
Date: Friday, August 23 2024 09:56:50 
DPDK git baseline: Repo:dpdk
  Branch: master
  CommitID:22637bd9a8c26f20bf12b69f90f085d50eda9d66

143365-143376 --> testing pass

Upstream job id: Generic-Unit-Test-DPDK#254932

Test environment and result as below:

+---------------------+----------------+
|     Environment     | dpdk_unit_test |
+=====================+================+
| Windows Server 2022 | PASS           |
+---------------------+----------------+
| CentOS Stream 9     | PASS           |
+---------------------+----------------+
| Debian Bullseye     | PASS           |
+---------------------+----------------+
| Debian 12           | PASS           |
+---------------------+----------------+
| Fedora 37           | PASS           |
+---------------------+----------------+
| Fedora 38           | PASS           |
+---------------------+----------------+
| Fedora 38 (Clang)   | PASS           |
+---------------------+----------------+
| Fedora 40           | PASS           |
+---------------------+----------------+
| Fedora 39           | PASS           |
+---------------------+----------------+
| Fedora 39 (Clang)   | PASS           |
+---------------------+----------------+
| RHEL8               | PASS           |
+---------------------+----------------+
| RHEL9               | PASS           |
+---------------------+----------------+
| Fedora 40 (Clang)   | PASS           |
+---------------------+----------------+
| Ubuntu 20.04        | PASS           |
+---------------------+----------------+
| Ubuntu 22.04        | PASS           |
+---------------------+----------------+
| Ubuntu 24.04        | PASS           |
+---------------------+----------------+


Windows Server 2022
	Kernel: 10.0.20348.2031
	Compiler: clang 15.0.7, gcc 14.1.0 (MinGW), and MSVC VS 19.39.33521

CentOS Stream 9
	Kernel: Depends on container host
	Compiler: gcc 11.4.1 20231218 (Red Hat 11.4.1-3)

Debian Bullseye
	Kernel: Depends on container host
	Compiler: gcc (Debian 10.2.1-6) 10.2.1 20210110

Debian 12
	Kernel: Depends on container host
	Compiler: gcc (Debian 12.2.0-14) 12.2.0

Fedora 37
	Kernel: Depends on container host system
	Compiler: gcc 12.3.1 20230508 (Red Hat 12.3.1-1)

Fedora 38
	Kernel: Depends on container host
	Compiler: gcc 13.2.1 20240316 (Red Hat 13.2.1-7)

Fedora 38 (Clang)
	Kernel: Depends on container host
	Compiler: clang 16.0.6 (Fedora 16.0.6-4.fc38)

Fedora 40
	Kernel: Depends on container host
	Compiler: gcc 14.2.1 20240801 (Red Hat 14.2.1-1)

Fedora 39
	Kernel: Depends on container host
	Compiler: gcc 13.3.1 20240522 (Red Hat 13.3.1-1)

Fedora 39 (Clang)
	Kernel: Depends on container host
	Compiler: clang 17.0.6 (Fedora 17.0.6-2.fc39)

RHEL8
	Kernel: Depends on container host
	Compiler: gcc 8.5.0 20210514 (Red Hat 8.5.0-22)

RHEL9
	Kernel: Depends on container host
	Compiler: gcc 11.4.1 20231218 (Red Hat 11.4.1-3)

Fedora 40 (Clang)
	Kernel: Depends on container host
	Compiler: clang 18.1.6 (Fedora 18.1.6-3.fc40)

Ubuntu 20.04
	Kernel: Depends on container host
	Compiler: gcc (Ubuntu 9.4.0-1ubuntu1~20.04.2) 9.4.0

Ubuntu 22.04
	Kernel: Depends on container host
	Compiler: gcc (Ubuntu 11.4.0-1ubuntu1~22.04) 11.4.0

Ubuntu 24.04
	Kernel: Depends on container host
	Compiler: gcc (Ubuntu 13.2.0-23ubuntu4) 13.2.0

To view detailed results, visit:
https://lab.dpdk.org/results/dashboard/patchsets/30844/

UNH-IOL DPDK Community Lab

To manage your email subscriptions, visit: 
https://lab.dpdk.org/results/dashboard/preferences/subscriptions/