From mboxrd@z Thu Jan  1 00:00:00 1970
Return-Path: <test-report-bounces@dpdk.org>
Received: from mails.dpdk.org (mails.dpdk.org [217.70.189.124])
	by inbox.dpdk.org (Postfix) with ESMTP id 2B1B84578F
	for <public@inbox.dpdk.org>; Sat, 24 Aug 2024 23:04:02 +0200 (CEST)
Received: from mails.dpdk.org (localhost [127.0.0.1])
	by mails.dpdk.org (Postfix) with ESMTP id 0BD424025A;
	Sat, 24 Aug 2024 23:04:02 +0200 (CEST)
Received: from mail-io1-f98.google.com (mail-io1-f98.google.com
 [209.85.166.98]) by mails.dpdk.org (Postfix) with ESMTP id AEEC64014F
 for <test-report@dpdk.org>; Sat, 24 Aug 2024 23:04:00 +0200 (CEST)
Received: by mail-io1-f98.google.com with SMTP id
 ca18e2360f4ac-8251e23eaebso108366639f.3
 for <test-report@dpdk.org>; Sat, 24 Aug 2024 14:04:00 -0700 (PDT)
DKIM-Signature: v=1; a=rsa-sha256; c=relaxed/relaxed;
 d=iol.unh.edu; s=unh-iol; t=1724533440; x=1725138240; darn=dpdk.org;
 h=references:in-reply-to:cc:to:from:subject:message-id:date:from:to
 :cc:subject:date:message-id:reply-to;
 bh=OXE+rXT+UEcfjlbswaseI71oDXECGlYAX2Pq1aqRRBI=;
 b=H1PsfhZdhkgZyXf29WPSZnlbbeXBe65pIPIje2o0VX0VLGR3GbLuOBPfRxSqkD2fof
 DgltmSO8pc3CeeWthJ9cSKA8kQ7SDNoZos30iaKcIADcZgAs3Drq5bbMZP4l+8ER47OX
 ZssiFaka7SeqADEUMa6wk/398aQTvcYzcVD7M=
X-Google-DKIM-Signature: v=1; a=rsa-sha256; c=relaxed/relaxed;
 d=1e100.net; s=20230601; t=1724533440; x=1725138240;
 h=references:in-reply-to:cc:to:from:subject:message-id:date
 :x-gm-message-state:from:to:cc:subject:date:message-id:reply-to;
 bh=OXE+rXT+UEcfjlbswaseI71oDXECGlYAX2Pq1aqRRBI=;
 b=NOp8fUSIK4O44ZMFLDL8L4zBCHix1mMYlSikEM6LUccqRXP72xZgBGWbp123Mry/zM
 Fnp2rNP2/xGRWa4QZmbE9dbpMgPLxkBQkRLRl3itfMlURTc7PM0WYlCy5FJm2+D6nl2Z
 kRY8woyjkAme0UzOlfYSLQ7aFFsJ5hDEHCW+IQQFMj6LNKFkjO3k0jEQGMvs2pJ0Y4BY
 C/s9/6FPXR4ZOfqYTXk8Q8xcMBgcLnFL8BVxS5GX9BJXWiFekNem2coIlZQ6sCU5PYPX
 NitzPlZlkbFHnPW82JBjPvYYG1qhDTYhQKZ4rKFyEnAwYUlVVq68eMoh26BVXn8xn8rb
 /TNA==
X-Gm-Message-State: AOJu0YxIVdFs1I5Z/YJzy+brYJxey8ldtHOPmtaqsQ6FlV3pPtGwinLx
 tGKufGIV2ztlfplEMIIMRubUebQHPngdB0WxkGyAb2VHHqGNnWgg9v7EgW8qiMEAp0VZNAqENEG
 anLirXMbn7uf+ipyh2ju0dTons8YhQecuqB6OqMlGVgpLn16c92fQJdkn
X-Google-Smtp-Source: AGHT+IEicUctP+F/xiXb1ehaRsFrS6/WaPfW9zvmi0Ra0y77JOs9PJXye0GwZzqPdurSq9NcFoVWRZYGRpIr
X-Received: by 2002:a05:6602:1603:b0:7f7:d2c7:3b7a with SMTP id
 ca18e2360f4ac-8278802dbccmr612834839f.0.1724533439659; 
 Sat, 24 Aug 2024 14:03:59 -0700 (PDT)
Received: from postal.iol.unh.edu (postal.iol.unh.edu.
 [2606:4100:3880:1234::84]) by smtp-relay.gmail.com with ESMTPS id
 8926c6da1cb9f-4ce70f570cbsm318851173.26.2024.08.24.14.03.59
 (version=TLS1_2 cipher=ECDHE-ECDSA-AES128-GCM-SHA256 bits=128/128);
 Sat, 24 Aug 2024 14:03:59 -0700 (PDT)
X-Relaying-Domain: iol.unh.edu
Date: Sat, 24 Aug 2024 14:03:59 -0700 (PDT)
Message-ID: <66ca4abf.050a0220.205b0b.ebe6SMTPIN_ADDED_MISSING@mx.google.com>
Received: from [172.17.0.4] (unknown [172.18.0.217])
 by postal.iol.unh.edu (Postfix) with ESMTP id D38CD6050A6B;
 Sat, 24 Aug 2024 17:03:58 -0400 (EDT)
Subject: |SUCCESS| pw143387 [PATCH] net/pcap: set live interface as non-block
From: dpdklab@iol.unh.edu
To: Test Report <test-report@dpdk.org>
Cc: dpdk-test-reports@iol.unh.edu
In-Reply-To: <20240824180717.14293-1-stephen@networkplumber.org>
References: <20240824180717.14293-1-stephen@networkplumber.org>
Content-Type: text/plain
X-BeenThere: test-report@dpdk.org
X-Mailman-Version: 2.1.29
Precedence: list
List-Id: automatic DPDK test reports <test-report.dpdk.org>
List-Unsubscribe: <https://mails.dpdk.org/options/test-report>,
 <mailto:test-report-request@dpdk.org?subject=unsubscribe>
List-Archive: <http://mails.dpdk.org/archives/test-report/>
List-Post: <mailto:test-report@dpdk.org>
List-Help: <mailto:test-report-request@dpdk.org?subject=help>
List-Subscribe: <https://mails.dpdk.org/listinfo/test-report>,
 <mailto:test-report-request@dpdk.org?subject=subscribe>
Errors-To: test-report-bounces@dpdk.org

Test-Label: iol-compile-amd64-testing
Test-Status: SUCCESS
http://dpdk.org/patch/143387

_Testing PASS_

Submitter: Stephen Hemminger <stephen@networkplumber.org>
Date: Saturday, August 24 2024 18:07:10 
DPDK git baseline: Repo:dpdk
  Branch: master
  CommitID:e3f198f86b6bda1743a204e6daf98fc52f31e3fa

143387 --> testing pass

Upstream job id: Generic-DPDK-Compile-Meson#292032

Test environment and result as below:

+---------------------+----------------------+-------------------+--------------------+-----------------------+------------------+-------------------+
|     Environment     | dpdk_mingw64_compile | dpdk_msvc_compile | dpdk_meson_compile | dpdk_win_llvm_compile | dpdk_compile_ovs | dpdk_compile_spdk |
+=====================+======================+===================+====================+=======================+==================+===================+
| Windows Server 2022 | PASS                 | PASS              | SKIPPED            | PASS                  | SKIPPED          | SKIPPED           |
+---------------------+----------------------+-------------------+--------------------+-----------------------+------------------+-------------------+
| FreeBSD 13.3        | SKIPPED              | SKIPPED           | PASS               | SKIPPED               | SKIPPED          | SKIPPED           |
+---------------------+----------------------+-------------------+--------------------+-----------------------+------------------+-------------------+
| FreeBSD 14.1        | SKIPPED              | SKIPPED           | PASS               | SKIPPED               | SKIPPED          | SKIPPED           |
+---------------------+----------------------+-------------------+--------------------+-----------------------+------------------+-------------------+
| CentOS Stream 9     | SKIPPED              | SKIPPED           | PASS               | SKIPPED               | PASS             | PASS              |
+---------------------+----------------------+-------------------+--------------------+-----------------------+------------------+-------------------+
| Debian Bullseye     | SKIPPED              | SKIPPED           | PASS               | SKIPPED               | PASS             | PASS              |
+---------------------+----------------------+-------------------+--------------------+-----------------------+------------------+-------------------+
| Debian 12           | SKIPPED              | SKIPPED           | PASS               | SKIPPED               | PASS             | PASS              |
+---------------------+----------------------+-------------------+--------------------+-----------------------+------------------+-------------------+
| Fedora 37           | SKIPPED              | SKIPPED           | PASS               | SKIPPED               | PASS             | PASS              |
+---------------------+----------------------+-------------------+--------------------+-----------------------+------------------+-------------------+
| Fedora 38 (Clang)   | SKIPPED              | SKIPPED           | PASS               | SKIPPED               | PASS             | PASS              |
+---------------------+----------------------+-------------------+--------------------+-----------------------+------------------+-------------------+
| Fedora 38           | SKIPPED              | SKIPPED           | PASS               | SKIPPED               | PASS             | PASS              |
+---------------------+----------------------+-------------------+--------------------+-----------------------+------------------+-------------------+
| Fedora 39 (Clang)   | SKIPPED              | SKIPPED           | PASS               | SKIPPED               | PASS             | PASS              |
+---------------------+----------------------+-------------------+--------------------+-----------------------+------------------+-------------------+
| Fedora 39           | SKIPPED              | SKIPPED           | PASS               | SKIPPED               | PASS             | PASS              |
+---------------------+----------------------+-------------------+--------------------+-----------------------+------------------+-------------------+
| Fedora 40 (Clang)   | SKIPPED              | SKIPPED           | PASS               | SKIPPED               | PASS             | PASS              |
+---------------------+----------------------+-------------------+--------------------+-----------------------+------------------+-------------------+
| Fedora 40           | SKIPPED              | SKIPPED           | PASS               | SKIPPED               | PASS             | PASS              |
+---------------------+----------------------+-------------------+--------------------+-----------------------+------------------+-------------------+
| openSUSE Leap 15    | SKIPPED              | SKIPPED           | PASS               | SKIPPED               | PASS             | SKIPPED           |
+---------------------+----------------------+-------------------+--------------------+-----------------------+------------------+-------------------+
| RHEL8               | SKIPPED              | SKIPPED           | PASS               | SKIPPED               | PASS             | SKIPPED           |
+---------------------+----------------------+-------------------+--------------------+-----------------------+------------------+-------------------+
| RHEL9               | SKIPPED              | SKIPPED           | PASS               | SKIPPED               | PASS             | SKIPPED           |
+---------------------+----------------------+-------------------+--------------------+-----------------------+------------------+-------------------+
| Ubuntu 20.04        | SKIPPED              | SKIPPED           | PASS               | SKIPPED               | PASS             | SKIPPED           |
+---------------------+----------------------+-------------------+--------------------+-----------------------+------------------+-------------------+
| Ubuntu 22.04        | SKIPPED              | SKIPPED           | PASS               | SKIPPED               | PASS             | PASS              |
+---------------------+----------------------+-------------------+--------------------+-----------------------+------------------+-------------------+
| Ubuntu 24.04        | SKIPPED              | SKIPPED           | PASS               | SKIPPED               | PASS             | PASS              |
+---------------------+----------------------+-------------------+--------------------+-----------------------+------------------+-------------------+
| Alpine              | SKIPPED              | SKIPPED           | PASS               | SKIPPED               | PASS             | SKIPPED           |
+---------------------+----------------------+-------------------+--------------------+-----------------------+------------------+-------------------+


Windows Server 2022
	Kernel: 10.0.20348.2031
	Compiler: clang 15.0.7, gcc 14.1.0 (MinGW), and MSVC VS 19.39.33521

FreeBSD 13.3
	Kernel: 13.3-RELEASE-p5
	Compiler: clang 17.0.6

FreeBSD 14.1
	Kernel: 14.1-RELEASE-p3
	Compiler: clang 18.1.5

CentOS Stream 9
	Kernel: Depends on container host
	Compiler: gcc 11.4.1 20231218 (Red Hat 11.4.1-3)

Debian Bullseye
	Kernel: Depends on container host
	Compiler: gcc (Debian 10.2.1-6) 10.2.1 20210110

Debian 12
	Kernel: Depends on container host
	Compiler: gcc (Debian 12.2.0-14) 12.2.0

Fedora 37
	Kernel: Depends on container host system
	Compiler: gcc 12.3.1 20230508 (Red Hat 12.3.1-1)

Fedora 38 (Clang)
	Kernel: Depends on container host
	Compiler: clang 16.0.6 (Fedora 16.0.6-4.fc38)

Fedora 38
	Kernel: Depends on container host
	Compiler: gcc 13.2.1 20240316 (Red Hat 13.2.1-7)

Fedora 39 (Clang)
	Kernel: Depends on container host
	Compiler: clang 17.0.6 (Fedora 17.0.6-2.fc39)

Fedora 39
	Kernel: Depends on container host
	Compiler: gcc 13.3.1 20240522 (Red Hat 13.3.1-1)

Fedora 40 (Clang)
	Kernel: Depends on container host
	Compiler: clang 18.1.6 (Fedora 18.1.6-3.fc40)

Fedora 40
	Kernel: Depends on container host
	Compiler: gcc 14.2.1 20240801 (Red Hat 14.2.1-1)

openSUSE Leap 15
	Kernel: Depends on container host
	Compiler: gcc (SUSE Linux) 7.5.0

RHEL8
	Kernel: Depends on container host
	Compiler: gcc 8.5.0 20210514 (Red Hat 8.5.0-22)

RHEL9
	Kernel: Depends on container host
	Compiler: gcc 11.4.1 20231218 (Red Hat 11.4.1-3)

Ubuntu 20.04
	Kernel: Depends on container host
	Compiler: gcc (Ubuntu 9.4.0-1ubuntu1~20.04.2) 9.4.0

Ubuntu 22.04
	Kernel: Depends on container host
	Compiler: gcc (Ubuntu 11.4.0-1ubuntu1~22.04) 11.4.0

Ubuntu 24.04
	Kernel: Depends on container host
	Compiler: gcc (Ubuntu 13.2.0-23ubuntu4) 13.2.0

Alpine
	Kernel: Depends on container host
	Compiler: gcc (Alpine 13.2.1_git20240309) 13.2.1 20240309

To view detailed results, visit:
https://lab.dpdk.org/results/dashboard/patchsets/30852/

UNH-IOL DPDK Community Lab

To manage your email subscriptions, visit: 
https://lab.dpdk.org/results/dashboard/preferences/subscriptions/