From mboxrd@z Thu Jan  1 00:00:00 1970
Return-Path: <test-report-bounces@dpdk.org>
Received: from mails.dpdk.org (mails.dpdk.org [217.70.189.124])
	by inbox.dpdk.org (Postfix) with ESMTP id A877A45880
	for <public@inbox.dpdk.org>; Wed, 28 Aug 2024 04:59:07 +0200 (CEST)
Received: from mails.dpdk.org (localhost [127.0.0.1])
	by mails.dpdk.org (Postfix) with ESMTP id 8EB8B40285;
	Wed, 28 Aug 2024 04:59:07 +0200 (CEST)
Received: from mail-pl1-f228.google.com (mail-pl1-f228.google.com
 [209.85.214.228])
 by mails.dpdk.org (Postfix) with ESMTP id B3AAA4026F
 for <test-report@dpdk.org>; Wed, 28 Aug 2024 04:59:05 +0200 (CEST)
Received: by mail-pl1-f228.google.com with SMTP id
 d9443c01a7336-20203988f37so61450465ad.1
 for <test-report@dpdk.org>; Tue, 27 Aug 2024 19:59:05 -0700 (PDT)
DKIM-Signature: v=1; a=rsa-sha256; c=relaxed/relaxed;
 d=iol.unh.edu; s=unh-iol; t=1724813944; x=1725418744; darn=dpdk.org;
 h=references:in-reply-to:cc:to:from:subject:message-id:date:from:to
 :cc:subject:date:message-id:reply-to;
 bh=LDDsYlXXayTaRdErmMmdMtpcYbghkh74dEirrbD01IQ=;
 b=SyfecHU8X8DJKt2+PV/hxS0dD+AXObN+b+dNAIdwntnotxG6nUN6SBZXiWzVqHgQot
 alAtnYZGwHFLQupC/sAYhpGUnnEjwvVUlnbcfju7g6aS2wjLnRb/m/cwuW7gH4jBQo9X
 zJFuFT2+QCHomDXIQfPli0B59+ejWw7y16Ipk=
X-Google-DKIM-Signature: v=1; a=rsa-sha256; c=relaxed/relaxed;
 d=1e100.net; s=20230601; t=1724813944; x=1725418744;
 h=references:in-reply-to:cc:to:from:subject:message-id:date
 :x-gm-message-state:from:to:cc:subject:date:message-id:reply-to;
 bh=LDDsYlXXayTaRdErmMmdMtpcYbghkh74dEirrbD01IQ=;
 b=WBLmFCoEUwzNQKNHzneydUkhpnf45/WVxwr/k73BbAKLrjunyZ9oXmfqPqdRRDumAP
 ePbtVCHcux9nJ0sw+6ZQ0rUF1A7RX/ceAqoalUt2oVvB8QkmVUfpQFEkiYiAjyGB3gjE
 8LoyudwHhO6epJ+ut0S1pVpyA3SvaJlpKsETSQNe9M6lk9l/QVDnvuAZWe8yUyTFNg4V
 V/mxH04XSLJJOoJ4mgiE2jFVk9rU5RoUj5s2Z0KDXiz+cz+DfJDoIHcBOKiCIeezwDVr
 NIvChvuxkCUG2X+rPiBS5yN/rwB3agUOXiK7DzJ/zsQjqC2tI1K/X5Iy6wUERXSO6RRh
 u3jg==
X-Gm-Message-State: AOJu0Yz8G2DvN0pj8HGzdbikHMYB076io0a7qpOykMiBqA3AF9rln/jE
 SQnMbsLMueCUnniBGI5tWEfSmZ89w0m2Wh8tQVDdGXsPH1+q07bhaXC6Uvc04gIPW9f6ISdY8FY
 +4BL3HCqfnL7etM5lDS3KiNaZWT00WuK4M/eVZvacwSua143gnGh4wuEx
X-Google-Smtp-Source: AGHT+IF9M8yTg5aN68G/w6PP6mDI8fASaMaSz2sfjhmfJa8XF+kBR0TVoE9L0U10JUiwfMWi1ivcRSvYuAQP
X-Received: by 2002:a17:902:ce86:b0:202:2f24:1445 with SMTP id
 d9443c01a7336-2039e4b65d3mr153798565ad.33.1724813944648; 
 Tue, 27 Aug 2024 19:59:04 -0700 (PDT)
Received: from postal.iol.unh.edu (postal.iol.unh.edu.
 [2606:4100:3880:1234::84]) by smtp-relay.gmail.com with ESMTPS id
 d9443c01a7336-2038557a206sm7009935ad.38.2024.08.27.19.59.04
 (version=TLS1_2 cipher=ECDHE-ECDSA-AES128-GCM-SHA256 bits=128/128);
 Tue, 27 Aug 2024 19:59:04 -0700 (PDT)
X-Relaying-Domain: iol.unh.edu
Date: Tue, 27 Aug 2024 19:59:04 -0700 (PDT)
Message-ID: <66ce9278.170a0220.189627.f3f7SMTPIN_ADDED_MISSING@mx.google.com>
Received: from [172.17.0.5] (unknown [172.18.0.217])
 by postal.iol.unh.edu (Postfix) with ESMTP id B614F605C351;
 Tue, 27 Aug 2024 22:59:03 -0400 (EDT)
Subject: |WARNING| pw143417 [PATCH] net/ice: support for more flexible loadin
From: dpdklab@iol.unh.edu
To: Test Report <test-report@dpdk.org>
Cc: dpdk-test-reports@iol.unh.edu
In-Reply-To: <20240828015758.1047979-1-zhichaox.zeng@intel.com>
References: <20240828015758.1047979-1-zhichaox.zeng@intel.com>
Content-Type: text/plain
X-BeenThere: test-report@dpdk.org
X-Mailman-Version: 2.1.29
Precedence: list
List-Id: automatic DPDK test reports <test-report.dpdk.org>
List-Unsubscribe: <https://mails.dpdk.org/options/test-report>,
 <mailto:test-report-request@dpdk.org?subject=unsubscribe>
List-Archive: <http://mails.dpdk.org/archives/test-report/>
List-Post: <mailto:test-report@dpdk.org>
List-Help: <mailto:test-report-request@dpdk.org?subject=help>
List-Subscribe: <https://mails.dpdk.org/listinfo/test-report>,
 <mailto:test-report-request@dpdk.org?subject=subscribe>
Errors-To: test-report-bounces@dpdk.org

Test-Label: iol-sample-apps-testing
Test-Status: WARNING
http://dpdk.org/patch/143417

_Testing issues_

Submitter: Zhichao Zeng <zhichaox.zeng@intel.com>
Date: Wednesday, August 28 2024 01:57:58 
DPDK git baseline: Repo:dpdk
  Branch: master
  CommitID:0992e39b584cf3f0a7f08c5d72c363ee4018985a

143417 --> testing issues

Upstream job id: Template-DTS-Pipeline#177346

Test environment and result as below:

+--------------------+----------------------+----------------------+
|    Environment     | dpdk_fips_validation | compressdev_zlib_pmd |
+====================+======================+======================+
| Ubuntu 20.04       | WARN                 | SKIPPED              |
+--------------------+----------------------+----------------------+
| Ubuntu 22.04 (ARM) | SKIPPED              | PASS                 |
+--------------------+----------------------+----------------------+
| Ubuntu 22.04       | SKIPPED              | PASS                 |
+--------------------+----------------------+----------------------+

==== 20 line log output for Ubuntu 20.04 (dpdk_fips_validation): ====
|  ^~~~~~~~~~~~~~~~~~~~~~~
cc1: all warnings being treated as errors
[1617/2966] Compiling C object 'drivers/net/ice/6ab06a9@@ice_avx2_lib@sta/ice_rxtx_vec_avx2.c.o'.
[1618/2966] Linking static target drivers/net/ice/libice_avx512_lib.a.
[1619/2966] Generating rte_net_idpf.pmd.c with a custom command.
[1620/2966] Compiling C object 'drivers/net/igc/base/94439f5@@igc_base@sta/igc_mac.c.o'.
[1621/2966] Compiling C object 'drivers/a715181@@tmp_rte_net_igc@sta/net_igc_igc_logs.c.o'.
[1622/2966] Compiling C object 'drivers/a715181@@tmp_rte_net_ice@sta/net_ice_ice_rxtx.c.o'.
[1623/2966] Compiling C object 'drivers/net/igc/base/94439f5@@igc_base@sta/igc_i225.c.o'.
[1624/2966] Compiling C object 'drivers/net/igc/base/94439f5@@igc_base@sta/igc_manage.c.o'.
[1625/2966] Compiling C object 'drivers/net/igc/base/94439f5@@igc_base@sta/igc_osdep.c.o'.
[1626/2966] Compiling C object 'drivers/net/iavf/cd88e11@@iavf_avx512_lib@sta/iavf_rxtx_vec_avx512.c.o'.
[1627/2966] Generating rte_net_i40e.sym_chk with a meson_exe.py custom command.
[1628/2966] Compiling C object 'drivers/net/igc/base/94439f5@@igc_base@sta/igc_nvm.c.o'.
[1629/2966] Compiling C object 'drivers/a715181@@tmp_rte_net_igc@sta/net_igc_igc_filter.c.o'.
[1630/2966] Compiling C object 'drivers/net/igc/base/94439f5@@igc_base@sta/igc_phy.c.o'.
[1631/2966] Generating rte_common_sfc_efx.sym_chk with a meson_exe.py custom command.
[1632/2966] Compiling C object 'drivers/a715181@@tmp_rte_net_igc@sta/net_igc_igc_ethdev.c.o'.
[1633/2966] Generating rte_common_cnxk.sym_chk with a meson_exe.py custom command.
ninja: build stopped: subcommand failed.
==== End log output ====

Ubuntu 20.04
	Kernel: Depends on container host
	Compiler: gcc (Ubuntu 9.4.0-1ubuntu1~20.04.2) 9.4.0

Ubuntu 22.04 (ARM)
	Kernel: 5.15.0-97-generic
	Compiler: gcc gcc (Ubuntu 11.4.0-1ubuntu1~22.04) 11.4.0

Ubuntu 22.04
	Kernel: 5.15.0-100-generic
	Compiler: gcc gcc (Ubuntu 11.4.0-1ubuntu1~22.04) 11.4.0

To view detailed results, visit:
https://lab.dpdk.org/results/dashboard/patchsets/30868/

UNH-IOL DPDK Community Lab

To manage your email subscriptions, visit: 
https://lab.dpdk.org/results/dashboard/preferences/subscriptions/