From mboxrd@z Thu Jan  1 00:00:00 1970
Return-Path: <test-report-bounces@dpdk.org>
Received: from mails.dpdk.org (mails.dpdk.org [217.70.189.124])
	by inbox.dpdk.org (Postfix) with ESMTP id 42F0E45887
	for <public@inbox.dpdk.org>; Wed, 28 Aug 2024 13:04:49 +0200 (CEST)
Received: from mails.dpdk.org (localhost [127.0.0.1])
	by mails.dpdk.org (Postfix) with ESMTP id 3C87041132;
	Wed, 28 Aug 2024 13:04:49 +0200 (CEST)
Received: from mail-qv1-f98.google.com (mail-qv1-f98.google.com
 [209.85.219.98]) by mails.dpdk.org (Postfix) with ESMTP id BD44240150
 for <test-report@dpdk.org>; Wed, 28 Aug 2024 13:04:47 +0200 (CEST)
Received: by mail-qv1-f98.google.com with SMTP id
 6a1803df08f44-6bf705959f1so4582356d6.1
 for <test-report@dpdk.org>; Wed, 28 Aug 2024 04:04:47 -0700 (PDT)
DKIM-Signature: v=1; a=rsa-sha256; c=relaxed/relaxed;
 d=iol.unh.edu; s=unh-iol; t=1724843087; x=1725447887; darn=dpdk.org;
 h=cc:to:from:subject:message-id:date:from:to:cc:subject:date
 :message-id:reply-to;
 bh=Dtl4bCeqI4Y5Br3OtR8b9gOv2KPX45Yu3ReQjbxhpqo=;
 b=NTwvnFMLP0sz4lpZoBzI9d+0eg+EJcIFW5JFUEqLCTQd9vUOd18bnP54robRJUFE0n
 SvOx/qG/PJ5KprXISj5j060W4oKoRmBtyJpfw5Gpwzs3dEo+JN9+3fXov1x702scRWxS
 OqO6VPQQ5LAkzpq8017pD7qJpU4jlGTiqN9pg=
X-Google-DKIM-Signature: v=1; a=rsa-sha256; c=relaxed/relaxed;
 d=1e100.net; s=20230601; t=1724843087; x=1725447887;
 h=cc:to:from:subject:message-id:date:x-gm-message-state:from:to:cc
 :subject:date:message-id:reply-to;
 bh=Dtl4bCeqI4Y5Br3OtR8b9gOv2KPX45Yu3ReQjbxhpqo=;
 b=sVKEMw/IDqMeX6Jy5E1Z9fbsy27FH/83SiKQglViTEmsbMgpywoYwyQMTE1UAI7tO6
 Exoh2mX+wis/6sm3WbrQIn3KM1Jg5YZGEQmM7dgqcydNg2DLoMQMrW53lDp1t/L7xVx6
 sVTWgOG/aapcfQK/IrWJz7npzkMhZG8BpXVjEFGtAhPMrvE/OPQTglDiY9uz3pOyvdIU
 JMPGd7IqfyXV52Vhed8SVKmhVEqDugCGRQ08ENA5ysn4QWpCEQdZRcE5vt6yaLbQaQ0n
 iTkSAubMDflYm8J1A31x/sRTrDsQKZk0wx5EniR6IlFs3zXQSbU5jH1UFVtdcByo6ZzD
 N+LQ==
X-Gm-Message-State: AOJu0Yy6tr8HdRxpbOPU0L/PWjqkvYfcS9CwwB5/vzONuvl9tJ5ejABj
 owzWc2BG6vceVh4XVMHAIl3iL3ed7lG1U37XNQYwxIbW2mZv5+smGv45YA0pLRYgxlbskbRXsiZ
 /ukZ81zRxiF5KMh5BgXPbmB/4eoPJ2bbr83V/O0xq2KjlQOhw
X-Google-Smtp-Source: AGHT+IEOAOGLVnKMOWspOOaTy2MsGnuaufgt4rGYM4MCGgAbcnY3gzS7NpjVrs5OUKvuLcGmT+9w3bgNvZ4J
X-Received: by 2002:a05:6214:b6b:b0:6b5:e761:73ce with SMTP id
 6a1803df08f44-6c335d2889amr28823026d6.16.1724843086996; 
 Wed, 28 Aug 2024 04:04:46 -0700 (PDT)
Received: from postal.iol.unh.edu (postal.iol.unh.edu.
 [2606:4100:3880:1234::84]) by smtp-relay.gmail.com with ESMTPS id
 6a1803df08f44-6c162d314dasm7552966d6.2.2024.08.28.04.04.46
 (version=TLS1_2 cipher=ECDHE-ECDSA-AES128-GCM-SHA256 bits=128/128);
 Wed, 28 Aug 2024 04:04:46 -0700 (PDT)
X-Relaying-Domain: iol.unh.edu
Date: Wed, 28 Aug 2024 04:04:46 -0700 (PDT)
Message-ID: <66cf044e.050a0220.55f00.4adcSMTPIN_ADDED_MISSING@mx.google.com>
Received: from [172.17.0.2] (unknown [172.18.0.214])
 by postal.iol.unh.edu (Postfix) with ESMTP id AD59C6050A6B;
 Wed, 28 Aug 2024 07:04:46 -0400 (EDT)
Subject: |WARNING| [GIT MASTER] ff4d4839f9c2a6d05dca0a25ed6b1549402e1682
From: dpdklab@iol.unh.edu
To: Test Report <test-report@dpdk.org>
Cc: dpdk-test-reports@iol.unh.edu, Xueming Li <xuemingl@nvidia.com>,
 Christian Ehrhardt <christian.ehrhardt@canonical.com>,
 Kevin Traynor <ktraynor@redhat.com>, Luca Boccassi <bluca@debian.org>
Content-Type: text/plain
X-BeenThere: test-report@dpdk.org
X-Mailman-Version: 2.1.29
Precedence: list
List-Id: automatic DPDK test reports <test-report.dpdk.org>
List-Unsubscribe: <https://mails.dpdk.org/options/test-report>,
 <mailto:test-report-request@dpdk.org?subject=unsubscribe>
List-Archive: <http://mails.dpdk.org/archives/test-report/>
List-Post: <mailto:test-report@dpdk.org>
List-Help: <mailto:test-report-request@dpdk.org?subject=help>
List-Subscribe: <https://mails.dpdk.org/listinfo/test-report>,
 <mailto:test-report-request@dpdk.org?subject=subscribe>
Errors-To: test-report-bounces@dpdk.org

_Testing issues_

Branch: tags/v22.11

ff4d4839f9c2a6d05dca0a25ed6b1549402e1682 --> testing issues

Upstream job id: Generic-Unit-Test-DPDK#256087

Test environment and result as below:

+---------------------+----------------+
|     Environment     | dpdk_unit_test |
+=====================+================+
| Debian 12           | PASS           |
+---------------------+----------------+
| Fedora 38           | PASS           |
+---------------------+----------------+
| Fedora 39 (Clang)   | PASS           |
+---------------------+----------------+
| CentOS Stream 9     | PASS           |
+---------------------+----------------+
| Debian Bullseye     | PASS           |
+---------------------+----------------+
| Fedora 37           | PASS           |
+---------------------+----------------+
| Fedora 38 (Clang)   | WARN           |
+---------------------+----------------+
| Fedora 39           | PASS           |
+---------------------+----------------+
| Ubuntu 22.04        | PASS           |
+---------------------+----------------+
| Fedora 40 (Clang)   | PASS           |
+---------------------+----------------+
| Fedora 40           | PASS           |
+---------------------+----------------+
| RHEL9               | PASS           |
+---------------------+----------------+
| RHEL8               | PASS           |
+---------------------+----------------+
| Ubuntu 24.04        | PASS           |
+---------------------+----------------+
| Ubuntu 20.04        | PASS           |
+---------------------+----------------+
| RHEL 7              | WARN           |
+---------------------+----------------+
| Windows Server 2022 | PASS           |
+---------------------+----------------+

==== 20 line log output for RHEL 7 (dpdk_unit_test): ====
../drivers/crypto/openssl/rte_openssl_pmd.c:897:2: error: 'for' loop initial declarations are only allowed in C99 mode
for (uint16_t i = 0; i < sess->ctx_copies_len; i++) {
^
../drivers/crypto/openssl/rte_openssl_pmd.c:897:2: note: use option -std=c99 or -std=gnu99 to compile your code
../drivers/crypto/openssl/rte_openssl_pmd.c: In function 'get_local_auth_ctx':
../drivers/crypto/openssl/rte_openssl_pmd.c:1667:3: error: implicit declaration of function 'EVP_MD_CTX_new' [-Werror=implicit-function-declaration]
*lctx = EVP_MD_CTX_new();
^
../drivers/crypto/openssl/rte_openssl_pmd.c:1667:3: error: nested extern declaration of 'EVP_MD_CTX_new' [-Werror=nested-externs]
../drivers/crypto/openssl/rte_openssl_pmd.c:1667:9: error: assignment makes pointer from integer without a cast [-Werror]
*lctx = EVP_MD_CTX_new();
^
../drivers/crypto/openssl/rte_openssl_pmd.c: At top level:
../drivers/crypto/openssl/rte_openssl_pmd.c:34:13: error: 'HMAC_CTX_free' defined but not used [-Werror=unused-function]
static void HMAC_CTX_free(HMAC_CTX *ctx)
^
cc1: all warnings being treated as errors
[2471/3479] Generating symbol file 'drivers/a715181@@rte_crypto_dpaa2_sec@sha/librte_crypto_dpaa2_sec.so.23.0.symbols'.
[2472/3479] Compiling C object 'drivers/a715181@@tmp_rte_crypto_octeontx@sta/crypto_octeontx_otx_cryptodev_ops.c.o'.
ninja: build stopped: subcommand failed.
==== End log output ====

Debian 12
	Kernel: Depends on container host
	Compiler: gcc (Debian 12.2.0-14) 12.2.0

Fedora 38
	Kernel: Depends on container host
	Compiler: gcc 13.2.1 20240316 (Red Hat 13.2.1-7)

Fedora 39 (Clang)
	Kernel: Depends on container host
	Compiler: clang 17.0.6 (Fedora 17.0.6-2.fc39)

CentOS Stream 9
	Kernel: Depends on container host
	Compiler: gcc 11.4.1 20231218 (Red Hat 11.4.1-3)

Debian Bullseye
	Kernel: Depends on container host
	Compiler: gcc (Debian 10.2.1-6) 10.2.1 20210110

Fedora 37
	Kernel: Depends on container host system
	Compiler: gcc 12.3.1 20230508 (Red Hat 12.3.1-1)

Fedora 38 (Clang)
	Kernel: Depends on container host
	Compiler: clang 16.0.6 (Fedora 16.0.6-4.fc38)

Fedora 39
	Kernel: Depends on container host
	Compiler: gcc 13.3.1 20240522 (Red Hat 13.3.1-1)

Ubuntu 22.04
	Kernel: Depends on container host
	Compiler: gcc (Ubuntu 11.4.0-1ubuntu1~22.04) 11.4.0

Fedora 40 (Clang)
	Kernel: Depends on container host
	Compiler: clang 18.1.6 (Fedora 18.1.6-3.fc40)

Fedora 40
	Kernel: Depends on container host
	Compiler: gcc 14.2.1 20240801 (Red Hat 14.2.1-1)

RHEL9
	Kernel: Depends on container host
	Compiler: gcc 11.4.1 20231218 (Red Hat 11.4.1-3)

RHEL8
	Kernel: Depends on container host
	Compiler: gcc 8.5.0 20210514 (Red Hat 8.5.0-22)

Ubuntu 24.04
	Kernel: Depends on container host
	Compiler: gcc (Ubuntu 13.2.0-23ubuntu4) 13.2.0

Ubuntu 20.04
	Kernel: Depends on container host
	Compiler: gcc (Ubuntu 9.4.0-1ubuntu1~20.04.2) 9.4.0

RHEL 7
	Kernel: Depends on container host
	Compiler: gcc 4.8.5 20150623 (Red Hat 4.8.5-44)

Windows Server 2022
	Kernel: 10.0.20348.2031
	Compiler: clang 15.0.7, gcc 14.1.0 (MinGW), and MSVC VS 19.39.33521

To view detailed results, visit:
https://lab.dpdk.org/results/dashboard/tarballs/30378/

UNH-IOL DPDK Community Lab

To manage your email subscriptions, visit: 
https://lab.dpdk.org/results/dashboard/preferences/subscriptions/