From mboxrd@z Thu Jan 1 00:00:00 1970 Return-Path: Received: from mails.dpdk.org (mails.dpdk.org [217.70.189.124]) by inbox.dpdk.org (Postfix) with ESMTP id E369145887 for ; Wed, 28 Aug 2024 13:22:56 +0200 (CEST) Received: from mails.dpdk.org (localhost [127.0.0.1]) by mails.dpdk.org (Postfix) with ESMTP id 9AC5642759; Wed, 28 Aug 2024 13:22:56 +0200 (CEST) Received: from mail-oo1-f97.google.com (mail-oo1-f97.google.com [209.85.161.97]) by mails.dpdk.org (Postfix) with ESMTP id 76E5A402CA for ; Wed, 28 Aug 2024 13:22:50 +0200 (CEST) Received: by mail-oo1-f97.google.com with SMTP id 006d021491bc7-5dca9cc71b2so4482117eaf.2 for ; Wed, 28 Aug 2024 04:22:50 -0700 (PDT) DKIM-Signature: v=1; a=rsa-sha256; c=relaxed/relaxed; d=iol.unh.edu; s=unh-iol; t=1724844169; x=1725448969; darn=dpdk.org; h=references:in-reply-to:cc:to:from:subject:message-id:date:from:to :cc:subject:date:message-id:reply-to; bh=hQIUycHbqB2TJc8b7imbh0UAxBlz/NlEy+SdAjOk87U=; b=MhAd3poUYOSS7FOLSbyWBWaMW9fvj3LL9SIa6Tde5kuQ9kFZUCAB3Sj6xW1yyO9fwP zCGec7s2hafmqeBoISMOLK0BALm+GQHYeofUahhYFX8gULvkvD5k21+ersfmClqTaLs+ L4rbS0bzFV2wf+laFe6cY3oclw6CJWUdSFXcM= X-Google-DKIM-Signature: v=1; a=rsa-sha256; c=relaxed/relaxed; d=1e100.net; s=20230601; t=1724844169; x=1725448969; h=references:in-reply-to:cc:to:from:subject:message-id:date :x-gm-message-state:from:to:cc:subject:date:message-id:reply-to; bh=hQIUycHbqB2TJc8b7imbh0UAxBlz/NlEy+SdAjOk87U=; b=Dz57CU71mGuOgE+A51Kv7GdmqbobY+7p4fghK7OpBSxxUAff7P2d5FWnweQRGp7Xy/ soX09h8YEZAxHSfpJf6yWLqP2uuQqXc8Q0PHnUOPttT2htwSyqCGUu2xBaUJqXYUn0En u8VUpZP4Xj3VLXUbd/IZaAJsJbSCwWE/yEkAWoqRApc13WpZ5xipdDyZDOqxcPykFOPT k1SAm0/S+RcmhN/iaUHniUo3MrbfzQqG0ag69Lfd/4DpVfLJ743cQMOMYVNfMInaPCiy WGtNMGchnPxfcMztcAUrF88nUEb0rhBaB8ZUpEz9kDqC4iVpkgJrW3rcMPLXt0q/6QVT Gf6w== X-Gm-Message-State: AOJu0YyCc9MVCS+XuO6CoYodBT1BJ3Y7d1fcxtm7SmRP1KaktRL8gm+p DVnapfbcnZVPET9AlBuK6v7RuLjpWHOwxWPdfs3IMbQ/0l/cGSZ6fvLMGDN+JEMlsVt7Oux2Jem 4HZctO0IxdL5srT1j/hj5AoYKZb6Sa+34czd4O0+6kJkhZh6nm/FDh4ok X-Google-Smtp-Source: AGHT+IGD3hzgZG0BmCJ3i+JUFfR/ceaDpBrWwi7V3D9D0/aQO351ieVtfUoQg9kENRnVwSVgHmoKQs0mLpHe X-Received: by 2002:a05:6820:1b93:b0:5da:9204:6733 with SMTP id 006d021491bc7-5dcc6214954mr18426372eaf.3.1724844169693; Wed, 28 Aug 2024 04:22:49 -0700 (PDT) Received: from postal.iol.unh.edu (postal.iol.unh.edu. [2606:4100:3880:1234::84]) by smtp-relay.gmail.com with ESMTPS id 006d021491bc7-5dcb5e418e0sm324863eaf.22.2024.08.28.04.22.49 (version=TLS1_2 cipher=ECDHE-ECDSA-AES128-GCM-SHA256 bits=128/128); Wed, 28 Aug 2024 04:22:49 -0700 (PDT) X-Relaying-Domain: iol.unh.edu Date: Wed, 28 Aug 2024 04:22:49 -0700 (PDT) Message-ID: <66cf0889.050a0220.415ab.f030SMTPIN_ADDED_MISSING@mx.google.com> Received: from [172.17.0.2] (unknown [172.18.0.217]) by postal.iol.unh.edu (Postfix) with ESMTP id 267076050A6F; Wed, 28 Aug 2024 07:22:49 -0400 (EDT) Subject: |SUCCESS| pw143418 [PATCH] net/ice: support for more flexible loadin From: dpdklab@iol.unh.edu To: Test Report Cc: dpdk-test-reports@iol.unh.edu In-Reply-To: <20240828035335.1069153-1-zhichaox.zeng@intel.com> References: <20240828035335.1069153-1-zhichaox.zeng@intel.com> Content-Type: text/plain X-BeenThere: test-report@dpdk.org X-Mailman-Version: 2.1.29 Precedence: list List-Id: automatic DPDK test reports List-Unsubscribe: , List-Archive: List-Post: List-Help: List-Subscribe: , Errors-To: test-report-bounces@dpdk.org Test-Label: iol-compile-amd64-testing Test-Status: SUCCESS http://dpdk.org/patch/143418 _Testing PASS_ Submitter: Zeng, ZhichaoX Date: Wednesday, August 28 2024 03:53:35 DPDK git baseline: Repo:dpdk Branch: master CommitID:0992e39b584cf3f0a7f08c5d72c363ee4018985a 143418 --> testing pass Upstream job id: Generic-VM-DPDK-Compile-Meson#29002 Test environment and result as below: +---------------------+----------------------+-----------------------+-------------------+--------------------+ | Environment | dpdk_mingw64_compile | dpdk_win_llvm_compile | dpdk_msvc_compile | dpdk_meson_compile | +=====================+======================+=======================+===================+====================+ | Windows Server 2022 | PASS | PASS | PASS | SKIPPED | +---------------------+----------------------+-----------------------+-------------------+--------------------+ | FreeBSD 13.3 | SKIPPED | SKIPPED | SKIPPED | PASS | +---------------------+----------------------+-----------------------+-------------------+--------------------+ | FreeBSD 14.1 | SKIPPED | SKIPPED | SKIPPED | PASS | +---------------------+----------------------+-----------------------+-------------------+--------------------+ Windows Server 2022 Kernel: 10.0.20348.2031 Compiler: clang 15.0.7, gcc 14.1.0 (MinGW), and MSVC VS 19.39.33521 FreeBSD 13.3 Kernel: 13.3-RELEASE-p5 Compiler: clang 17.0.6 FreeBSD 14.1 Kernel: 14.1-RELEASE-p3 Compiler: clang 18.1.5 To view detailed results, visit: https://lab.dpdk.org/results/dashboard/patchsets/30869/ UNH-IOL DPDK Community Lab To manage your email subscriptions, visit: https://lab.dpdk.org/results/dashboard/preferences/subscriptions/