From mboxrd@z Thu Jan  1 00:00:00 1970
Return-Path: <test-report-bounces@dpdk.org>
Received: from mails.dpdk.org (mails.dpdk.org [217.70.189.124])
	by inbox.dpdk.org (Postfix) with ESMTP id 343F245899
	for <public@inbox.dpdk.org>; Thu, 29 Aug 2024 16:44:00 +0200 (CEST)
Received: from mails.dpdk.org (localhost [127.0.0.1])
	by mails.dpdk.org (Postfix) with ESMTP id 29C7B40279;
	Thu, 29 Aug 2024 16:44:00 +0200 (CEST)
Received: from mail-qt1-f225.google.com (mail-qt1-f225.google.com
 [209.85.160.225])
 by mails.dpdk.org (Postfix) with ESMTP id 4B5024026A
 for <test-report@dpdk.org>; Thu, 29 Aug 2024 16:43:59 +0200 (CEST)
Received: by mail-qt1-f225.google.com with SMTP id
 d75a77b69052e-45685a3b1d8so3947741cf.1
 for <test-report@dpdk.org>; Thu, 29 Aug 2024 07:43:59 -0700 (PDT)
DKIM-Signature: v=1; a=rsa-sha256; c=relaxed/relaxed;
 d=iol.unh.edu; s=unh-iol; t=1724942638; x=1725547438; darn=dpdk.org;
 h=references:in-reply-to:cc:to:from:subject:message-id:date:from:to
 :cc:subject:date:message-id:reply-to;
 bh=X57y3wQ47HsLFNfBbkGC0cVtZUGqZ5/XutEeHN4W+OY=;
 b=KURmHGid/tubFL0t6MZgkXbIdqitBeQsQTyMn1CxufTwoWSb8lqNvb6q4EmTOSaw8D
 QhMukXukHH/bZtZ2yaRPLYCiWw9uQDSv/kChtik3yvAtnMHWI88bJKqBHEXYkp7TE2CO
 pvD5/58dFO0AfPIn9ANVi7sdyEwZi3nFD1TgE=
X-Google-DKIM-Signature: v=1; a=rsa-sha256; c=relaxed/relaxed;
 d=1e100.net; s=20230601; t=1724942638; x=1725547438;
 h=references:in-reply-to:cc:to:from:subject:message-id:date
 :x-gm-message-state:from:to:cc:subject:date:message-id:reply-to;
 bh=X57y3wQ47HsLFNfBbkGC0cVtZUGqZ5/XutEeHN4W+OY=;
 b=uiiPVq0QLRv5unwygim194oH4t4Gs9N89hWCmwFlwQpTLV/77pA1wKdWH4qG1JIeEd
 5pmoGQIxKo85oOanJTS29Xv/zw08sctGA18n3OwI90xzasaUaxcQNsgPQ7vn2reR7pvo
 1IO/CIWnbYvPBPVnVQLl7jKjMAwCiSRONc2gwo03+XXYOkgyhHzzN9zsoOiTKnN8P+cI
 a+mu89qc2UvPjZua18w19bli8Hdr9PxTDjCW5TvwP+5KeReM/Bh/EkD9MPk/ViBLAguv
 C8EZRKQVLcNZcok0/1iNcIX6Cuy1vI0E/QQJnov0TsdJdYYHq1mwYZBCRkZZSL1AI2lm
 3uOg==
X-Gm-Message-State: AOJu0YzhUi0GrqqFsLFuBmTKAfq4Exi9jC94WAUIialjB0QXisd7kFKq
 LsL4uxfLO6ULeiUbXxgYWV20rcWLtlAuS6p+ZfVqLwiAxMu3K21u9NnG734fXyiry1xyXuycw/T
 q6RlU0Bw3jYrRzJqlQMDY73FIYthkcuGfE2ccX1xH
X-Google-Smtp-Source: AGHT+IHYaIUJ47sm7iSQ+DawKPJ/HnonQCBt/eD6JkH4k45l/mADCiVPEfeqF2OA7hCF/PPu14ANgTWi7r9t
X-Received: by 2002:a6b:4e12:0:b0:806:3dac:5081 with SMTP id
 ca18e2360f4ac-82a13ec7088mr162550239f.7.1724942284067; 
 Thu, 29 Aug 2024 07:38:04 -0700 (PDT)
Received: from postal.iol.unh.edu (postal.iol.unh.edu. [132.177.123.84])
 by smtp-relay.gmail.com with ESMTPS id
 8926c6da1cb9f-4ced2de5e01sm54886173.22.2024.08.29.07.38.03
 (version=TLS1_2 cipher=ECDHE-ECDSA-AES128-GCM-SHA256 bits=128/128);
 Thu, 29 Aug 2024 07:38:04 -0700 (PDT)
X-Relaying-Domain: iol.unh.edu
Date: Thu, 29 Aug 2024 07:38:04 -0700 (PDT)
Message-ID: <66d087cc.020a0220.8d99a.409fSMTPIN_ADDED_MISSING@mx.google.com>
Received: from [172.17.0.2] (unknown [172.18.0.217])
 by postal.iol.unh.edu (Postfix) with ESMTP id 6A72B6050A6B;
 Thu, 29 Aug 2024 10:38:03 -0400 (EDT)
Subject: |SUCCESS| pw143425 [PATCH] [v2] bus/pci: don't open uio device in se
From: dpdklab@iol.unh.edu
To: Test Report <test-report@dpdk.org>
Cc: dpdk-test-reports@iol.unh.edu
In-Reply-To: <20240829085724.270041-1-konrad.sztyber@intel.com>
References: <20240829085724.270041-1-konrad.sztyber@intel.com>
Content-Type: text/plain
X-BeenThere: test-report@dpdk.org
X-Mailman-Version: 2.1.29
Precedence: list
List-Id: automatic DPDK test reports <test-report.dpdk.org>
List-Unsubscribe: <https://mails.dpdk.org/options/test-report>,
 <mailto:test-report-request@dpdk.org?subject=unsubscribe>
List-Archive: <http://mails.dpdk.org/archives/test-report/>
List-Post: <mailto:test-report@dpdk.org>
List-Help: <mailto:test-report-request@dpdk.org?subject=help>
List-Subscribe: <https://mails.dpdk.org/listinfo/test-report>,
 <mailto:test-report-request@dpdk.org?subject=subscribe>
Errors-To: test-report-bounces@dpdk.org

Test-Label: iol-compile-arm64-testing
Test-Status: SUCCESS
http://dpdk.org/patch/143425

_Testing PASS_

Submitter: Konrad Sztyber <konrad.sztyber@intel.com>
Date: Thursday, August 29 2024 08:57:24 
DPDK git baseline: Repo:dpdk
  Branch: master
  CommitID:cb9187bc5c2b4bab0ad80194ac3b60491de14e8c

143425 --> testing pass

Upstream job id: Generic-DPDK-Compile-Meson#293463

Test environment and result as below:

+----------------------------------------+--------------------+
|              Environment               | dpdk_meson_compile |
+========================================+====================+
| Ubuntu 20.04 ARM GCC Cross Compile     | PASS               |
+----------------------------------------+--------------------+
| Ubuntu 20.04 ARM SVE                   | PASS               |
+----------------------------------------+--------------------+
| Debian 12 with MUSDK                   | PASS               |
+----------------------------------------+--------------------+
| Fedora 37 (ARM)                        | PASS               |
+----------------------------------------+--------------------+
| Fedora 38 (ARM)                        | PASS               |
+----------------------------------------+--------------------+
| Fedora 39 (ARM)                        | PASS               |
+----------------------------------------+--------------------+
| Fedora 40 (ARM)                        | PASS               |
+----------------------------------------+--------------------+
| Fedora 40 (ARM Clang)                  | PASS               |
+----------------------------------------+--------------------+
| Ubuntu 20.04 (ARM)                     | PASS               |
+----------------------------------------+--------------------+
| Ubuntu 22.04 (ARM)                     | PASS               |
+----------------------------------------+--------------------+
| Ubuntu 24.04 (ARM)                     | PASS               |
+----------------------------------------+--------------------+
| CentOS Stream 9 (ARM)                  | PASS               |
+----------------------------------------+--------------------+
| Debian 11 (Buster) (ARM)               | PASS               |
+----------------------------------------+--------------------+
| Debian 12 (arm)                        | PASS               |
+----------------------------------------+--------------------+
| Ubuntu 20.04 ARM Clang Cross Compile   | PASS               |
+----------------------------------------+--------------------+
| Ubuntu 20.04 aarch32 GCC Cross Compile | PASS               |
+----------------------------------------+--------------------+
| RHEL9 (ARM)                            | PASS               |
+----------------------------------------+--------------------+
| Fedora 38 (ARM Clang)                  | PASS               |
+----------------------------------------+--------------------+
| Fedora 39 (ARM Clang)                  | PASS               |
+----------------------------------------+--------------------+


Ubuntu 20.04 ARM GCC Cross Compile
	Kernel: Depends on container host
	Compiler: aarch64-linux-gnu-gcc (Ubuntu 9.4.0-1ubuntu1~20.04.2) 9.4.0

Ubuntu 20.04 ARM SVE
	Kernel: Depends on container host
	Compiler: gcc (Ubuntu 10.5.0-1ubuntu1~20.04) 10.5.0

Debian 12 with MUSDK
	Kernel: Depends on container host
	Compiler: gcc (Debian 12.2.0-14) 12.2.0

Fedora 37 (ARM)
	Kernel: Depends on container host
	Compiler: gcc 12.3.1 20230508 (Red Hat 12.3.1-1)

Fedora 38 (ARM)
	Kernel: Depends on container host
	Compiler: gcc 13.2.1 20240316 (Red Hat 13.2.1-7)

Fedora 39 (ARM)
	Kernel: Depends on container host
	Compiler: gcc 13.3.1 20240522 (Red Hat 13.3.1-1)

Fedora 40 (ARM)
	Kernel: Depends on container host
	Compiler: gcc 14.2.1 20240801 (Red Hat 14.2.1-1)

Fedora 40 (ARM Clang)
	Kernel: Depends on container host
	Compiler: clang 18.1.6 (Fedora 18.1.6-3.fc40)

Ubuntu 20.04 (ARM)
	Kernel: Depends on container host
	Compiler: gcc (Ubuntu 9.4.0-1ubuntu1~20.04.2) 9.4.0

Ubuntu 22.04 (ARM)
	Kernel: Depends on container host
	Compiler: gcc (Ubuntu 11.4.0-1ubuntu1~22.04) 11.4.0

Ubuntu 24.04 (ARM)
	Kernel: Depends on container host
	Compiler: gcc (Ubuntu 13.2.0-23ubuntu4) 13.2.0

CentOS Stream 9 (ARM)
	Kernel: Depends on container host
	Compiler: gcc 11.4.1 20231218 (Red Hat 11.4.1-3)

Debian 11 (Buster) (ARM)
	Kernel: Depends on container host
	Compiler: gcc (Debian 10.2.1-6) 10.2.1 20210110

Debian 12 (arm)
	Kernel: Depends on container host
	Compiler: gcc (Debian 12.2.0-14) 12.2.0

Ubuntu 20.04 ARM Clang Cross Compile
	Kernel: Depends on container host
	Compiler: clang 10.0.0-4ubuntu1

Ubuntu 20.04 aarch32 GCC Cross Compile
	Kernel: Depends on container host
	Compiler: gcc 9.4.0

RHEL9 (ARM)
	Kernel: Depends on container host
	Compiler: gcc 11.4.1 20231218 (Red Hat 11.4.1-3)

Fedora 38 (ARM Clang)
	Kernel: Depends on container host
	Compiler: clang 16.0.6 (Fedora 16.0.6-4.fc38)

Fedora 39 (ARM Clang)
	Kernel: Depends on container host
	Compiler: clang 17.0.6 (Fedora 17.0.6-2.fc39)

To view detailed results, visit:
https://lab.dpdk.org/results/dashboard/patchsets/30875/

UNH-IOL DPDK Community Lab

To manage your email subscriptions, visit: 
https://lab.dpdk.org/results/dashboard/preferences/subscriptions/