From mboxrd@z Thu Jan  1 00:00:00 1970
Return-Path: <test-report-bounces@dpdk.org>
Received: from mails.dpdk.org (mails.dpdk.org [217.70.189.124])
	by inbox.dpdk.org (Postfix) with ESMTP id 91A2C4589B
	for <public@inbox.dpdk.org>; Thu, 29 Aug 2024 21:16:03 +0200 (CEST)
Received: from mails.dpdk.org (localhost [127.0.0.1])
	by mails.dpdk.org (Postfix) with ESMTP id 8C449402A5;
	Thu, 29 Aug 2024 21:16:03 +0200 (CEST)
Received: from mail-oo1-f100.google.com (mail-oo1-f100.google.com
 [209.85.161.100])
 by mails.dpdk.org (Postfix) with ESMTP id 0B3374028A
 for <test-report@dpdk.org>; Thu, 29 Aug 2024 21:16:02 +0200 (CEST)
Received: by mail-oo1-f100.google.com with SMTP id
 006d021491bc7-5d5eec95a74so621093eaf.1
 for <test-report@dpdk.org>; Thu, 29 Aug 2024 12:16:01 -0700 (PDT)
DKIM-Signature: v=1; a=rsa-sha256; c=relaxed/relaxed;
 d=iol.unh.edu; s=unh-iol; t=1724958961; x=1725563761; darn=dpdk.org;
 h=references:in-reply-to:cc:to:from:subject:message-id:date:from:to
 :cc:subject:date:message-id:reply-to;
 bh=sxgp6cfpBNAPsQwVx5+cE1Q3Y1g22azlSHV4AeCdNC8=;
 b=AJVMFb8AAk6kPGgqb8Zt/1iqS8gKQFjaMu/jZCIwnVjX04G8N4un/mM1OpdsX5hycZ
 L8yBYhtDDVYkRQwIJG6fG5opDASe+EWH54YnBVTEvJeWTYoqT35vJfchawhtfZ4gsSa7
 ii3SaLtGIVoviXeyus4KoqcnzrhYO/KQVCmOQ=
X-Google-DKIM-Signature: v=1; a=rsa-sha256; c=relaxed/relaxed;
 d=1e100.net; s=20230601; t=1724958961; x=1725563761;
 h=references:in-reply-to:cc:to:from:subject:message-id:date
 :x-gm-message-state:from:to:cc:subject:date:message-id:reply-to;
 bh=sxgp6cfpBNAPsQwVx5+cE1Q3Y1g22azlSHV4AeCdNC8=;
 b=gi8ir0xNbWF5QenIMaCy2coTNMyjyRuNPhtyyfsffyvR5GeXhEv03nSXObmHSwzmka
 WO4gzuT1mcKQe7Qk1bkl60kW43WiuvonSBDLN/1+syfMo5Qm66uWlvd6KP05vbRlmK43
 vfdHcYKUPYJ7kW1tUx4wX1PsS+tiHbXRXJKWr1zyRP/tkIwazC5obRulSP0wQvKv4gjv
 Kl96DDXBj64gQ64Ii57Y2Y+lK0zDowWw30dNzfslaxlOG+wya+GFJ0UHluRr8BbPTb09
 L3uRBMInBOMrxHBAMpc4cj50Rm6JGVg77ZbW050Pz53O1iwQBsbQ2GjHm9/JqC6EYCO9
 AoIA==
X-Gm-Message-State: AOJu0YyaMCkSZcxPGfJakA8HUTXVmM6fKMbdkb4/hDnrxKn2FX62sfmH
 s0JDCuni3foSqMg2PWx3X7Ci+TtAH2tFvdSY7wfquqEZqYhR59wf5II5xChEmerWlhODeKbEWOW
 4WubwlMq1osapKZ55tmVaH7bnl0Ozj6bVYsHaGUBFJ6SYauLVE88wgVD+
X-Google-Smtp-Source: AGHT+IH9T/inH0I+FO4Aj4R2d/J24Mcp77ZXOlpjrLkTN7bkR5H1FUZbZ4DTBU4xDqwA98g7ubu2oFHrZZxg
X-Received: by 2002:a05:6820:150f:b0:5c4:7b18:b8eb with SMTP id
 006d021491bc7-5df97eb0c15mr5454499eaf.2.1724958961139; 
 Thu, 29 Aug 2024 12:16:01 -0700 (PDT)
Received: from postal.iol.unh.edu (postal.iol.unh.edu.
 [2606:4100:3880:1234::84]) by smtp-relay.gmail.com with ESMTPS id
 006d021491bc7-5dfa04b7583sm99591eaf.6.2024.08.29.12.16.01
 (version=TLS1_2 cipher=ECDHE-ECDSA-AES128-GCM-SHA256 bits=128/128);
 Thu, 29 Aug 2024 12:16:01 -0700 (PDT)
X-Relaying-Domain: iol.unh.edu
Date: Thu, 29 Aug 2024 12:16:01 -0700 (PDT)
Message-ID: <66d0c8f1.4a0a0220.4dfa3.77d2SMTPIN_ADDED_MISSING@mx.google.com>
Received: from [172.17.0.3] (unknown [172.18.0.217])
 by postal.iol.unh.edu (Postfix) with ESMTP id 7C8B5605C351;
 Thu, 29 Aug 2024 15:16:00 -0400 (EDT)
Subject: |SUCCESS| pw143443-143445 [PATCH] [v9,3/3] event/dsw: add capability
From: dpdklab@iol.unh.edu
To: Test Report <test-report@dpdk.org>
Cc: dpdk-test-reports@iol.unh.edu
In-Reply-To: <20240829173654.1996201-4-abdullah.sevincer@intel.com>
References: <20240829173654.1996201-4-abdullah.sevincer@intel.com>
Content-Type: text/plain
X-BeenThere: test-report@dpdk.org
X-Mailman-Version: 2.1.29
Precedence: list
List-Id: automatic DPDK test reports <test-report.dpdk.org>
List-Unsubscribe: <https://mails.dpdk.org/options/test-report>,
 <mailto:test-report-request@dpdk.org?subject=unsubscribe>
List-Archive: <http://mails.dpdk.org/archives/test-report/>
List-Post: <mailto:test-report@dpdk.org>
List-Help: <mailto:test-report-request@dpdk.org?subject=help>
List-Subscribe: <https://mails.dpdk.org/listinfo/test-report>,
 <mailto:test-report-request@dpdk.org?subject=subscribe>
Errors-To: test-report-bounces@dpdk.org

Test-Label: iol-unit-amd64-testing
Test-Status: SUCCESS
http://dpdk.org/patch/143445

_Testing PASS_

Submitter: Abdullah Sevincer <abdullah.sevincer@intel.com>
Date: Thursday, August 29 2024 17:36:54 
DPDK git baseline: Repo:dpdk
  Branch: master
  CommitID:cb9187bc5c2b4bab0ad80194ac3b60491de14e8c

143443-143445 --> testing pass

Upstream job id: Generic-Unit-Test-DPDK#256457

Test environment and result as below:

+---------------------+----------------+
|     Environment     | dpdk_unit_test |
+=====================+================+
| CentOS Stream 9     | PASS           |
+---------------------+----------------+
| Debian Bullseye     | PASS           |
+---------------------+----------------+
| Fedora 38           | PASS           |
+---------------------+----------------+
| Fedora 37           | PASS           |
+---------------------+----------------+
| Fedora 38 (Clang)   | PASS           |
+---------------------+----------------+
| Fedora 39           | PASS           |
+---------------------+----------------+
| Fedora 39 (Clang)   | PASS           |
+---------------------+----------------+
| Fedora 40           | PASS           |
+---------------------+----------------+
| RHEL9               | PASS           |
+---------------------+----------------+
| Ubuntu 20.04        | PASS           |
+---------------------+----------------+
| Windows Server 2022 | PASS           |
+---------------------+----------------+
| Ubuntu 22.04        | PASS           |
+---------------------+----------------+
| Fedora 40 (Clang)   | PASS           |
+---------------------+----------------+
| Ubuntu 24.04        | PASS           |
+---------------------+----------------+
| RHEL8               | PASS           |
+---------------------+----------------+
| Debian 12           | PASS           |
+---------------------+----------------+


CentOS Stream 9
	Kernel: Depends on container host
	Compiler: gcc 11.4.1 20231218 (Red Hat 11.4.1-3)

Debian Bullseye
	Kernel: Depends on container host
	Compiler: gcc (Debian 10.2.1-6) 10.2.1 20210110

Fedora 38
	Kernel: Depends on container host
	Compiler: gcc 13.2.1 20240316 (Red Hat 13.2.1-7)

Fedora 37
	Kernel: Depends on container host system
	Compiler: gcc 12.3.1 20230508 (Red Hat 12.3.1-1)

Fedora 38 (Clang)
	Kernel: Depends on container host
	Compiler: clang 16.0.6 (Fedora 16.0.6-4.fc38)

Fedora 39
	Kernel: Depends on container host
	Compiler: gcc 13.3.1 20240522 (Red Hat 13.3.1-1)

Fedora 39 (Clang)
	Kernel: Depends on container host
	Compiler: clang 17.0.6 (Fedora 17.0.6-2.fc39)

Fedora 40
	Kernel: Depends on container host
	Compiler: gcc 14.2.1 20240801 (Red Hat 14.2.1-1)

RHEL9
	Kernel: Depends on container host
	Compiler: gcc 11.4.1 20231218 (Red Hat 11.4.1-3)

Ubuntu 20.04
	Kernel: Depends on container host
	Compiler: gcc (Ubuntu 9.4.0-1ubuntu1~20.04.2) 9.4.0

Windows Server 2022
	Kernel: 10.0.20348.2031
	Compiler: clang 15.0.7, gcc 14.1.0 (MinGW), and MSVC VS 19.39.33521

Ubuntu 22.04
	Kernel: Depends on container host
	Compiler: gcc (Ubuntu 11.4.0-1ubuntu1~22.04) 11.4.0

Fedora 40 (Clang)
	Kernel: Depends on container host
	Compiler: clang 18.1.6 (Fedora 18.1.6-3.fc40)

Ubuntu 24.04
	Kernel: Depends on container host
	Compiler: gcc (Ubuntu 13.2.0-23ubuntu4) 13.2.0

RHEL8
	Kernel: Depends on container host
	Compiler: gcc 8.5.0 20210514 (Red Hat 8.5.0-22)

Debian 12
	Kernel: Depends on container host
	Compiler: gcc (Debian 12.2.0-14) 12.2.0

To view detailed results, visit:
https://lab.dpdk.org/results/dashboard/patchsets/30879/

UNH-IOL DPDK Community Lab

To manage your email subscriptions, visit: 
https://lab.dpdk.org/results/dashboard/preferences/subscriptions/