From mboxrd@z Thu Jan  1 00:00:00 1970
Return-Path: <test-report-bounces@dpdk.org>
Received: from mails.dpdk.org (mails.dpdk.org [217.70.189.124])
	by inbox.dpdk.org (Postfix) with ESMTP id 9658E4589C
	for <public@inbox.dpdk.org>; Fri, 30 Aug 2024 00:54:30 +0200 (CEST)
Received: from mails.dpdk.org (localhost [127.0.0.1])
	by mails.dpdk.org (Postfix) with ESMTP id 78D5640268;
	Fri, 30 Aug 2024 00:54:30 +0200 (CEST)
Received: from mail-io1-f98.google.com (mail-io1-f98.google.com
 [209.85.166.98]) by mails.dpdk.org (Postfix) with ESMTP id 7F32840144
 for <test-report@dpdk.org>; Fri, 30 Aug 2024 00:54:28 +0200 (CEST)
Received: by mail-io1-f98.google.com with SMTP id
 ca18e2360f4ac-82a24dec9cbso11795539f.1
 for <test-report@dpdk.org>; Thu, 29 Aug 2024 15:54:28 -0700 (PDT)
DKIM-Signature: v=1; a=rsa-sha256; c=relaxed/relaxed;
 d=iol.unh.edu; s=unh-iol; t=1724972068; x=1725576868; darn=dpdk.org;
 h=references:in-reply-to:cc:to:from:subject:message-id:date:from:to
 :cc:subject:date:message-id:reply-to;
 bh=Kb5sdEmLmI7roBsAnTuNcMgjWreTOR4V8Lh2w3sx8b0=;
 b=e+RM24axLpmtg+Kqgm3W1veZHJr05Sl+ptyJ5pE5cvkuRB9W/cwK811q2D5PBVkJMf
 Ci/RRE3Xf/PNOckYJQMV59ejmrv2TCv0D3d0Ot9ijpjpu2y+rp+f8MrBBUUZIBizZf5h
 whLZ+3BBKiiw12UDo7CcUidR5vK8dea7FTXOg=
X-Google-DKIM-Signature: v=1; a=rsa-sha256; c=relaxed/relaxed;
 d=1e100.net; s=20230601; t=1724972068; x=1725576868;
 h=references:in-reply-to:cc:to:from:subject:message-id:date
 :x-gm-message-state:from:to:cc:subject:date:message-id:reply-to;
 bh=Kb5sdEmLmI7roBsAnTuNcMgjWreTOR4V8Lh2w3sx8b0=;
 b=Ddn29C4zqTttLVhRaSgRQkWto+fRKmBQKqBYZ/bqtWq/RBf07/8mwG1Lr4XOWalmyo
 pKqIhI42OrgyDSlBweZ4RTPA6z5EdDVHpNVSLDjiF++gRqtXHfn91U1QF+Z73CHXFHwF
 X6u0PjzORmmHF+p8SXiykqB7b2buXBZQ+ustO8L5ybHuzdhHPXkbj6eCIR7t5l4s4d6k
 BdgHYaIzlxFAeFCKzTvepy1Z8j9ugRQdUnGtj5AbVhLkMimedVKtOGxX/rO8ed1ia866
 UxgqI9N5U78MZqzy13eOuG+3LMK8dPUnCO2QvquwOuX2opjRJxGlcbfUh+9mH8IsuQ2U
 C6IQ==
X-Gm-Message-State: AOJu0YxKmUzWthYsb7dN1GmTVC/79MFX8kv7cnnI4qxB0njo+4/raBWZ
 NIA/akubELLvkBiggFX6jt8pzwbo/EeHnhLTP7aNOal2203e/EzudWbuTbyZIva2yNcjfWZFPIi
 vcT0eaARpuyiv7H7lOdgK1sRQ95smnDDyxivsOocy23lCDWf8HtG09xmc
X-Google-Smtp-Source: AGHT+IHFisalVp3XcA5c5ZC/wI80uL4oxnglLBk4o/Wn6BeUQHHcMXEHVVOjwoRz2DsiYRqiOs19lBjG7SoL
X-Received: by 2002:a5e:c804:0:b0:81f:8825:af8f with SMTP id
 ca18e2360f4ac-82a13cc4b99mr262014639f.2.1724972067665; 
 Thu, 29 Aug 2024 15:54:27 -0700 (PDT)
Received: from postal.iol.unh.edu (postal.iol.unh.edu.
 [2606:4100:3880:1234::84]) by smtp-relay.gmail.com with ESMTPS id
 8926c6da1cb9f-4ced2eafb26sm89669173.72.2024.08.29.15.54.27
 (version=TLS1_2 cipher=ECDHE-ECDSA-AES128-GCM-SHA256 bits=128/128);
 Thu, 29 Aug 2024 15:54:27 -0700 (PDT)
X-Relaying-Domain: iol.unh.edu
Date: Thu, 29 Aug 2024 15:54:27 -0700 (PDT)
Message-ID: <66d0fc23.020a0220.1c1bde.6b9aSMTPIN_ADDED_MISSING@mx.google.com>
Received: from [172.17.0.2] (unknown [172.18.0.217])
 by postal.iol.unh.edu (Postfix) with ESMTP id 3CDB5605C351;
 Thu, 29 Aug 2024 18:54:27 -0400 (EDT)
Subject: |SUCCESS| pw143446-143447 [PATCH] [v2,2/2] baseband/acc: improvement
From: dpdklab@iol.unh.edu
To: Test Report <test-report@dpdk.org>
Cc: dpdk-test-reports@iol.unh.edu
In-Reply-To: <20240829200624.38551-3-nicolas.chautru@intel.com>
References: <20240829200624.38551-3-nicolas.chautru@intel.com>
Content-Type: text/plain
X-BeenThere: test-report@dpdk.org
X-Mailman-Version: 2.1.29
Precedence: list
List-Id: automatic DPDK test reports <test-report.dpdk.org>
List-Unsubscribe: <https://mails.dpdk.org/options/test-report>,
 <mailto:test-report-request@dpdk.org?subject=unsubscribe>
List-Archive: <http://mails.dpdk.org/archives/test-report/>
List-Post: <mailto:test-report@dpdk.org>
List-Help: <mailto:test-report-request@dpdk.org?subject=help>
List-Subscribe: <https://mails.dpdk.org/listinfo/test-report>,
 <mailto:test-report-request@dpdk.org?subject=subscribe>
Errors-To: test-report-bounces@dpdk.org

Test-Label: iol-compile-arm64-testing
Test-Status: SUCCESS
http://dpdk.org/patch/143447

_Testing PASS_

Submitter: Nicolas Chautru <nicolas.chautru@intel.com>
Date: Thursday, August 29 2024 20:06:24 
DPDK git baseline: Repo:dpdk
  Branch: master
  CommitID:cb9187bc5c2b4bab0ad80194ac3b60491de14e8c

143446-143447 --> testing pass

Upstream job id: Generic-DPDK-Compile-Meson#293607

Test environment and result as below:

+----------------------------------------+--------------------+
|              Environment               | dpdk_meson_compile |
+========================================+====================+
| RHEL9 (ARM)                            | PASS               |
+----------------------------------------+--------------------+
| Ubuntu 20.04 ARM SVE                   | PASS               |
+----------------------------------------+--------------------+
| Debian 12 with MUSDK                   | PASS               |
+----------------------------------------+--------------------+
| Fedora 38 (ARM)                        | PASS               |
+----------------------------------------+--------------------+
| Fedora 39 (ARM)                        | PASS               |
+----------------------------------------+--------------------+
| Fedora 38 (ARM Clang)                  | PASS               |
+----------------------------------------+--------------------+
| Fedora 40 (ARM Clang)                  | PASS               |
+----------------------------------------+--------------------+
| Ubuntu 20.04 (ARM)                     | PASS               |
+----------------------------------------+--------------------+
| Ubuntu 22.04 (ARM)                     | PASS               |
+----------------------------------------+--------------------+
| Debian 11 (Buster) (ARM)               | PASS               |
+----------------------------------------+--------------------+
| CentOS Stream 9 (ARM)                  | PASS               |
+----------------------------------------+--------------------+
| Debian 12 (arm)                        | PASS               |
+----------------------------------------+--------------------+
| Ubuntu 20.04 aarch32 GCC Cross Compile | PASS               |
+----------------------------------------+--------------------+
| Fedora 37 (ARM)                        | PASS               |
+----------------------------------------+--------------------+
| Ubuntu 20.04 ARM Clang Cross Compile   | PASS               |
+----------------------------------------+--------------------+
| Ubuntu 20.04 ARM GCC Cross Compile     | PASS               |
+----------------------------------------+--------------------+
| Ubuntu 24.04 (ARM)                     | PASS               |
+----------------------------------------+--------------------+
| Fedora 39 (ARM Clang)                  | PASS               |
+----------------------------------------+--------------------+
| Fedora 40 (ARM)                        | PASS               |
+----------------------------------------+--------------------+


RHEL9 (ARM)
	Kernel: Depends on container host
	Compiler: gcc 11.4.1 20231218 (Red Hat 11.4.1-3)

Ubuntu 20.04 ARM SVE
	Kernel: Depends on container host
	Compiler: gcc (Ubuntu 10.5.0-1ubuntu1~20.04) 10.5.0

Debian 12 with MUSDK
	Kernel: Depends on container host
	Compiler: gcc (Debian 12.2.0-14) 12.2.0

Fedora 38 (ARM)
	Kernel: Depends on container host
	Compiler: gcc 13.2.1 20240316 (Red Hat 13.2.1-7)

Fedora 39 (ARM)
	Kernel: Depends on container host
	Compiler: gcc 13.3.1 20240522 (Red Hat 13.3.1-1)

Fedora 38 (ARM Clang)
	Kernel: Depends on container host
	Compiler: clang 16.0.6 (Fedora 16.0.6-4.fc38)

Fedora 40 (ARM Clang)
	Kernel: Depends on container host
	Compiler: clang 18.1.6 (Fedora 18.1.6-3.fc40)

Ubuntu 20.04 (ARM)
	Kernel: Depends on container host
	Compiler: gcc (Ubuntu 9.4.0-1ubuntu1~20.04.2) 9.4.0

Ubuntu 22.04 (ARM)
	Kernel: Depends on container host
	Compiler: gcc (Ubuntu 11.4.0-1ubuntu1~22.04) 11.4.0

Debian 11 (Buster) (ARM)
	Kernel: Depends on container host
	Compiler: gcc (Debian 10.2.1-6) 10.2.1 20210110

CentOS Stream 9 (ARM)
	Kernel: Depends on container host
	Compiler: gcc 11.4.1 20231218 (Red Hat 11.4.1-3)

Debian 12 (arm)
	Kernel: Depends on container host
	Compiler: gcc (Debian 12.2.0-14) 12.2.0

Ubuntu 20.04 aarch32 GCC Cross Compile
	Kernel: Depends on container host
	Compiler: gcc 9.4.0

Fedora 37 (ARM)
	Kernel: Depends on container host
	Compiler: gcc 12.3.1 20230508 (Red Hat 12.3.1-1)

Ubuntu 20.04 ARM Clang Cross Compile
	Kernel: Depends on container host
	Compiler: clang 10.0.0-4ubuntu1

Ubuntu 20.04 ARM GCC Cross Compile
	Kernel: Depends on container host
	Compiler: aarch64-linux-gnu-gcc (Ubuntu 9.4.0-1ubuntu1~20.04.2) 9.4.0

Ubuntu 24.04 (ARM)
	Kernel: Depends on container host
	Compiler: gcc (Ubuntu 13.2.0-23ubuntu4) 13.2.0

Fedora 39 (ARM Clang)
	Kernel: Depends on container host
	Compiler: clang 17.0.6 (Fedora 17.0.6-2.fc39)

Fedora 40 (ARM)
	Kernel: Depends on container host
	Compiler: gcc 14.2.1 20240801 (Red Hat 14.2.1-1)

To view detailed results, visit:
https://lab.dpdk.org/results/dashboard/patchsets/30880/

UNH-IOL DPDK Community Lab

To manage your email subscriptions, visit: 
https://lab.dpdk.org/results/dashboard/preferences/subscriptions/