From mboxrd@z Thu Jan  1 00:00:00 1970
Return-Path: <test-report-bounces@dpdk.org>
Received: from mails.dpdk.org (mails.dpdk.org [217.70.189.124])
	by inbox.dpdk.org (Postfix) with ESMTP id 7B8CB4589E
	for <public@inbox.dpdk.org>; Fri, 30 Aug 2024 05:34:27 +0200 (CEST)
Received: from mails.dpdk.org (localhost [127.0.0.1])
	by mails.dpdk.org (Postfix) with ESMTP id 74AD242E4C;
	Fri, 30 Aug 2024 05:34:27 +0200 (CEST)
Received: from mail-io1-f97.google.com (mail-io1-f97.google.com
 [209.85.166.97]) by mails.dpdk.org (Postfix) with ESMTP id 703BD42E5B
 for <test-report@dpdk.org>; Fri, 30 Aug 2024 05:34:16 +0200 (CEST)
Received: by mail-io1-f97.google.com with SMTP id
 ca18e2360f4ac-82a24dec9cbso17611239f.1
 for <test-report@dpdk.org>; Thu, 29 Aug 2024 20:34:16 -0700 (PDT)
DKIM-Signature: v=1; a=rsa-sha256; c=relaxed/relaxed;
 d=iol.unh.edu; s=unh-iol; t=1724988855; x=1725593655; darn=dpdk.org;
 h=references:in-reply-to:cc:to:from:subject:message-id:date:from:to
 :cc:subject:date:message-id:reply-to;
 bh=rdVfgQuBY6MEi2EyYxSc9/dVdmpUP/vGcR00OWc+4Z8=;
 b=jzTpG2+DAUYLx+ScchR5a5FUbzwbyYWNCTIP5R3QXDSzlt4H4P0HIl8I0LPKqL2X/8
 VsQZKwKMabTYww5JyQHl0GHiLtXz15hDp9gJYk8obw8CW7GDMlm5zUOo/Ch7MpegMRav
 Bo0XYwPEgVnm3vbU8Foy5bzx0/W+hmHXgJfvA=
X-Google-DKIM-Signature: v=1; a=rsa-sha256; c=relaxed/relaxed;
 d=1e100.net; s=20230601; t=1724988855; x=1725593655;
 h=references:in-reply-to:cc:to:from:subject:message-id:date
 :x-gm-message-state:from:to:cc:subject:date:message-id:reply-to;
 bh=rdVfgQuBY6MEi2EyYxSc9/dVdmpUP/vGcR00OWc+4Z8=;
 b=Qd46HHr86CyI766EoSMBOqHN27PWCE8ZxXu8EVSds5BdD9QO50xuBcfYyhd+L840DA
 hKV7Ery92HAO6kbhlyw2evvUMpYpmdYt+KdQhR5Tvd+/95+REczXYa4xp7IvVOOzCFsc
 pauo9TcPc4VGOXKhUBmhuwsqKNUSe6rgsNDIkB2BVvuhxDKd+v4BAnqaNLSptUx0xdgz
 c4RS5F07E4O5x+StJvKYF3YB2/RIcwxGQpvTT/jiRsCqIWJO5tBBedrYzlikyc6mFTsD
 kJ17y13LJ+C6vimsBNe2QrkXzXjhohFVDWRO7W3yw5/aqPB+QmvV6ZWmcNHHQvy42pX6
 x9kA==
X-Gm-Message-State: AOJu0Yy1lUAo9tNLTSF+/w76+7qSeeaLyRXSgANvntzO2Caq0rnjH+fz
 lnM8wo2hXgGCbPt0rJqun/76ZLIsl/t1RPPAY1pRm4+wNO6gPy5CGfKSW2FDLk7dj3YOMVMKr/i
 nLorwgWh/y3cWIQnXpw8HoqcAlhqU3PLNRLf+QiTR
X-Google-Smtp-Source: AGHT+IHUr02oFUT5aaH/+po7iDnKgVBimRlvzl7UyyNqDrXHCebvBlBn5b24fFFLcdpNkxJjSpRGjCKjaO+q
X-Received: by 2002:a5e:980f:0:b0:82a:13f0:800d with SMTP id
 ca18e2360f4ac-82a13f080afmr299034139f.5.1724988855657; 
 Thu, 29 Aug 2024 20:34:15 -0700 (PDT)
Received: from postal.iol.unh.edu (postal.iol.unh.edu. [132.177.123.84])
 by smtp-relay.gmail.com with ESMTPS id
 8926c6da1cb9f-4ced2e179dfsm96921173.36.2024.08.29.20.34.15
 (version=TLS1_2 cipher=ECDHE-ECDSA-AES128-GCM-SHA256 bits=128/128);
 Thu, 29 Aug 2024 20:34:15 -0700 (PDT)
X-Relaying-Domain: iol.unh.edu
Date: Thu, 29 Aug 2024 20:34:15 -0700 (PDT)
Message-ID: <66d13db7.050a0220.320f08.721dSMTPIN_ADDED_MISSING@mx.google.com>
Received: from [172.17.0.3] (unknown [172.18.0.217])
 by postal.iol.unh.edu (Postfix) with ESMTP id 29310605C351;
 Thu, 29 Aug 2024 23:34:15 -0400 (EDT)
Subject: |SUCCESS| pw143448-143450 [PATCH] [3/3] net/nfp: increase represento
From: dpdklab@iol.unh.edu
To: Test Report <test-report@dpdk.org>
Cc: dpdk-test-reports@iol.unh.edu
In-Reply-To: <20240830023002.2364238-4-chaoyong.he@corigine.com>
References: <20240830023002.2364238-4-chaoyong.he@corigine.com>
Content-Type: text/plain
X-BeenThere: test-report@dpdk.org
X-Mailman-Version: 2.1.29
Precedence: list
List-Id: automatic DPDK test reports <test-report.dpdk.org>
List-Unsubscribe: <https://mails.dpdk.org/options/test-report>,
 <mailto:test-report-request@dpdk.org?subject=unsubscribe>
List-Archive: <http://mails.dpdk.org/archives/test-report/>
List-Post: <mailto:test-report@dpdk.org>
List-Help: <mailto:test-report-request@dpdk.org?subject=help>
List-Subscribe: <https://mails.dpdk.org/listinfo/test-report>,
 <mailto:test-report-request@dpdk.org?subject=subscribe>
Errors-To: test-report-bounces@dpdk.org

Test-Label: iol-unit-amd64-testing
Test-Status: SUCCESS
http://dpdk.org/patch/143450

_Testing PASS_

Submitter: Chaoyong He <chaoyong.he@corigine.com>
Date: Friday, August 30 2024 02:30:02 
DPDK git baseline: Repo:dpdk
  Branch: master
  CommitID:334bda1613888c26e6345dab3f2522e54087e808

143448-143450 --> testing pass

Upstream job id: Generic-Unit-Test-DPDK#256584

Test environment and result as below:

+---------------------+----------------+
|     Environment     | dpdk_unit_test |
+=====================+================+
| Windows Server 2022 | PASS           |
+---------------------+----------------+
| CentOS Stream 9     | PASS           |
+---------------------+----------------+
| Debian Bullseye     | PASS           |
+---------------------+----------------+
| Debian 12           | PASS           |
+---------------------+----------------+
| Fedora 37           | PASS           |
+---------------------+----------------+
| Fedora 38 (Clang)   | PASS           |
+---------------------+----------------+
| Fedora 39           | PASS           |
+---------------------+----------------+
| Fedora 38           | PASS           |
+---------------------+----------------+
| Fedora 39 (Clang)   | PASS           |
+---------------------+----------------+
| Fedora 40           | PASS           |
+---------------------+----------------+
| Fedora 40 (Clang)   | PASS           |
+---------------------+----------------+
| RHEL8               | PASS           |
+---------------------+----------------+
| RHEL9               | PASS           |
+---------------------+----------------+
| Ubuntu 24.04        | PASS           |
+---------------------+----------------+
| Ubuntu 22.04        | PASS           |
+---------------------+----------------+
| Ubuntu 20.04        | PASS           |
+---------------------+----------------+


Windows Server 2022
	Kernel: 10.0.20348.2031
	Compiler: clang 15.0.7, gcc 14.1.0 (MinGW), and MSVC VS 19.39.33521

CentOS Stream 9
	Kernel: Depends on container host
	Compiler: gcc 11.4.1 20231218 (Red Hat 11.4.1-3)

Debian Bullseye
	Kernel: Depends on container host
	Compiler: gcc (Debian 10.2.1-6) 10.2.1 20210110

Debian 12
	Kernel: Depends on container host
	Compiler: gcc (Debian 12.2.0-14) 12.2.0

Fedora 37
	Kernel: Depends on container host system
	Compiler: gcc 12.3.1 20230508 (Red Hat 12.3.1-1)

Fedora 38 (Clang)
	Kernel: Depends on container host
	Compiler: clang 16.0.6 (Fedora 16.0.6-4.fc38)

Fedora 39
	Kernel: Depends on container host
	Compiler: gcc 13.3.1 20240522 (Red Hat 13.3.1-1)

Fedora 38
	Kernel: Depends on container host
	Compiler: gcc 13.2.1 20240316 (Red Hat 13.2.1-7)

Fedora 39 (Clang)
	Kernel: Depends on container host
	Compiler: clang 17.0.6 (Fedora 17.0.6-2.fc39)

Fedora 40
	Kernel: Depends on container host
	Compiler: gcc 14.2.1 20240801 (Red Hat 14.2.1-1)

Fedora 40 (Clang)
	Kernel: Depends on container host
	Compiler: clang 18.1.6 (Fedora 18.1.6-3.fc40)

RHEL8
	Kernel: Depends on container host
	Compiler: gcc 8.5.0 20210514 (Red Hat 8.5.0-22)

RHEL9
	Kernel: Depends on container host
	Compiler: gcc 11.4.1 20231218 (Red Hat 11.4.1-3)

Ubuntu 24.04
	Kernel: Depends on container host
	Compiler: gcc (Ubuntu 13.2.0-23ubuntu4) 13.2.0

Ubuntu 22.04
	Kernel: Depends on container host
	Compiler: gcc (Ubuntu 11.4.0-1ubuntu1~22.04) 11.4.0

Ubuntu 20.04
	Kernel: Depends on container host
	Compiler: gcc (Ubuntu 9.4.0-1ubuntu1~20.04.2) 9.4.0

To view detailed results, visit:
https://lab.dpdk.org/results/dashboard/patchsets/30881/

UNH-IOL DPDK Community Lab

To manage your email subscriptions, visit: 
https://lab.dpdk.org/results/dashboard/preferences/subscriptions/