From mboxrd@z Thu Jan  1 00:00:00 1970
Return-Path: <test-report-bounces@dpdk.org>
Received: from mails.dpdk.org (mails.dpdk.org [217.70.189.124])
	by inbox.dpdk.org (Postfix) with ESMTP id 64F70458A8
	for <public@inbox.dpdk.org>; Fri, 30 Aug 2024 14:49:29 +0200 (CEST)
Received: from mails.dpdk.org (localhost [127.0.0.1])
	by mails.dpdk.org (Postfix) with ESMTP id 47B10402D2;
	Fri, 30 Aug 2024 14:49:29 +0200 (CEST)
Received: from mail-pf1-f225.google.com (mail-pf1-f225.google.com
 [209.85.210.225])
 by mails.dpdk.org (Postfix) with ESMTP id 3121F40291
 for <test-report@dpdk.org>; Fri, 30 Aug 2024 14:49:28 +0200 (CEST)
Received: by mail-pf1-f225.google.com with SMTP id
 d2e1a72fcca58-714263cb074so1328113b3a.1
 for <test-report@dpdk.org>; Fri, 30 Aug 2024 05:49:28 -0700 (PDT)
DKIM-Signature: v=1; a=rsa-sha256; c=relaxed/relaxed;
 d=iol.unh.edu; s=unh-iol; t=1725022167; x=1725626967; darn=dpdk.org;
 h=references:in-reply-to:cc:to:from:subject:message-id:date:from:to
 :cc:subject:date:message-id:reply-to;
 bh=JzcUIl95QqsrDz+6XTV3zGAkNd/yMxNuoIVCB2W0QLo=;
 b=gwUiM/oSWsszG2X6FMUGxhXb4yQmkx12JfsUCi9qh3gikvjuKUv7aTakleeHXQx2cK
 UYAxZi2V3U+1t9sv0uVbGveHdkEXszvyMW7DS/IIt5Zhm03P99T7wGZq/BTLa9Y2rtkA
 Z0QqQnn7MCyP+6i14QuDydG/Pd2j9aeUhgnGQ=
X-Google-DKIM-Signature: v=1; a=rsa-sha256; c=relaxed/relaxed;
 d=1e100.net; s=20230601; t=1725022167; x=1725626967;
 h=references:in-reply-to:cc:to:from:subject:message-id:date
 :x-gm-message-state:from:to:cc:subject:date:message-id:reply-to;
 bh=JzcUIl95QqsrDz+6XTV3zGAkNd/yMxNuoIVCB2W0QLo=;
 b=LV8SqlywHplI2zj9jgJ7yOQbZZztS25lPQg3z7SBQmIsDXN72iSBXlBy+h8Eghhx4H
 7+hR1HuBmfepuyM/Cq82/vKTGQ+wMH11Cochb100rFk5KS4ddg3L3vtc5RD/3m9gOyBd
 MTjU1vPA3MlM8nlDqTbPMcI0unnjSY0ym+PB6BuFJPHoFRSi203/4TzlxOJ7m4jZBHbP
 gvlHPhzSmBzQ4bqumf/xlpSr5pQbctS9KKZKMcZtKKzf5PpRECq1BzhXplw1xRGaAk8y
 u8OXHfFBYICTP7JFxHQesnKByOgG2784SZHeyiHyxybsEfFGISEYxEp6tQ7ETvIgm7V1
 WZNg==
X-Gm-Message-State: AOJu0YxkKJOzyH9XfJB+5z0F3iai61CXsO8TLzHDaaj+s3PNQNAWtw7a
 yjy0dbUPKEkUcecaZGJEXbJRe1l8bKooUafOIkHLFKWa+dVbF7XEcDSgRJOUn/O9F3rSY7tYd0c
 o6GPJeK4LsQGMiadyjVCCDRGRWb4yHL4ymyh+i0Ni
X-Google-Smtp-Source: AGHT+IFSNZ9IXwUaCF/AFm1mmjDSHkH85NBGabIP/HdOH4U5Omy5Uw7cIg4e6VBUw0zYuXoPVdavFLzS0ZCC
X-Received: by 2002:a05:6a21:3514:b0:1c6:ed27:1ff0 with SMTP id
 adf61e73a8af0-1cce10a8382mr5133671637.33.1725022167137; 
 Fri, 30 Aug 2024 05:49:27 -0700 (PDT)
Received: from postal.iol.unh.edu (postal.iol.unh.edu. [132.177.123.84])
 by smtp-relay.gmail.com with ESMTPS id
 98e67ed59e1d1-2d85b3a0943sm161357a91.15.2024.08.30.05.49.26
 (version=TLS1_2 cipher=ECDHE-ECDSA-AES128-GCM-SHA256 bits=128/128);
 Fri, 30 Aug 2024 05:49:27 -0700 (PDT)
X-Relaying-Domain: iol.unh.edu
Date: Fri, 30 Aug 2024 05:49:27 -0700 (PDT)
Message-ID: <66d1bfd7.170a0220.333e59.c411SMTPIN_ADDED_MISSING@mx.google.com>
Received: from [172.17.0.2] (unknown [172.18.0.217])
 by postal.iol.unh.edu (Postfix) with ESMTP id 352A16050A6B;
 Fri, 30 Aug 2024 08:49:26 -0400 (EDT)
Subject: |SUCCESS| pw143463-143464 [PATCH] [v3,2/2] net/nfp: flow rule suppor
From: dpdklab@iol.unh.edu
To: Test Report <test-report@dpdk.org>
Cc: dpdk-test-reports@iol.unh.edu
In-Reply-To: <20240830112829.2586795-3-chaoyong.he@corigine.com>
References: <20240830112829.2586795-3-chaoyong.he@corigine.com>
Content-Type: text/plain
X-BeenThere: test-report@dpdk.org
X-Mailman-Version: 2.1.29
Precedence: list
List-Id: automatic DPDK test reports <test-report.dpdk.org>
List-Unsubscribe: <https://mails.dpdk.org/options/test-report>,
 <mailto:test-report-request@dpdk.org?subject=unsubscribe>
List-Archive: <http://mails.dpdk.org/archives/test-report/>
List-Post: <mailto:test-report@dpdk.org>
List-Help: <mailto:test-report-request@dpdk.org?subject=help>
List-Subscribe: <https://mails.dpdk.org/listinfo/test-report>,
 <mailto:test-report-request@dpdk.org?subject=subscribe>
Errors-To: test-report-bounces@dpdk.org

Test-Label: iol-sample-apps-testing
Test-Status: SUCCESS
http://dpdk.org/patch/143464

_Testing PASS_

Submitter: Chaoyong He <chaoyong.he@corigine.com>
Date: Friday, August 30 2024 11:28:29 
DPDK git baseline: Repo:dpdk
  Branch: master
  CommitID:334bda1613888c26e6345dab3f2522e54087e808

143463-143464 --> testing pass

Upstream job id: Template-DTS-Pipeline#177737

Test environment and result as below:

+--------------------+----------------------+----------------------+
|    Environment     | dpdk_fips_validation | compressdev_zlib_pmd |
+====================+======================+======================+
| Ubuntu 20.04       | PASS                 | SKIPPED              |
+--------------------+----------------------+----------------------+
| Ubuntu 22.04 (ARM) | SKIPPED              | PASS                 |
+--------------------+----------------------+----------------------+
| Ubuntu 22.04       | SKIPPED              | PASS                 |
+--------------------+----------------------+----------------------+


Ubuntu 20.04
	Kernel: Depends on container host
	Compiler: gcc (Ubuntu 9.4.0-1ubuntu1~20.04.2) 9.4.0

Ubuntu 22.04 (ARM)
	Kernel: 5.15.0-97-generic
	Compiler: gcc gcc (Ubuntu 11.4.0-1ubuntu1~22.04) 11.4.0

Ubuntu 22.04
	Kernel: 5.15.0-100-generic
	Compiler: gcc gcc (Ubuntu 11.4.0-1ubuntu1~22.04) 11.4.0

To view detailed results, visit:
https://lab.dpdk.org/results/dashboard/patchsets/30885/

UNH-IOL DPDK Community Lab

To manage your email subscriptions, visit: 
https://lab.dpdk.org/results/dashboard/preferences/subscriptions/