From mboxrd@z Thu Jan  1 00:00:00 1970
Return-Path: <test-report-bounces@dpdk.org>
Received: from mails.dpdk.org (mails.dpdk.org [217.70.189.124])
	by inbox.dpdk.org (Postfix) with ESMTP id 4DF90458A8
	for <public@inbox.dpdk.org>; Fri, 30 Aug 2024 15:59:28 +0200 (CEST)
Received: from mails.dpdk.org (localhost [127.0.0.1])
	by mails.dpdk.org (Postfix) with ESMTP id 2F0B842EE2;
	Fri, 30 Aug 2024 15:59:28 +0200 (CEST)
Received: from mail-il1-f226.google.com (mail-il1-f226.google.com
 [209.85.166.226])
 by mails.dpdk.org (Postfix) with ESMTP id 749CA42E9D
 for <test-report@dpdk.org>; Fri, 30 Aug 2024 15:59:27 +0200 (CEST)
Received: by mail-il1-f226.google.com with SMTP id
 e9e14a558f8ab-39d254187daso7064335ab.0
 for <test-report@dpdk.org>; Fri, 30 Aug 2024 06:59:27 -0700 (PDT)
DKIM-Signature: v=1; a=rsa-sha256; c=relaxed/relaxed;
 d=iol.unh.edu; s=unh-iol; t=1725026366; x=1725631166; darn=dpdk.org;
 h=references:in-reply-to:cc:to:from:subject:message-id:date:from:to
 :cc:subject:date:message-id:reply-to;
 bh=5uSRiJfTTj4CvpjjMO61QQ9dk4hncP74fJDoEa5NbPQ=;
 b=M02PPIiGgIkudIkbjYVsLDgi4Es9CIJ3EwOjh1id9j42W649Hr+vTV5CnHgHN5BSvp
 HRe5NRRRR5/qsJBhW9/VOCOPZDkm+xcw+vfl8eJiZEpRdBKwVMv6P3w+rDvwbg+KF9zK
 4bvwPGoZVVh/v1Bj1NGWAfK72Jyz2Nk794OIs=
X-Google-DKIM-Signature: v=1; a=rsa-sha256; c=relaxed/relaxed;
 d=1e100.net; s=20230601; t=1725026366; x=1725631166;
 h=references:in-reply-to:cc:to:from:subject:message-id:date
 :x-gm-message-state:from:to:cc:subject:date:message-id:reply-to;
 bh=5uSRiJfTTj4CvpjjMO61QQ9dk4hncP74fJDoEa5NbPQ=;
 b=CJ2DhEEiSAqirapUFi7wbmcSE0XfV1sp5uEjInC3n/+wjNPsGwYcILyhKd7JFPZicD
 XjsaKqLmK1IQubFc/OLC7GRNQ29ZOOXXGUC8v5uMZ59hYy4P8LV9gHMBfBCn3DACpxq+
 tgb6NB9sA9bITN54QJe8IHrm+pYOc6to9GYaMJWU4a1OSEJ3hnaRfCSSrTHOXhK5EOzn
 7oJaA/ByIs95l0h16bygp9fmp7g1RKhZ2Vg4HdqHr44VVwONkpMWFM0BMjReQUzuXuon
 nGYaLc/LYFzumqQGmXM2AJejYS3arHmqHJtOjG9rE3+z8nR8QjIy9e/PPU+jepCtssCT
 ek3w==
X-Gm-Message-State: AOJu0YwZj5GXEypRQrsL5OoxMDPCkbUIEYWz/eLex7zEFZuiNxtv0hmW
 TNXHPgK4rMoBSz67Yj1J7YEeywC2HYSQKmMJRpF+XPv0zggJdkptP2dvtgL7UxxVoSbaZDY95yj
 T1qDVADfSB0QY2dzZa7dhPAD2wBFdJWR5l3n8PJWxojBZ4eGeecSfdAFc
X-Google-Smtp-Source: AGHT+IFnFixYayLVbr0rxUFjSGc5hJNUpnULE6WuTmvS4absjox7mqDIzjweDDeTa4B1zF7TugVdtD1JAUZ9
X-Received: by 2002:a05:6e02:1a43:b0:39b:3649:1b68 with SMTP id
 e9e14a558f8ab-39f37806969mr81671945ab.13.1725026366663; 
 Fri, 30 Aug 2024 06:59:26 -0700 (PDT)
Received: from postal.iol.unh.edu (postal.iol.unh.edu.
 [2606:4100:3880:1234::84]) by smtp-relay.gmail.com with ESMTPS id
 e9e14a558f8ab-39f3b07875fsm1363905ab.57.2024.08.30.06.59.26
 (version=TLS1_2 cipher=ECDHE-ECDSA-AES128-GCM-SHA256 bits=128/128);
 Fri, 30 Aug 2024 06:59:26 -0700 (PDT)
X-Relaying-Domain: iol.unh.edu
Date: Fri, 30 Aug 2024 06:59:26 -0700 (PDT)
Message-ID: <66d1d03e.050a0220.1f3ee6.b0c9SMTPIN_ADDED_MISSING@mx.google.com>
Received: from [172.17.0.2] (unknown [172.18.0.217])
 by postal.iol.unh.edu (Postfix) with ESMTP id 34FFD6050A6B;
 Fri, 30 Aug 2024 09:59:26 -0400 (EDT)
Subject: |SUCCESS| pw143463-143464 [PATCH] [v3,2/2] net/nfp: flow rule suppor
From: dpdklab@iol.unh.edu
To: Test Report <test-report@dpdk.org>
Cc: dpdk-test-reports@iol.unh.edu
In-Reply-To: <20240830112829.2586795-3-chaoyong.he@corigine.com>
References: <20240830112829.2586795-3-chaoyong.he@corigine.com>
Content-Type: text/plain
X-BeenThere: test-report@dpdk.org
X-Mailman-Version: 2.1.29
Precedence: list
List-Id: automatic DPDK test reports <test-report.dpdk.org>
List-Unsubscribe: <https://mails.dpdk.org/options/test-report>,
 <mailto:test-report-request@dpdk.org?subject=unsubscribe>
List-Archive: <http://mails.dpdk.org/archives/test-report/>
List-Post: <mailto:test-report@dpdk.org>
List-Help: <mailto:test-report-request@dpdk.org?subject=help>
List-Subscribe: <https://mails.dpdk.org/listinfo/test-report>,
 <mailto:test-report-request@dpdk.org?subject=subscribe>
Errors-To: test-report-bounces@dpdk.org

Test-Label: iol-compile-amd64-testing
Test-Status: SUCCESS
http://dpdk.org/patch/143464

_Testing PASS_

Submitter: Chaoyong He <chaoyong.he@corigine.com>
Date: Friday, August 30 2024 11:28:29 
DPDK git baseline: Repo:dpdk
  Branch: master
  CommitID:334bda1613888c26e6345dab3f2522e54087e808

143463-143464 --> testing pass

Upstream job id: Generic-DPDK-Compile-Meson#293933

Test environment and result as below:

+---------------------+----------------------+--------------------+-------------------+-----------------------+------------------+-------------------+
|     Environment     | dpdk_mingw64_compile | dpdk_meson_compile | dpdk_msvc_compile | dpdk_win_llvm_compile | dpdk_compile_ovs | dpdk_compile_spdk |
+=====================+======================+====================+===================+=======================+==================+===================+
| Windows Server 2022 | PASS                 | SKIPPED            | PASS              | PASS                  | SKIPPED          | SKIPPED           |
+---------------------+----------------------+--------------------+-------------------+-----------------------+------------------+-------------------+
| FreeBSD 13.3        | SKIPPED              | PASS               | SKIPPED           | SKIPPED               | SKIPPED          | SKIPPED           |
+---------------------+----------------------+--------------------+-------------------+-----------------------+------------------+-------------------+
| FreeBSD 14.1        | SKIPPED              | PASS               | SKIPPED           | SKIPPED               | SKIPPED          | SKIPPED           |
+---------------------+----------------------+--------------------+-------------------+-----------------------+------------------+-------------------+
| CentOS Stream 9     | SKIPPED              | PASS               | SKIPPED           | SKIPPED               | PASS             | PASS              |
+---------------------+----------------------+--------------------+-------------------+-----------------------+------------------+-------------------+
| Debian 12           | SKIPPED              | PASS               | SKIPPED           | SKIPPED               | PASS             | PASS              |
+---------------------+----------------------+--------------------+-------------------+-----------------------+------------------+-------------------+
| Debian Bullseye     | SKIPPED              | PASS               | SKIPPED           | SKIPPED               | PASS             | PASS              |
+---------------------+----------------------+--------------------+-------------------+-----------------------+------------------+-------------------+
| Fedora 37           | SKIPPED              | PASS               | SKIPPED           | SKIPPED               | PASS             | PASS              |
+---------------------+----------------------+--------------------+-------------------+-----------------------+------------------+-------------------+
| Fedora 38 (Clang)   | SKIPPED              | PASS               | SKIPPED           | SKIPPED               | PASS             | PASS              |
+---------------------+----------------------+--------------------+-------------------+-----------------------+------------------+-------------------+
| Fedora 38           | SKIPPED              | PASS               | SKIPPED           | SKIPPED               | PASS             | PASS              |
+---------------------+----------------------+--------------------+-------------------+-----------------------+------------------+-------------------+
| Fedora 39 (Clang)   | SKIPPED              | PASS               | SKIPPED           | SKIPPED               | PASS             | PASS              |
+---------------------+----------------------+--------------------+-------------------+-----------------------+------------------+-------------------+
| Fedora 39           | SKIPPED              | PASS               | SKIPPED           | SKIPPED               | PASS             | PASS              |
+---------------------+----------------------+--------------------+-------------------+-----------------------+------------------+-------------------+
| Fedora 40 (Clang)   | SKIPPED              | PASS               | SKIPPED           | SKIPPED               | PASS             | PASS              |
+---------------------+----------------------+--------------------+-------------------+-----------------------+------------------+-------------------+
| Fedora 40           | SKIPPED              | PASS               | SKIPPED           | SKIPPED               | PASS             | PASS              |
+---------------------+----------------------+--------------------+-------------------+-----------------------+------------------+-------------------+
| openSUSE Leap 15    | SKIPPED              | PASS               | SKIPPED           | SKIPPED               | PASS             | SKIPPED           |
+---------------------+----------------------+--------------------+-------------------+-----------------------+------------------+-------------------+
| RHEL8               | SKIPPED              | PASS               | SKIPPED           | SKIPPED               | PASS             | SKIPPED           |
+---------------------+----------------------+--------------------+-------------------+-----------------------+------------------+-------------------+
| RHEL9               | SKIPPED              | PASS               | SKIPPED           | SKIPPED               | PASS             | SKIPPED           |
+---------------------+----------------------+--------------------+-------------------+-----------------------+------------------+-------------------+
| Ubuntu 20.04        | SKIPPED              | PASS               | SKIPPED           | SKIPPED               | PASS             | SKIPPED           |
+---------------------+----------------------+--------------------+-------------------+-----------------------+------------------+-------------------+
| Ubuntu 22.04        | SKIPPED              | PASS               | SKIPPED           | SKIPPED               | PASS             | PASS              |
+---------------------+----------------------+--------------------+-------------------+-----------------------+------------------+-------------------+
| Ubuntu 24.04        | SKIPPED              | PASS               | SKIPPED           | SKIPPED               | PASS             | PASS              |
+---------------------+----------------------+--------------------+-------------------+-----------------------+------------------+-------------------+
| Alpine              | SKIPPED              | PASS               | SKIPPED           | SKIPPED               | PASS             | SKIPPED           |
+---------------------+----------------------+--------------------+-------------------+-----------------------+------------------+-------------------+


Windows Server 2022
	Kernel: 10.0.20348.2031
	Compiler: clang 15.0.7, gcc 14.1.0 (MinGW), and MSVC VS 19.39.33521

FreeBSD 13.3
	Kernel: 13.3-RELEASE-p5
	Compiler: clang 17.0.6

FreeBSD 14.1
	Kernel: 14.1-RELEASE-p3
	Compiler: clang 18.1.5

CentOS Stream 9
	Kernel: Depends on container host
	Compiler: gcc 11.4.1 20231218 (Red Hat 11.4.1-3)

Debian 12
	Kernel: Depends on container host
	Compiler: gcc (Debian 12.2.0-14) 12.2.0

Debian Bullseye
	Kernel: Depends on container host
	Compiler: gcc (Debian 10.2.1-6) 10.2.1 20210110

Fedora 37
	Kernel: Depends on container host system
	Compiler: gcc 12.3.1 20230508 (Red Hat 12.3.1-1)

Fedora 38 (Clang)
	Kernel: Depends on container host
	Compiler: clang 16.0.6 (Fedora 16.0.6-4.fc38)

Fedora 38
	Kernel: Depends on container host
	Compiler: gcc 13.2.1 20240316 (Red Hat 13.2.1-7)

Fedora 39 (Clang)
	Kernel: Depends on container host
	Compiler: clang 17.0.6 (Fedora 17.0.6-2.fc39)

Fedora 39
	Kernel: Depends on container host
	Compiler: gcc 13.3.1 20240522 (Red Hat 13.3.1-1)

Fedora 40 (Clang)
	Kernel: Depends on container host
	Compiler: clang 18.1.6 (Fedora 18.1.6-3.fc40)

Fedora 40
	Kernel: Depends on container host
	Compiler: gcc 14.2.1 20240801 (Red Hat 14.2.1-1)

openSUSE Leap 15
	Kernel: Depends on container host
	Compiler: gcc (SUSE Linux) 7.5.0

RHEL8
	Kernel: Depends on container host
	Compiler: gcc 8.5.0 20210514 (Red Hat 8.5.0-22)

RHEL9
	Kernel: Depends on container host
	Compiler: gcc 11.4.1 20231218 (Red Hat 11.4.1-3)

Ubuntu 20.04
	Kernel: Depends on container host
	Compiler: gcc (Ubuntu 9.4.0-1ubuntu1~20.04.2) 9.4.0

Ubuntu 22.04
	Kernel: Depends on container host
	Compiler: gcc (Ubuntu 11.4.0-1ubuntu1~22.04) 11.4.0

Ubuntu 24.04
	Kernel: Depends on container host
	Compiler: gcc (Ubuntu 13.2.0-23ubuntu4) 13.2.0

Alpine
	Kernel: Depends on container host
	Compiler: gcc (Alpine 13.2.1_git20240309) 13.2.1 20240309

To view detailed results, visit:
https://lab.dpdk.org/results/dashboard/patchsets/30885/

UNH-IOL DPDK Community Lab

To manage your email subscriptions, visit: 
https://lab.dpdk.org/results/dashboard/preferences/subscriptions/