From mboxrd@z Thu Jan  1 00:00:00 1970
Return-Path: <test-report-bounces@dpdk.org>
Received: from mails.dpdk.org (mails.dpdk.org [217.70.189.124])
	by inbox.dpdk.org (Postfix) with ESMTP id A7EEA458E8
	for <public@inbox.dpdk.org>; Mon,  2 Sep 2024 14:46:07 +0200 (CEST)
Received: from mails.dpdk.org (localhost [127.0.0.1])
	by mails.dpdk.org (Postfix) with ESMTP id 8502E40651;
	Mon,  2 Sep 2024 14:46:07 +0200 (CEST)
Received: from mail-vk1-f225.google.com (mail-vk1-f225.google.com
 [209.85.221.225])
 by mails.dpdk.org (Postfix) with ESMTP id E6A4B4042C
 for <test-report@dpdk.org>; Mon,  2 Sep 2024 14:46:06 +0200 (CEST)
Received: by mail-vk1-f225.google.com with SMTP id
 71dfb90a1353d-4fce352bd28so1183505e0c.2
 for <test-report@dpdk.org>; Mon, 02 Sep 2024 05:46:06 -0700 (PDT)
DKIM-Signature: v=1; a=rsa-sha256; c=relaxed/relaxed;
 d=iol.unh.edu; s=unh-iol; t=1725281166; x=1725885966; darn=dpdk.org;
 h=references:in-reply-to:cc:to:from:subject:message-id:date:from:to
 :cc:subject:date:message-id:reply-to;
 bh=clFWEFUdQeXPsVCRsTgRGWw1Xh/ipcTCVQLi6MiHfLk=;
 b=LAURR+hQQx0KJ1qWAG+i8bP0HKTB6RArjjYgnXbBrlEcE60fVleqXIHXwGRWfwF5Rc
 hWCDfHShVv6HByLo5I0JrL/1vw70li53JpqI4lqcLtJDSlCVgPiOQdNM499Db87vHWmy
 RUVrmIAgC7d/1BK0v3MXMpGqYyi8IU0+t1fXc=
X-Google-DKIM-Signature: v=1; a=rsa-sha256; c=relaxed/relaxed;
 d=1e100.net; s=20230601; t=1725281166; x=1725885966;
 h=references:in-reply-to:cc:to:from:subject:message-id:date
 :x-gm-message-state:from:to:cc:subject:date:message-id:reply-to;
 bh=clFWEFUdQeXPsVCRsTgRGWw1Xh/ipcTCVQLi6MiHfLk=;
 b=lnK2Fh7D+ZcGznBdMpJlHxcn+AEahZnMZMaZsj9QEPDK4xIcW+Qx7tiMlyEKcgdDnf
 ABwfek7wv6CEgcmXxfANj3OzdoezWorouuL1GwS6EYR+QRYYLVliNP9oaXKwJERUOBzh
 SHfHRVwp1IrmqMj1tJmLSdsFp6mRtDJ9Y+7o88B8lT2tHv2Ou5gJJApLJ16Jy4a/hkaw
 fJjKfJmD4mfqfIDiRprp8SmYpD47L8OCqT5npUTD0MAv3DuG6TDcCVwAprf2AgFu/cKq
 AvskqDqKKieLjt2XtAE2PO9CPeUA7mzTUofAI5kiSOabqvSn3X6M0d4t6knucWeU2ts2
 h7bQ==
X-Gm-Message-State: AOJu0YzkGUXFGI6nuA0gGcG2ia+gIIVRWXyk5yiyFih8qBGOhT5m1WJ4
 +KCQCCTpVtsWX7t4QC0mc++V6yb30rBmm6VKwSwa8T9X9WBNBce3r0+0mhuUCpyuGktaPC7PbxD
 SQoIjqN3qweWyaMnPXSo+Gq9Tj1HVsQCNn3fceYAkzWrKikeUnJv8EFCW
X-Google-Smtp-Source: AGHT+IFa16s4IR/TSzTczmF7HAQCZ7duMzF5qjf3LJlxD9Fb7passgFbChJjYW20RcPFbR7LxDDyKB+4Cl1a
X-Received: by 2002:a05:6122:3191:b0:4f5:23e4:b7c with SMTP id
 71dfb90a1353d-5009a81e35cmr8275718e0c.0.1725281166237; 
 Mon, 02 Sep 2024 05:46:06 -0700 (PDT)
Received: from postal.iol.unh.edu (postal.iol.unh.edu.
 [2606:4100:3880:1234::84]) by smtp-relay.gmail.com with ESMTPS id
 6a1803df08f44-6c35b384960sm1484676d6.54.2024.09.02.05.46.06
 (version=TLS1_2 cipher=ECDHE-ECDSA-AES128-GCM-SHA256 bits=128/128);
 Mon, 02 Sep 2024 05:46:06 -0700 (PDT)
X-Relaying-Domain: iol.unh.edu
Date: Mon, 02 Sep 2024 05:46:06 -0700 (PDT)
Message-ID: <66d5b38e.050a0220.264b6a.dd4fSMTPIN_ADDED_MISSING@mx.google.com>
Received: from [172.17.0.2] (unknown [172.18.0.215])
 by postal.iol.unh.edu (Postfix) with ESMTP id DD0D96050A6B;
 Mon,  2 Sep 2024 08:46:05 -0400 (EDT)
Subject: |SUCCESS| pw143530-143534 [PATCH] [5/5] common/cnxk: enable PF VF mb
From: dpdklab@iol.unh.edu
To: Test Report <test-report@dpdk.org>
Cc: dpdk-test-reports@iol.unh.edu
In-Reply-To: <20240902062940.182273-6-hkalra@marvell.com>
References: <20240902062940.182273-6-hkalra@marvell.com>
Content-Type: text/plain
X-BeenThere: test-report@dpdk.org
X-Mailman-Version: 2.1.29
Precedence: list
List-Id: automatic DPDK test reports <test-report.dpdk.org>
List-Unsubscribe: <https://mails.dpdk.org/options/test-report>,
 <mailto:test-report-request@dpdk.org?subject=unsubscribe>
List-Archive: <http://mails.dpdk.org/archives/test-report/>
List-Post: <mailto:test-report@dpdk.org>
List-Help: <mailto:test-report-request@dpdk.org?subject=help>
List-Subscribe: <https://mails.dpdk.org/listinfo/test-report>,
 <mailto:test-report-request@dpdk.org?subject=subscribe>
Errors-To: test-report-bounces@dpdk.org

Test-Label: iol-unit-amd64-testing
Test-Status: SUCCESS
http://dpdk.org/patch/143534

_Testing PASS_

Submitter: Harman Kalra <hkalra@marvell.com>
Date: Monday, September 02 2024 06:29:40 
DPDK git baseline: Repo:dpdk
  Branch: master
  CommitID:cb9187bc5c2b4bab0ad80194ac3b60491de14e8c

143530-143534 --> testing pass

Upstream job id: Generic-Unit-Test-DPDK#257160

Test environment and result as below:

+---------------------+----------------+
|     Environment     | dpdk_unit_test |
+=====================+================+
| Windows Server 2022 | PASS           |
+---------------------+----------------+
| CentOS Stream 9     | PASS           |
+---------------------+----------------+
| Debian Bullseye     | PASS           |
+---------------------+----------------+
| Debian 12           | PASS           |
+---------------------+----------------+
| Fedora 37           | PASS           |
+---------------------+----------------+
| Fedora 38           | PASS           |
+---------------------+----------------+
| Fedora 38 (Clang)   | PASS           |
+---------------------+----------------+
| Fedora 39           | PASS           |
+---------------------+----------------+
| Fedora 40           | PASS           |
+---------------------+----------------+
| Fedora 40 (Clang)   | PASS           |
+---------------------+----------------+
| RHEL9               | PASS           |
+---------------------+----------------+
| RHEL8               | PASS           |
+---------------------+----------------+
| Ubuntu 20.04        | PASS           |
+---------------------+----------------+
| Ubuntu 22.04        | PASS           |
+---------------------+----------------+
| Ubuntu 24.04        | PASS           |
+---------------------+----------------+
| Fedora 39 (Clang)   | PASS           |
+---------------------+----------------+


Windows Server 2022
	Kernel: 10.0.20348.2031
	Compiler: clang 15.0.7, gcc 14.1.0 (MinGW), and MSVC VS 19.39.33521

CentOS Stream 9
	Kernel: Depends on container host
	Compiler: gcc 11.4.1 20231218 (Red Hat 11.4.1-3)

Debian Bullseye
	Kernel: Depends on container host
	Compiler: gcc (Debian 10.2.1-6) 10.2.1 20210110

Debian 12
	Kernel: Depends on container host
	Compiler: gcc (Debian 12.2.0-14) 12.2.0

Fedora 37
	Kernel: Depends on container host system
	Compiler: gcc 12.3.1 20230508 (Red Hat 12.3.1-1)

Fedora 38
	Kernel: Depends on container host
	Compiler: gcc 13.2.1 20240316 (Red Hat 13.2.1-7)

Fedora 38 (Clang)
	Kernel: Depends on container host
	Compiler: clang 16.0.6 (Fedora 16.0.6-4.fc38)

Fedora 39
	Kernel: Depends on container host
	Compiler: gcc 13.3.1 20240522 (Red Hat 13.3.1-1)

Fedora 40
	Kernel: Depends on container host
	Compiler: gcc 14.2.1 20240801 (Red Hat 14.2.1-1)

Fedora 40 (Clang)
	Kernel: Depends on container host
	Compiler: clang 18.1.6 (Fedora 18.1.6-3.fc40)

RHEL9
	Kernel: Depends on container host
	Compiler: gcc 11.4.1 20231218 (Red Hat 11.4.1-3)

RHEL8
	Kernel: Depends on container host
	Compiler: gcc 8.5.0 20210514 (Red Hat 8.5.0-22)

Ubuntu 20.04
	Kernel: Depends on container host
	Compiler: gcc (Ubuntu 9.4.0-1ubuntu1~20.04.2) 9.4.0

Ubuntu 22.04
	Kernel: Depends on container host
	Compiler: gcc (Ubuntu 11.4.0-1ubuntu1~22.04) 11.4.0

Ubuntu 24.04
	Kernel: Depends on container host
	Compiler: gcc (Ubuntu 13.2.0-23ubuntu4) 13.2.0

Fedora 39 (Clang)
	Kernel: Depends on container host
	Compiler: clang 17.0.6 (Fedora 17.0.6-2.fc39)

To view detailed results, visit:
https://lab.dpdk.org/results/dashboard/patchsets/30890/

UNH-IOL DPDK Community Lab

To manage your email subscriptions, visit: 
https://lab.dpdk.org/results/dashboard/preferences/subscriptions/