From mboxrd@z Thu Jan  1 00:00:00 1970
Return-Path: <test-report-bounces@dpdk.org>
Received: from mails.dpdk.org (mails.dpdk.org [217.70.189.124])
	by inbox.dpdk.org (Postfix) with ESMTP id ED512458EC
	for <public@inbox.dpdk.org>; Tue,  3 Sep 2024 05:37:06 +0200 (CEST)
Received: from mails.dpdk.org (localhost [127.0.0.1])
	by mails.dpdk.org (Postfix) with ESMTP id E9B1D402B8;
	Tue,  3 Sep 2024 05:37:06 +0200 (CEST)
Received: from mail-io1-f97.google.com (mail-io1-f97.google.com
 [209.85.166.97]) by mails.dpdk.org (Postfix) with ESMTP id 593FA4029A
 for <test-report@dpdk.org>; Tue,  3 Sep 2024 05:37:05 +0200 (CEST)
Received: by mail-io1-f97.google.com with SMTP id
 ca18e2360f4ac-82a151ac935so188522339f.3
 for <test-report@dpdk.org>; Mon, 02 Sep 2024 20:37:05 -0700 (PDT)
DKIM-Signature: v=1; a=rsa-sha256; c=relaxed/relaxed;
 d=iol.unh.edu; s=unh-iol; t=1725334624; x=1725939424; darn=dpdk.org;
 h=references:in-reply-to:cc:to:from:subject:message-id:date:from:to
 :cc:subject:date:message-id:reply-to;
 bh=i/EU7LuC9wmLyhjRStdp9/1Xg5K0R7OYJoK4V6D1bEQ=;
 b=jrkWZ5LJWNqKpJmQTCmCB/96727y3q8R7TgdPccthwLaRyds3uNzgsV1lI/Ley9BZS
 t6rPVv+yEWHMjcsIBXHLli8i8d/vah0bvurHLSuqK0lN9H+rhbnWqRh53WMdyz/e3Nng
 uiH6EiddtU5ef3iudzXT5kF5tZGYTySfRj+zs=
X-Google-DKIM-Signature: v=1; a=rsa-sha256; c=relaxed/relaxed;
 d=1e100.net; s=20230601; t=1725334624; x=1725939424;
 h=references:in-reply-to:cc:to:from:subject:message-id:date
 :x-gm-message-state:from:to:cc:subject:date:message-id:reply-to;
 bh=i/EU7LuC9wmLyhjRStdp9/1Xg5K0R7OYJoK4V6D1bEQ=;
 b=s89znVii//SWRjCYjs9s3I9gsrOU+aVM7mHmdsz5+SjfHLX+bFHHIFQ8NRXyzLPQSl
 6ajb7+aQAJE+XgVF3iH99OUpXRST/Y+TTyJoLx3Q4wmqSCWYryKSW2tR2ikPI35vsGfD
 WuxdRQzLhgc22pVN2Cx8FGrYSD6NbMnASR1HZSILpr9Q9ISl+VOjAhpQh43i+XjIn/On
 HGVMfHf3K3ix3Q/HZcBNwOSNq6FOhYOs9I6aoZ0iG804jiBY3yPdPBXdrCMiJEod/Vg4
 IwkZG+WJY1wp+25JZ2Hr7PlNOJ1Z2FYAapd7LZpv99ufaXyaJsq+6+xhK8LPL3S/ATCf
 yZGQ==
X-Gm-Message-State: AOJu0Yz/LfXpUvsG//9KQWzUd+PE/JWsDhuPgspwiHY5Ml6qvm02fINt
 sBsFk4K5IP/UMgwcM+Y7/N9Z+xHKoDk0aAZIBVY2DPQOQuhM/u3FQoanDC76ySmVghfBA8x+S8k
 v3iwkqSfKqyBTG42ZGcbIXxK6Y279Zm4+tMY1WtFEW7sosWXZG/UqQXda
X-Google-Smtp-Source: AGHT+IGPHvI0H5cZ6X5bPC6MgHCEiNwx8LRJ6S5msrZ9QyN3BMOb6Smekvj8/276UFvCNlI76DfuXukSCthy
X-Received: by 2002:a05:6602:6b07:b0:824:d9c0:3fc6 with SMTP id
 ca18e2360f4ac-82a3730aecfmr874172139f.3.1725334624539; 
 Mon, 02 Sep 2024 20:37:04 -0700 (PDT)
Received: from postal.iol.unh.edu (postal.iol.unh.edu.
 [2606:4100:3880:1234::84]) by smtp-relay.gmail.com with ESMTPS id
 ca18e2360f4ac-82a1a4989fbsm20777939f.25.2024.09.02.20.37.04
 (version=TLS1_2 cipher=ECDHE-ECDSA-AES128-GCM-SHA256 bits=128/128);
 Mon, 02 Sep 2024 20:37:04 -0700 (PDT)
X-Relaying-Domain: iol.unh.edu
Date: Mon, 02 Sep 2024 20:37:04 -0700 (PDT)
Message-ID: <66d68460.050a0220.f9f2b.0c6eSMTPIN_ADDED_MISSING@mx.google.com>
Received: from [172.17.0.2] (unknown [172.18.0.215])
 by postal.iol.unh.edu (Postfix) with ESMTP id F01D36050A6B;
 Mon,  2 Sep 2024 23:37:03 -0400 (EDT)
Subject: |SUCCESS| pw143568-143571 [PATCH] [4/4] net/nfp: support different f
From: dpdklab@iol.unh.edu
To: Test Report <test-report@dpdk.org>
Cc: dpdk-test-reports@iol.unh.edu
In-Reply-To: <20240903014145.2635710-5-chaoyong.he@corigine.com>
References: <20240903014145.2635710-5-chaoyong.he@corigine.com>
Content-Type: text/plain
X-BeenThere: test-report@dpdk.org
X-Mailman-Version: 2.1.29
Precedence: list
List-Id: automatic DPDK test reports <test-report.dpdk.org>
List-Unsubscribe: <https://mails.dpdk.org/options/test-report>,
 <mailto:test-report-request@dpdk.org?subject=unsubscribe>
List-Archive: <http://mails.dpdk.org/archives/test-report/>
List-Post: <mailto:test-report@dpdk.org>
List-Help: <mailto:test-report-request@dpdk.org?subject=help>
List-Subscribe: <https://mails.dpdk.org/listinfo/test-report>,
 <mailto:test-report-request@dpdk.org?subject=subscribe>
Errors-To: test-report-bounces@dpdk.org

Test-Label: iol-unit-amd64-testing
Test-Status: SUCCESS
http://dpdk.org/patch/143571

_Testing PASS_

Submitter: Chaoyong He <chaoyong.he@corigine.com>
Date: Tuesday, September 03 2024 01:41:45 
DPDK git baseline: Repo:dpdk
  Branch: master
  CommitID:5cce3d463a99dbb5e7797faaed6c68df6c2b549a

143568-143571 --> testing pass

Upstream job id: Generic-Unit-Test-DPDK#257348

Test environment and result as below:

+---------------------+----------------+
|     Environment     | dpdk_unit_test |
+=====================+================+
| Windows Server 2022 | PASS           |
+---------------------+----------------+
| CentOS Stream 9     | PASS           |
+---------------------+----------------+
| Debian Bullseye     | PASS           |
+---------------------+----------------+
| Debian 12           | PASS           |
+---------------------+----------------+
| Fedora 37           | PASS           |
+---------------------+----------------+
| Fedora 38 (Clang)   | PASS           |
+---------------------+----------------+
| Fedora 39           | PASS           |
+---------------------+----------------+
| Fedora 39 (Clang)   | PASS           |
+---------------------+----------------+
| Fedora 40 (Clang)   | PASS           |
+---------------------+----------------+
| Fedora 40           | PASS           |
+---------------------+----------------+
| RHEL8               | PASS           |
+---------------------+----------------+
| RHEL9               | PASS           |
+---------------------+----------------+
| Ubuntu 20.04        | PASS           |
+---------------------+----------------+
| Ubuntu 22.04        | PASS           |
+---------------------+----------------+
| Ubuntu 24.04        | PASS           |
+---------------------+----------------+
| Fedora 38           | PASS           |
+---------------------+----------------+


Windows Server 2022
	Kernel: 10.0.20348.2031
	Compiler: clang 15.0.7, gcc 14.1.0 (MinGW), and MSVC VS 19.39.33521

CentOS Stream 9
	Kernel: Depends on container host
	Compiler: gcc 11.4.1 20231218 (Red Hat 11.4.1-3)

Debian Bullseye
	Kernel: Depends on container host
	Compiler: gcc (Debian 10.2.1-6) 10.2.1 20210110

Debian 12
	Kernel: Depends on container host
	Compiler: gcc (Debian 12.2.0-14) 12.2.0

Fedora 37
	Kernel: Depends on container host system
	Compiler: gcc 12.3.1 20230508 (Red Hat 12.3.1-1)

Fedora 38 (Clang)
	Kernel: Depends on container host
	Compiler: clang 16.0.6 (Fedora 16.0.6-4.fc38)

Fedora 39
	Kernel: Depends on container host
	Compiler: gcc 13.3.1 20240522 (Red Hat 13.3.1-1)

Fedora 39 (Clang)
	Kernel: Depends on container host
	Compiler: clang 17.0.6 (Fedora 17.0.6-2.fc39)

Fedora 40 (Clang)
	Kernel: Depends on container host
	Compiler: clang 18.1.6 (Fedora 18.1.6-3.fc40)

Fedora 40
	Kernel: Depends on container host
	Compiler: gcc 14.2.1 20240801 (Red Hat 14.2.1-1)

RHEL8
	Kernel: Depends on container host
	Compiler: gcc 8.5.0 20210514 (Red Hat 8.5.0-22)

RHEL9
	Kernel: Depends on container host
	Compiler: gcc 11.4.1 20231218 (Red Hat 11.4.1-3)

Ubuntu 20.04
	Kernel: Depends on container host
	Compiler: gcc (Ubuntu 9.4.0-1ubuntu1~20.04.2) 9.4.0

Ubuntu 22.04
	Kernel: Depends on container host
	Compiler: gcc (Ubuntu 11.4.0-1ubuntu1~22.04) 11.4.0

Ubuntu 24.04
	Kernel: Depends on container host
	Compiler: gcc (Ubuntu 13.2.0-23ubuntu4) 13.2.0

Fedora 38
	Kernel: Depends on container host
	Compiler: gcc 13.2.1 20240316 (Red Hat 13.2.1-7)

To view detailed results, visit:
https://lab.dpdk.org/results/dashboard/patchsets/30894/

UNH-IOL DPDK Community Lab

To manage your email subscriptions, visit: 
https://lab.dpdk.org/results/dashboard/preferences/subscriptions/