From mboxrd@z Thu Jan  1 00:00:00 1970
Return-Path: <test-report-bounces@dpdk.org>
Received: from mails.dpdk.org (mails.dpdk.org [217.70.189.124])
	by inbox.dpdk.org (Postfix) with ESMTP id 9D5CA45905
	for <public@inbox.dpdk.org>; Wed,  4 Sep 2024 21:36:28 +0200 (CEST)
Received: from mails.dpdk.org (localhost [127.0.0.1])
	by mails.dpdk.org (Postfix) with ESMTP id 971BA427C8;
	Wed,  4 Sep 2024 21:36:28 +0200 (CEST)
Received: from mail-il1-f227.google.com (mail-il1-f227.google.com
 [209.85.166.227])
 by mails.dpdk.org (Postfix) with ESMTP id 8FB9742830
 for <test-report@dpdk.org>; Wed,  4 Sep 2024 21:36:27 +0200 (CEST)
Received: by mail-il1-f227.google.com with SMTP id
 e9e14a558f8ab-39f54079599so5755ab.0
 for <test-report@dpdk.org>; Wed, 04 Sep 2024 12:36:27 -0700 (PDT)
DKIM-Signature: v=1; a=rsa-sha256; c=relaxed/relaxed;
 d=iol.unh.edu; s=unh-iol; t=1725478587; x=1726083387; darn=dpdk.org;
 h=references:in-reply-to:cc:to:from:subject:message-id:date:from:to
 :cc:subject:date:message-id:reply-to;
 bh=v/hIBXv6yg+9CTIf5QhYZgAHzGW3SzZeLMingO7mQfs=;
 b=J7HZIXJcC+K7RnQilB6hugLUgjZZhRo+gNf2Tua6EkIss69lkUalmDgbdn7pXCqQSc
 Sau0iikJ3B5SxXw4cH2d8G6xzpuO/gZdZXfoYL8mXCRm7lQHmGWXSfivb+XbmnKYdA4Z
 GR8h7hMFstrwDBixqfMaPATP6QKuJZ22vgkFU=
X-Google-DKIM-Signature: v=1; a=rsa-sha256; c=relaxed/relaxed;
 d=1e100.net; s=20230601; t=1725478587; x=1726083387;
 h=references:in-reply-to:cc:to:from:subject:message-id:date
 :x-gm-message-state:from:to:cc:subject:date:message-id:reply-to;
 bh=v/hIBXv6yg+9CTIf5QhYZgAHzGW3SzZeLMingO7mQfs=;
 b=Bi2fUgg+Qv65GQNYtYn7ucOm43RA9GzVzQWDcuq4/cdxGqkVMUpwuSnbm8zSabcxVI
 l8ZC4KV30CjbsioAj0/KMkOYI3JEHAyCqmewJZ5RNQpmR6uG2pgfRUgjCZD3yBN8WN92
 GxsHa31g1CHJv98XaKmpqgIXfSqwjN39pYKbvcaeKKom8WqYmKThFfmIRhG+VLCnYS4M
 KCV//ticDQYgJ6JX6hPY3EoPn6FQRbHtELQuJMRw/5+xi3AAhOnuZdwI7sQTjqlJQwQ6
 EXzEaM0bYClggidAl7xIt07MD+/+QyPpAI9/Vcq+AsUk4FiYGDlWUlQB21p9VQtwW535
 qXdQ==
X-Gm-Message-State: AOJu0YzWMObluSqE0A1ADqukuhjgYIlLr5QvtDwmGwll1wtTSxOvRI0t
 cZylPzITeA2/6fntekyHOBxBGQfl2zEL7niI/P1KJOc1Y0HeGp3KOHg5dn70Yq1xatHlT2QfAVm
 87qx4dLIEr7cWEhQ+bFBMk7ErHhTqnBbg032xLcSo
X-Google-Smtp-Source: AGHT+IFcbc4ZLy6pnWFGzjrq9bH1EQqlSJ+mdmR7CmZ/C8heTIUNREacI47H5+sdcXgWaLNw3MUDd1SqFnc6
X-Received: by 2002:a05:6e02:1d01:b0:39f:520e:7279 with SMTP id
 e9e14a558f8ab-39f74fe9275mr27241955ab.3.1725478586892; 
 Wed, 04 Sep 2024 12:36:26 -0700 (PDT)
Received: from postal.iol.unh.edu (postal.iol.unh.edu. [132.177.123.84])
 by smtp-relay.gmail.com with ESMTPS id
 8926c6da1cb9f-4ced2dcac34sm474208173.12.2024.09.04.12.36.26
 (version=TLS1_2 cipher=ECDHE-ECDSA-AES128-GCM-SHA256 bits=128/128);
 Wed, 04 Sep 2024 12:36:26 -0700 (PDT)
X-Relaying-Domain: iol.unh.edu
Date: Wed, 04 Sep 2024 12:36:26 -0700 (PDT)
Message-ID: <66d8b6ba.050a0220.1edc22.8a2aSMTPIN_ADDED_MISSING@mx.google.com>
Received: from [172.17.0.3] (unknown [172.18.0.214])
 by postal.iol.unh.edu (Postfix) with ESMTP id 5B810605C380;
 Wed,  4 Sep 2024 15:36:26 -0400 (EDT)
Subject: |SUCCESS| pw143598-143599 [PATCH] [v5,2/2] net/bnxt: code refactor f
From: dpdklab@iol.unh.edu
To: Test Report <test-report@dpdk.org>
Cc: dpdk-test-reports@iol.unh.edu
In-Reply-To: <20240904175151.47780-3-damodharam.ammepalli@broadcom.com>
References: <20240904175151.47780-3-damodharam.ammepalli@broadcom.com>
Content-Type: text/plain
X-BeenThere: test-report@dpdk.org
X-Mailman-Version: 2.1.29
Precedence: list
List-Id: automatic DPDK test reports <test-report.dpdk.org>
List-Unsubscribe: <https://mails.dpdk.org/options/test-report>,
 <mailto:test-report-request@dpdk.org?subject=unsubscribe>
List-Archive: <http://mails.dpdk.org/archives/test-report/>
List-Post: <mailto:test-report@dpdk.org>
List-Help: <mailto:test-report-request@dpdk.org?subject=help>
List-Subscribe: <https://mails.dpdk.org/listinfo/test-report>,
 <mailto:test-report-request@dpdk.org?subject=subscribe>
Errors-To: test-report-bounces@dpdk.org

Test-Label: iol-sample-apps-testing
Test-Status: SUCCESS
http://dpdk.org/patch/143599

_Testing PASS_

Submitter: Damodharam Ammepalli <damodharam.ammepalli@broadcom.com>
Date: Wednesday, September 04 2024 17:50:58 
DPDK git baseline: Repo:dpdk
  Branch: master
  CommitID:41dd9a6bc2d9c6e20e139ad713cc9d172572dd43

143598-143599 --> testing pass

Upstream job id: Template-DTS-Pipeline#178283

Test environment and result as below:

+--------------------+----------------------+----------------------+
|    Environment     | dpdk_fips_validation | compressdev_zlib_pmd |
+====================+======================+======================+
| Ubuntu 20.04       | PASS                 | SKIPPED              |
+--------------------+----------------------+----------------------+
| Ubuntu 22.04 (ARM) | SKIPPED              | PASS                 |
+--------------------+----------------------+----------------------+
| Ubuntu 22.04       | SKIPPED              | PASS                 |
+--------------------+----------------------+----------------------+


Ubuntu 20.04
	Kernel: Depends on container host
	Compiler: gcc (Ubuntu 9.4.0-1ubuntu1~20.04.2) 9.4.0

Ubuntu 22.04 (ARM)
	Kernel: 5.15.0-97-generic
	Compiler: gcc gcc (Ubuntu 11.4.0-1ubuntu1~22.04) 11.4.0

Ubuntu 22.04
	Kernel: 5.15.0-100-generic
	Compiler: gcc gcc (Ubuntu 11.4.0-1ubuntu1~22.04) 11.4.0

To view detailed results, visit:
https://lab.dpdk.org/results/dashboard/patchsets/30907/

UNH-IOL DPDK Community Lab

To manage your email subscriptions, visit: 
https://lab.dpdk.org/results/dashboard/preferences/subscriptions/