From mboxrd@z Thu Jan  1 00:00:00 1970
Return-Path: <test-report-bounces@dpdk.org>
Received: from mails.dpdk.org (mails.dpdk.org [217.70.189.124])
	by inbox.dpdk.org (Postfix) with ESMTP id 3165F45905
	for <public@inbox.dpdk.org>; Wed,  4 Sep 2024 21:39:23 +0200 (CEST)
Received: from mails.dpdk.org (localhost [127.0.0.1])
	by mails.dpdk.org (Postfix) with ESMTP id 2D358427C8;
	Wed,  4 Sep 2024 21:39:23 +0200 (CEST)
Received: from mail-oa1-f99.google.com (mail-oa1-f99.google.com
 [209.85.160.99]) by mails.dpdk.org (Postfix) with ESMTP id BE86C4025C
 for <test-report@dpdk.org>; Wed,  4 Sep 2024 21:39:21 +0200 (CEST)
Received: by mail-oa1-f99.google.com with SMTP id
 586e51a60fabf-277c742307fso8987fac.2
 for <test-report@dpdk.org>; Wed, 04 Sep 2024 12:39:21 -0700 (PDT)
DKIM-Signature: v=1; a=rsa-sha256; c=relaxed/relaxed;
 d=iol.unh.edu; s=unh-iol; t=1725478761; x=1726083561; darn=dpdk.org;
 h=references:in-reply-to:cc:to:from:subject:message-id:date:from:to
 :cc:subject:date:message-id:reply-to;
 bh=2NOFgoYQD6/4s0h3Aem+LvGAjxZkQw9eDKwpOwtVhNw=;
 b=hvkpdpQWeGl7sjBIZaJZcT6tveDnwaslVtv01adjEcIKNoTuvhzKXdQHt7zVxL3dMO
 LsTi6wfRcH9ZZu/RldebS45O/3e7pMKZtrwp7C4AWnTbOH3UywVUwog6oZK4k8sYRoEW
 Bx7q0szPstRVu4vztX0bnnPiaghyGLCS+50q4=
X-Google-DKIM-Signature: v=1; a=rsa-sha256; c=relaxed/relaxed;
 d=1e100.net; s=20230601; t=1725478761; x=1726083561;
 h=references:in-reply-to:cc:to:from:subject:message-id:date
 :x-gm-message-state:from:to:cc:subject:date:message-id:reply-to;
 bh=2NOFgoYQD6/4s0h3Aem+LvGAjxZkQw9eDKwpOwtVhNw=;
 b=Zsjm4sj5j3AgynCgoyZDWdOd4FsKq8ZXsOdTaZeikyKsQz6f3+jCpi0FAthf1lgQiX
 3tXqcyGOHsE3yhO90IpRz59bxKI3ZaRTEDXNvPSwHj6MtlqBUoRBmc7cgEi7gAtRiNM+
 Tset3PeLNWtSPyP6kQeDUISe/sAjk2s8iP0D//xiBwNZ8/31mV6bpyLAPVNL5SHAt0qu
 Pi/MK5i9dHCHkr+0PtEAGx+Nr/OEi8Tz1qtUgwmB3RMj1jETASzvCWA6tFy9JZCXfF+A
 emPv1d9708GI92Om/NhvIElaWejvj7UiuxVNdbwti6uHQ/GMK8vsnKvQsuXNYG1EqNib
 fKOg==
X-Gm-Message-State: AOJu0Yym0KehAWH8gSFs9zQXe+l3mBUO6hLdnto1vUKeuvBKg+3HNpmO
 dEwcM2sCMs6a1ZpTHOkAff/9jIwnYNnQokO1d5JQ8WMMOxYyUuVSmB/2+HvhhDnJBPbtSSjIFFI
 JtixPq4u/LDoJGqqzcRJ1tkPZnVB/aBPRiTdTIgNR
X-Google-Smtp-Source: AGHT+IGE76ayXb1N0qzsfM7Mg4ZbcyHYTalB8++YQAO/lacuepfX/9YalP+mPoAb59l0siqy8LxtsH1Ga0KL
X-Received: by 2002:a05:6870:514d:b0:278:a21:de9 with SMTP id
 586e51a60fabf-2780a214224mr9768269fac.46.1725478760977; 
 Wed, 04 Sep 2024 12:39:20 -0700 (PDT)
Received: from postal.iol.unh.edu (postal.iol.unh.edu. [132.177.123.84])
 by smtp-relay.gmail.com with ESMTPS id
 586e51a60fabf-27808e4955csm219284fac.28.2024.09.04.12.39.20
 (version=TLS1_2 cipher=ECDHE-ECDSA-AES128-GCM-SHA256 bits=128/128);
 Wed, 04 Sep 2024 12:39:20 -0700 (PDT)
X-Relaying-Domain: iol.unh.edu
Date: Wed, 04 Sep 2024 12:39:20 -0700 (PDT)
Message-ID: <66d8b768.050a0220.3478bf.1812SMTPIN_ADDED_MISSING@mx.google.com>
Received: from [172.17.0.2] (unknown [172.18.0.214])
 by postal.iol.unh.edu (Postfix) with ESMTP id 977A6605C380;
 Wed,  4 Sep 2024 15:39:20 -0400 (EDT)
Subject: |SUCCESS| pw143598-143599 [PATCH] [v5,2/2] net/bnxt: code refactor f
From: dpdklab@iol.unh.edu
To: Test Report <test-report@dpdk.org>
Cc: dpdk-test-reports@iol.unh.edu
In-Reply-To: <20240904175151.47780-3-damodharam.ammepalli@broadcom.com>
References: <20240904175151.47780-3-damodharam.ammepalli@broadcom.com>
Content-Type: text/plain
X-BeenThere: test-report@dpdk.org
X-Mailman-Version: 2.1.29
Precedence: list
List-Id: automatic DPDK test reports <test-report.dpdk.org>
List-Unsubscribe: <https://mails.dpdk.org/options/test-report>,
 <mailto:test-report-request@dpdk.org?subject=unsubscribe>
List-Archive: <http://mails.dpdk.org/archives/test-report/>
List-Post: <mailto:test-report@dpdk.org>
List-Help: <mailto:test-report-request@dpdk.org?subject=help>
List-Subscribe: <https://mails.dpdk.org/listinfo/test-report>,
 <mailto:test-report-request@dpdk.org?subject=subscribe>
Errors-To: test-report-bounces@dpdk.org

Test-Label: iol-compile-amd64-testing
Test-Status: SUCCESS
http://dpdk.org/patch/143599

_Testing PASS_

Submitter: Damodharam Ammepalli <damodharam.ammepalli@broadcom.com>
Date: Wednesday, September 04 2024 17:50:58 
DPDK git baseline: Repo:dpdk
  Branch: master
  CommitID:41dd9a6bc2d9c6e20e139ad713cc9d172572dd43

143598-143599 --> testing pass

Upstream job id: Generic-DPDK-Compile-Meson#295271

Test environment and result as below:

+---------------------+--------------------+------------------+-------------------+-----------------------+----------------------+-------------------+
|     Environment     | dpdk_meson_compile | dpdk_compile_ovs | dpdk_compile_spdk | dpdk_win_llvm_compile | dpdk_mingw64_compile | dpdk_msvc_compile |
+=====================+====================+==================+===================+=======================+======================+===================+
| CentOS Stream 9     | PASS               | PASS             | PASS              | SKIPPED               | SKIPPED              | SKIPPED           |
+---------------------+--------------------+------------------+-------------------+-----------------------+----------------------+-------------------+
| Debian Bullseye     | PASS               | PASS             | PASS              | SKIPPED               | SKIPPED              | SKIPPED           |
+---------------------+--------------------+------------------+-------------------+-----------------------+----------------------+-------------------+
| Debian 12           | PASS               | PASS             | PASS              | SKIPPED               | SKIPPED              | SKIPPED           |
+---------------------+--------------------+------------------+-------------------+-----------------------+----------------------+-------------------+
| Fedora 38 (Clang)   | PASS               | PASS             | PASS              | SKIPPED               | SKIPPED              | SKIPPED           |
+---------------------+--------------------+------------------+-------------------+-----------------------+----------------------+-------------------+
| Fedora 37           | PASS               | PASS             | PASS              | SKIPPED               | SKIPPED              | SKIPPED           |
+---------------------+--------------------+------------------+-------------------+-----------------------+----------------------+-------------------+
| Fedora 38           | PASS               | PASS             | PASS              | SKIPPED               | SKIPPED              | SKIPPED           |
+---------------------+--------------------+------------------+-------------------+-----------------------+----------------------+-------------------+
| Fedora 39 (Clang)   | PASS               | PASS             | PASS              | SKIPPED               | SKIPPED              | SKIPPED           |
+---------------------+--------------------+------------------+-------------------+-----------------------+----------------------+-------------------+
| Fedora 39           | PASS               | PASS             | PASS              | SKIPPED               | SKIPPED              | SKIPPED           |
+---------------------+--------------------+------------------+-------------------+-----------------------+----------------------+-------------------+
| Fedora 40 (Clang)   | PASS               | PASS             | PASS              | SKIPPED               | SKIPPED              | SKIPPED           |
+---------------------+--------------------+------------------+-------------------+-----------------------+----------------------+-------------------+
| openSUSE Leap 15    | PASS               | PASS             | SKIPPED           | SKIPPED               | SKIPPED              | SKIPPED           |
+---------------------+--------------------+------------------+-------------------+-----------------------+----------------------+-------------------+
| Fedora 40           | PASS               | PASS             | PASS              | SKIPPED               | SKIPPED              | SKIPPED           |
+---------------------+--------------------+------------------+-------------------+-----------------------+----------------------+-------------------+
| RHEL9               | PASS               | PASS             | SKIPPED           | SKIPPED               | SKIPPED              | SKIPPED           |
+---------------------+--------------------+------------------+-------------------+-----------------------+----------------------+-------------------+
| Ubuntu 24.04        | PASS               | PASS             | PASS              | SKIPPED               | SKIPPED              | SKIPPED           |
+---------------------+--------------------+------------------+-------------------+-----------------------+----------------------+-------------------+
| Alpine              | PASS               | PASS             | SKIPPED           | SKIPPED               | SKIPPED              | SKIPPED           |
+---------------------+--------------------+------------------+-------------------+-----------------------+----------------------+-------------------+
| RHEL8               | PASS               | PASS             | SKIPPED           | SKIPPED               | SKIPPED              | SKIPPED           |
+---------------------+--------------------+------------------+-------------------+-----------------------+----------------------+-------------------+
| Ubuntu 22.04        | PASS               | PASS             | PASS              | SKIPPED               | SKIPPED              | SKIPPED           |
+---------------------+--------------------+------------------+-------------------+-----------------------+----------------------+-------------------+
| Ubuntu 20.04        | PASS               | PASS             | SKIPPED           | SKIPPED               | SKIPPED              | SKIPPED           |
+---------------------+--------------------+------------------+-------------------+-----------------------+----------------------+-------------------+
| FreeBSD 13.3        | PASS               | SKIPPED          | SKIPPED           | SKIPPED               | SKIPPED              | SKIPPED           |
+---------------------+--------------------+------------------+-------------------+-----------------------+----------------------+-------------------+
| FreeBSD 14.1        | PASS               | SKIPPED          | SKIPPED           | SKIPPED               | SKIPPED              | SKIPPED           |
+---------------------+--------------------+------------------+-------------------+-----------------------+----------------------+-------------------+
| Windows Server 2022 | SKIPPED            | SKIPPED          | SKIPPED           | PASS                  | PASS                 | PASS              |
+---------------------+--------------------+------------------+-------------------+-----------------------+----------------------+-------------------+


CentOS Stream 9
	Kernel: Depends on container host
	Compiler: gcc 11.4.1 20231218 (Red Hat 11.4.1-3)

Debian Bullseye
	Kernel: Depends on container host
	Compiler: gcc (Debian 10.2.1-6) 10.2.1 20210110

Debian 12
	Kernel: Depends on container host
	Compiler: gcc (Debian 12.2.0-14) 12.2.0

Fedora 38 (Clang)
	Kernel: Depends on container host
	Compiler: clang 16.0.6 (Fedora 16.0.6-4.fc38)

Fedora 37
	Kernel: Depends on container host system
	Compiler: gcc 12.3.1 20230508 (Red Hat 12.3.1-1)

Fedora 38
	Kernel: Depends on container host
	Compiler: gcc 13.2.1 20240316 (Red Hat 13.2.1-7)

Fedora 39 (Clang)
	Kernel: Depends on container host
	Compiler: clang 17.0.6 (Fedora 17.0.6-2.fc39)

Fedora 39
	Kernel: Depends on container host
	Compiler: gcc 13.3.1 20240522 (Red Hat 13.3.1-1)

Fedora 40 (Clang)
	Kernel: Depends on container host
	Compiler: clang 18.1.6 (Fedora 18.1.6-3.fc40)

openSUSE Leap 15
	Kernel: Depends on container host
	Compiler: gcc (SUSE Linux) 7.5.0

Fedora 40
	Kernel: Depends on container host
	Compiler: gcc 14.2.1 20240801 (Red Hat 14.2.1-1)

RHEL9
	Kernel: Depends on container host
	Compiler: gcc 11.4.1 20231218 (Red Hat 11.4.1-3)

Ubuntu 24.04
	Kernel: Depends on container host
	Compiler: gcc (Ubuntu 13.2.0-23ubuntu4) 13.2.0

Alpine
	Kernel: Depends on container host
	Compiler: gcc (Alpine 13.2.1_git20240309) 13.2.1 20240309

RHEL8
	Kernel: Depends on container host
	Compiler: gcc 8.5.0 20210514 (Red Hat 8.5.0-22)

Ubuntu 22.04
	Kernel: Depends on container host
	Compiler: gcc (Ubuntu 11.4.0-1ubuntu1~22.04) 11.4.0

Ubuntu 20.04
	Kernel: Depends on container host
	Compiler: gcc (Ubuntu 9.4.0-1ubuntu1~20.04.2) 9.4.0

FreeBSD 13.3
	Kernel: 13.3-RELEASE-p5
	Compiler: clang 17.0.6

FreeBSD 14.1
	Kernel: 14.1-RELEASE-p3
	Compiler: clang 18.1.5

Windows Server 2022
	Kernel: 10.0.20348.2031
	Compiler: clang 15.0.7, gcc 14.1.0 (MinGW), and MSVC VS 19.39.33521

To view detailed results, visit:
https://lab.dpdk.org/results/dashboard/patchsets/30907/

UNH-IOL DPDK Community Lab

To manage your email subscriptions, visit: 
https://lab.dpdk.org/results/dashboard/preferences/subscriptions/