From mboxrd@z Thu Jan  1 00:00:00 1970
Return-Path: <test-report-bounces@dpdk.org>
Received: from mails.dpdk.org (mails.dpdk.org [217.70.189.124])
	by inbox.dpdk.org (Postfix) with ESMTP id D87FC45906
	for <public@inbox.dpdk.org>; Wed,  4 Sep 2024 23:57:08 +0200 (CEST)
Received: from mails.dpdk.org (localhost [127.0.0.1])
	by mails.dpdk.org (Postfix) with ESMTP id D4E4C4025C;
	Wed,  4 Sep 2024 23:57:08 +0200 (CEST)
Received: from mail-oo1-f99.google.com (mail-oo1-f99.google.com
 [209.85.161.99]) by mails.dpdk.org (Postfix) with ESMTP id 9EC2040151
 for <test-report@dpdk.org>; Wed,  4 Sep 2024 23:57:07 +0200 (CEST)
Received: by mail-oo1-f99.google.com with SMTP id
 006d021491bc7-5df9542f3d8so86430eaf.0
 for <test-report@dpdk.org>; Wed, 04 Sep 2024 14:57:07 -0700 (PDT)
DKIM-Signature: v=1; a=rsa-sha256; c=relaxed/relaxed;
 d=iol.unh.edu; s=unh-iol; t=1725487027; x=1726091827; darn=dpdk.org;
 h=references:in-reply-to:cc:to:from:subject:message-id:date:from:to
 :cc:subject:date:message-id:reply-to;
 bh=ig43WfK4QYxpka3XHeYJPa919d+b1DN7ISWob3gZGgY=;
 b=A4E+d3gr6wtNvUduJ8x5MOhYNuHAYcYrhM9zH9DSV2EZt6Ct9fNRUyAp0r+MmsxCXE
 ELdd/Luu+ir/nrC2snnIa1lIs/XFdbtfF+jMP5rvcBknSrHLusCeHvkjTL5nVHr5Toty
 6Gy6h6sJFbtdg9KPVIkJNADWJq1bB4GP9JXhc=
X-Google-DKIM-Signature: v=1; a=rsa-sha256; c=relaxed/relaxed;
 d=1e100.net; s=20230601; t=1725487027; x=1726091827;
 h=references:in-reply-to:cc:to:from:subject:message-id:date
 :x-gm-message-state:from:to:cc:subject:date:message-id:reply-to;
 bh=ig43WfK4QYxpka3XHeYJPa919d+b1DN7ISWob3gZGgY=;
 b=KOo900DwGVTMx0m6OYwH064aaV98quTsGNmcRoLxnfnjJv6RD2g/kAzna/yONIaQRy
 3n9hcbXxuhMt6mRvtAT3bI5FSksRzheiwzNCs7ta/z3DSFy/KCBs5puNvF0Hlwfw9m27
 9KkKpEOFoC845rXH0bxQGzepyyOCI9zOO+9nvlaDA54hANFKbfap7WRzSO1YvCH6KggD
 f+MhF/Jlkyn1ZGqvIUKr//LzAjtaj4vgnj0UtAAtt52J7eq/dhcQL6rmK8znqtyXwQIY
 qh/05jL2bWdVZTF+LqmALZiw6oNK88ldZ0UnZ2ckbmhUjDxT3LhYJlfikLFrESzeoDXF
 8O2A==
X-Gm-Message-State: AOJu0YyflVBV/Ovd3bEhRLooDM7lWXJcPi0r5LVZc7nHYby/ujgogvOf
 hbYVASdM4AvrBrenjeaa/P/NwXSTd2qG9BmfV/ewagAoKp1ED6DqopeWqNB+vhZwPcA2hInyOCV
 gfbL0EIQhz5Q0+1gpcjnEPLV3gTEMqUhxNyVM1ls7D36FWkKE4dEiNapg
X-Google-Smtp-Source: AGHT+IGKbwavE38p9InygZP+v5uziGoducC2koXUN5fN78ms4gYw1spNjnIakHYvY4kyam815CmpTcUbxdLH
X-Received: by 2002:a05:6358:19:b0:1b8:21cd:8be1 with SMTP id
 e5c5f4694b2df-1b821cd9852mr304257855d.19.1725487026814; 
 Wed, 04 Sep 2024 14:57:06 -0700 (PDT)
Received: from postal.iol.unh.edu (postal.iol.unh.edu.
 [2606:4100:3880:1234::84]) by smtp-relay.gmail.com with ESMTPS id
 41be03b00d2f7-7d4fbd841e6sm59754a12.2.2024.09.04.14.57.06
 (version=TLS1_2 cipher=ECDHE-ECDSA-AES128-GCM-SHA256 bits=128/128);
 Wed, 04 Sep 2024 14:57:06 -0700 (PDT)
X-Relaying-Domain: iol.unh.edu
Date: Wed, 04 Sep 2024 14:57:06 -0700 (PDT)
Message-ID: <66d8d7b2.650a0220.24511c.449fSMTPIN_ADDED_MISSING@mx.google.com>
Received: from [172.17.0.4] (unknown [172.18.0.214])
 by postal.iol.unh.edu (Postfix) with ESMTP id D6907605C380;
 Wed,  4 Sep 2024 17:57:05 -0400 (EDT)
Subject: |SUCCESS| pw143596-143597 [PATCH] [v4,2/2] dts: add dynamic queue te
From: dpdklab@iol.unh.edu
To: Test Report <test-report@dpdk.org>
Cc: dpdk-test-reports@iol.unh.edu
In-Reply-To: <20240904154951.13524-3-jspewock@iol.unh.edu>
References: <20240904154951.13524-3-jspewock@iol.unh.edu>
Content-Type: text/plain
X-BeenThere: test-report@dpdk.org
X-Mailman-Version: 2.1.29
Precedence: list
List-Id: automatic DPDK test reports <test-report.dpdk.org>
List-Unsubscribe: <https://mails.dpdk.org/options/test-report>,
 <mailto:test-report-request@dpdk.org?subject=unsubscribe>
List-Archive: <http://mails.dpdk.org/archives/test-report/>
List-Post: <mailto:test-report@dpdk.org>
List-Help: <mailto:test-report-request@dpdk.org?subject=help>
List-Subscribe: <https://mails.dpdk.org/listinfo/test-report>,
 <mailto:test-report-request@dpdk.org?subject=subscribe>
Errors-To: test-report-bounces@dpdk.org

Test-Label: iol-unit-amd64-testing
Test-Status: SUCCESS
http://dpdk.org/patch/143597

_Testing PASS_

Submitter: Jeremy Spewock <jspewock@iol.unh.edu>
Date: Wednesday, September 04 2024 15:49:51 
DPDK git baseline: Repo:dpdk
  Branch: master
  CommitID:41dd9a6bc2d9c6e20e139ad713cc9d172572dd43

143596-143597 --> testing pass

Upstream job id: Generic-Unit-Test-DPDK#257866

Test environment and result as below:

+---------------------+----------------+
|     Environment     | dpdk_unit_test |
+=====================+================+
| CentOS Stream 9     | PASS           |
+---------------------+----------------+
| Debian Bullseye     | PASS           |
+---------------------+----------------+
| Debian 12           | PASS           |
+---------------------+----------------+
| Fedora 37           | PASS           |
+---------------------+----------------+
| Fedora 38           | PASS           |
+---------------------+----------------+
| Fedora 38 (Clang)   | PASS           |
+---------------------+----------------+
| Fedora 39           | PASS           |
+---------------------+----------------+
| Fedora 39 (Clang)   | PASS           |
+---------------------+----------------+
| Fedora 40 (Clang)   | PASS           |
+---------------------+----------------+
| RHEL8               | PASS           |
+---------------------+----------------+
| Fedora 40           | PASS           |
+---------------------+----------------+
| RHEL9               | PASS           |
+---------------------+----------------+
| Ubuntu 20.04        | PASS           |
+---------------------+----------------+
| Ubuntu 22.04        | PASS           |
+---------------------+----------------+
| Ubuntu 24.04        | PASS           |
+---------------------+----------------+
| Windows Server 2022 | PASS           |
+---------------------+----------------+


CentOS Stream 9
	Kernel: Depends on container host
	Compiler: gcc 11.4.1 20231218 (Red Hat 11.4.1-3)

Debian Bullseye
	Kernel: Depends on container host
	Compiler: gcc (Debian 10.2.1-6) 10.2.1 20210110

Debian 12
	Kernel: Depends on container host
	Compiler: gcc (Debian 12.2.0-14) 12.2.0

Fedora 37
	Kernel: Depends on container host system
	Compiler: gcc 12.3.1 20230508 (Red Hat 12.3.1-1)

Fedora 38
	Kernel: Depends on container host
	Compiler: gcc 13.2.1 20240316 (Red Hat 13.2.1-7)

Fedora 38 (Clang)
	Kernel: Depends on container host
	Compiler: clang 16.0.6 (Fedora 16.0.6-4.fc38)

Fedora 39
	Kernel: Depends on container host
	Compiler: gcc 13.3.1 20240522 (Red Hat 13.3.1-1)

Fedora 39 (Clang)
	Kernel: Depends on container host
	Compiler: clang 17.0.6 (Fedora 17.0.6-2.fc39)

Fedora 40 (Clang)
	Kernel: Depends on container host
	Compiler: clang 18.1.6 (Fedora 18.1.6-3.fc40)

RHEL8
	Kernel: Depends on container host
	Compiler: gcc 8.5.0 20210514 (Red Hat 8.5.0-22)

Fedora 40
	Kernel: Depends on container host
	Compiler: gcc 14.2.1 20240801 (Red Hat 14.2.1-1)

RHEL9
	Kernel: Depends on container host
	Compiler: gcc 11.4.1 20231218 (Red Hat 11.4.1-3)

Ubuntu 20.04
	Kernel: Depends on container host
	Compiler: gcc (Ubuntu 9.4.0-1ubuntu1~20.04.2) 9.4.0

Ubuntu 22.04
	Kernel: Depends on container host
	Compiler: gcc (Ubuntu 11.4.0-1ubuntu1~22.04) 11.4.0

Ubuntu 24.04
	Kernel: Depends on container host
	Compiler: gcc (Ubuntu 13.2.0-23ubuntu4) 13.2.0

Windows Server 2022
	Kernel: 10.0.20348.2031
	Compiler: clang 15.0.7, gcc 14.1.0 (MinGW), and MSVC VS 19.39.33521

To view detailed results, visit:
https://lab.dpdk.org/results/dashboard/patchsets/30906/

UNH-IOL DPDK Community Lab

To manage your email subscriptions, visit: 
https://lab.dpdk.org/results/dashboard/preferences/subscriptions/