From mboxrd@z Thu Jan  1 00:00:00 1970
Return-Path: <test-report-bounces@dpdk.org>
Received: from mails.dpdk.org (mails.dpdk.org [217.70.189.124])
	by inbox.dpdk.org (Postfix) with ESMTP id 5A37645901
	for <public@inbox.dpdk.org>; Thu,  5 Sep 2024 02:30:51 +0200 (CEST)
Received: from mails.dpdk.org (localhost [127.0.0.1])
	by mails.dpdk.org (Postfix) with ESMTP id 3A571402F2;
	Thu,  5 Sep 2024 02:30:51 +0200 (CEST)
Received: from mail-io1-f99.google.com (mail-io1-f99.google.com
 [209.85.166.99]) by mails.dpdk.org (Postfix) with ESMTP id 8596D4025C
 for <test-report@dpdk.org>; Thu,  5 Sep 2024 02:30:48 +0200 (CEST)
Received: by mail-io1-f99.google.com with SMTP id
 ca18e2360f4ac-82a10bd0d58so8049139f.0
 for <test-report@dpdk.org>; Wed, 04 Sep 2024 17:30:48 -0700 (PDT)
DKIM-Signature: v=1; a=rsa-sha256; c=relaxed/relaxed;
 d=iol.unh.edu; s=unh-iol; t=1725496248; x=1726101048; darn=dpdk.org;
 h=references:in-reply-to:cc:to:from:subject:message-id:date:from:to
 :cc:subject:date:message-id:reply-to;
 bh=wwkpYO6M7L8rYtuX6wUPvg+XR3wmUdKO1yqZ8XBho3E=;
 b=OOT/B8uPYwpDq7sr/xia0VA7pIR58YwYxtdx7gXF3ygQ2T61n23f3lCIIrfBy/m7+l
 Oobts9dSFHepe+nGVbCOSO0OCqqfWUbktXXy3d/K4ifX3zb2UXK5jXeRgS77790v78bA
 fyBFibkWheGA0QEcgNv29V2iUk/+bl2MhS3Jg=
X-Google-DKIM-Signature: v=1; a=rsa-sha256; c=relaxed/relaxed;
 d=1e100.net; s=20230601; t=1725496248; x=1726101048;
 h=references:in-reply-to:cc:to:from:subject:message-id:date
 :x-gm-message-state:from:to:cc:subject:date:message-id:reply-to;
 bh=wwkpYO6M7L8rYtuX6wUPvg+XR3wmUdKO1yqZ8XBho3E=;
 b=ug/2L4BWSlbVsQuG5BFFZWMdoaQO/UAlLBGTwSQveX4jDvSs28euiNqVLuc5W7uj/J
 nLftDt9OqSJK1/ZLxQIsNHA3pP6k0yI1f3tBZ9GuPo2W+pdWQLihdP6yny8GFMoyT4BR
 KsJn0Nrd23nTRvCBmmkorg/LYqCKL6CFyWyYYCZ87n1ploYsI4sfkwIJmU8Y3y+L0r7q
 g/MHuixX2Wl0ExTdylC28ORaPZ4HoT3CsvHIeck3TO1sDTWLVJuzwyrAMevBdefjnMC+
 QASd4zCrnfcV8RVMELATkahhsf8TZxiO1ejGTUk5r+2Snpao9xe+nCnsQu0llnaDLOCE
 5e2g==
X-Gm-Message-State: AOJu0YxT70Ip7O+/I+pxyK+NUvaIcGPowcJIOzofFnEEVWPRyk4AHIUL
 qjAF6TmTS/o0h9FYXeVn5Zkzx8T4Ce/+7JACq/Q432YNePdlr+9Mlt30VPmEIL0iBPHQVl7pSWr
 ugBvu6sHoI6LJIXM2YUKBe75qKnQQ48Or3QooB+IT
X-Google-Smtp-Source: AGHT+IG3bV1xaM12Pv3cnfsom3+KWVHN4gqcXipNqZPT2PelHyKhkReMqyZ8W09tyZ9HaoM1/W5ooa9BOZv8
X-Received: by 2002:a05:6e02:18cc:b0:375:a3eb:bfcd with SMTP id
 e9e14a558f8ab-39f797b23a7mr38403245ab.8.1725496247821; 
 Wed, 04 Sep 2024 17:30:47 -0700 (PDT)
Received: from postal.iol.unh.edu (postal.iol.unh.edu. [132.177.123.84])
 by smtp-relay.gmail.com with ESMTPS id
 8926c6da1cb9f-4ced2dcbf08sm512821173.14.2024.09.04.17.30.47
 (version=TLS1_2 cipher=ECDHE-ECDSA-AES128-GCM-SHA256 bits=128/128);
 Wed, 04 Sep 2024 17:30:47 -0700 (PDT)
X-Relaying-Domain: iol.unh.edu
Date: Wed, 04 Sep 2024 17:30:47 -0700 (PDT)
Message-ID: <66d8fbb7.050a0220.14caa4.ad0fSMTPIN_ADDED_MISSING@mx.google.com>
Received: from [172.17.0.4] (unknown [172.18.0.215])
 by postal.iol.unh.edu (Postfix) with ESMTP id 4A56F605C380;
 Wed,  4 Sep 2024 20:30:47 -0400 (EDT)
Subject: |SUCCESS| pw143596-143597 [PATCH] [v4,2/2] dts: add dynamic queue te
From: dpdklab@iol.unh.edu
To: Test Report <test-report@dpdk.org>
Cc: dpdk-test-reports@iol.unh.edu
In-Reply-To: <20240904154951.13524-3-jspewock@iol.unh.edu>
References: <20240904154951.13524-3-jspewock@iol.unh.edu>
Content-Type: text/plain
X-BeenThere: test-report@dpdk.org
X-Mailman-Version: 2.1.29
Precedence: list
List-Id: automatic DPDK test reports <test-report.dpdk.org>
List-Unsubscribe: <https://mails.dpdk.org/options/test-report>,
 <mailto:test-report-request@dpdk.org?subject=unsubscribe>
List-Archive: <http://mails.dpdk.org/archives/test-report/>
List-Post: <mailto:test-report@dpdk.org>
List-Help: <mailto:test-report-request@dpdk.org?subject=help>
List-Subscribe: <https://mails.dpdk.org/listinfo/test-report>,
 <mailto:test-report-request@dpdk.org?subject=subscribe>
Errors-To: test-report-bounces@dpdk.org

Test-Label: iol-compile-amd64-testing
Test-Status: SUCCESS
http://dpdk.org/patch/143597

_Testing PASS_

Submitter: Jeremy Spewock <jspewock@iol.unh.edu>
Date: Wednesday, September 04 2024 15:49:51 
DPDK git baseline: Repo:dpdk
  Branch: master
  CommitID:41dd9a6bc2d9c6e20e139ad713cc9d172572dd43

143596-143597 --> testing pass

Upstream job id: Generic-DPDK-Compile-Meson#295319

Test environment and result as below:

+---------------------+-----------------------+--------------------+----------------------+-------------------+------------------+-------------------+
|     Environment     | dpdk_win_llvm_compile | dpdk_meson_compile | dpdk_mingw64_compile | dpdk_msvc_compile | dpdk_compile_ovs | dpdk_compile_spdk |
+=====================+=======================+====================+======================+===================+==================+===================+
| Windows Server 2022 | PASS                  | SKIPPED            | PASS                 | PASS              | SKIPPED          | SKIPPED           |
+---------------------+-----------------------+--------------------+----------------------+-------------------+------------------+-------------------+
| FreeBSD 13.3        | SKIPPED               | PASS               | SKIPPED              | SKIPPED           | SKIPPED          | SKIPPED           |
+---------------------+-----------------------+--------------------+----------------------+-------------------+------------------+-------------------+
| FreeBSD 14.1        | SKIPPED               | PASS               | SKIPPED              | SKIPPED           | SKIPPED          | SKIPPED           |
+---------------------+-----------------------+--------------------+----------------------+-------------------+------------------+-------------------+
| CentOS Stream 9     | SKIPPED               | PASS               | SKIPPED              | SKIPPED           | PASS             | PASS              |
+---------------------+-----------------------+--------------------+----------------------+-------------------+------------------+-------------------+
| Debian Bullseye     | SKIPPED               | PASS               | SKIPPED              | SKIPPED           | PASS             | PASS              |
+---------------------+-----------------------+--------------------+----------------------+-------------------+------------------+-------------------+
| Debian 12           | SKIPPED               | PASS               | SKIPPED              | SKIPPED           | PASS             | PASS              |
+---------------------+-----------------------+--------------------+----------------------+-------------------+------------------+-------------------+
| Fedora 37           | SKIPPED               | PASS               | SKIPPED              | SKIPPED           | PASS             | PASS              |
+---------------------+-----------------------+--------------------+----------------------+-------------------+------------------+-------------------+
| Fedora 38 (Clang)   | SKIPPED               | PASS               | SKIPPED              | SKIPPED           | PASS             | PASS              |
+---------------------+-----------------------+--------------------+----------------------+-------------------+------------------+-------------------+
| Fedora 38           | SKIPPED               | PASS               | SKIPPED              | SKIPPED           | PASS             | PASS              |
+---------------------+-----------------------+--------------------+----------------------+-------------------+------------------+-------------------+
| Fedora 39 (Clang)   | SKIPPED               | PASS               | SKIPPED              | SKIPPED           | PASS             | PASS              |
+---------------------+-----------------------+--------------------+----------------------+-------------------+------------------+-------------------+
| Fedora 39           | SKIPPED               | PASS               | SKIPPED              | SKIPPED           | PASS             | PASS              |
+---------------------+-----------------------+--------------------+----------------------+-------------------+------------------+-------------------+
| Fedora 40 (Clang)   | SKIPPED               | PASS               | SKIPPED              | SKIPPED           | PASS             | PASS              |
+---------------------+-----------------------+--------------------+----------------------+-------------------+------------------+-------------------+
| Fedora 40           | SKIPPED               | PASS               | SKIPPED              | SKIPPED           | PASS             | PASS              |
+---------------------+-----------------------+--------------------+----------------------+-------------------+------------------+-------------------+
| openSUSE Leap 15    | SKIPPED               | PASS               | SKIPPED              | SKIPPED           | PASS             | SKIPPED           |
+---------------------+-----------------------+--------------------+----------------------+-------------------+------------------+-------------------+
| RHEL8               | SKIPPED               | PASS               | SKIPPED              | SKIPPED           | PASS             | SKIPPED           |
+---------------------+-----------------------+--------------------+----------------------+-------------------+------------------+-------------------+
| RHEL9               | SKIPPED               | PASS               | SKIPPED              | SKIPPED           | PASS             | SKIPPED           |
+---------------------+-----------------------+--------------------+----------------------+-------------------+------------------+-------------------+
| Ubuntu 20.04        | SKIPPED               | PASS               | SKIPPED              | SKIPPED           | PASS             | SKIPPED           |
+---------------------+-----------------------+--------------------+----------------------+-------------------+------------------+-------------------+
| Ubuntu 22.04        | SKIPPED               | PASS               | SKIPPED              | SKIPPED           | PASS             | PASS              |
+---------------------+-----------------------+--------------------+----------------------+-------------------+------------------+-------------------+
| Ubuntu 24.04        | SKIPPED               | PASS               | SKIPPED              | SKIPPED           | PASS             | PASS              |
+---------------------+-----------------------+--------------------+----------------------+-------------------+------------------+-------------------+
| Alpine              | SKIPPED               | PASS               | SKIPPED              | SKIPPED           | PASS             | SKIPPED           |
+---------------------+-----------------------+--------------------+----------------------+-------------------+------------------+-------------------+


Windows Server 2022
	Kernel: 10.0.20348.2031
	Compiler: clang 15.0.7, gcc 14.1.0 (MinGW), and MSVC VS 19.39.33521

FreeBSD 13.3
	Kernel: 13.3-RELEASE-p5
	Compiler: clang 17.0.6

FreeBSD 14.1
	Kernel: 14.1-RELEASE-p3
	Compiler: clang 18.1.5

CentOS Stream 9
	Kernel: Depends on container host
	Compiler: gcc 11.4.1 20231218 (Red Hat 11.4.1-3)

Debian Bullseye
	Kernel: Depends on container host
	Compiler: gcc (Debian 10.2.1-6) 10.2.1 20210110

Debian 12
	Kernel: Depends on container host
	Compiler: gcc (Debian 12.2.0-14) 12.2.0

Fedora 37
	Kernel: Depends on container host system
	Compiler: gcc 12.3.1 20230508 (Red Hat 12.3.1-1)

Fedora 38 (Clang)
	Kernel: Depends on container host
	Compiler: clang 16.0.6 (Fedora 16.0.6-4.fc38)

Fedora 38
	Kernel: Depends on container host
	Compiler: gcc 13.2.1 20240316 (Red Hat 13.2.1-7)

Fedora 39 (Clang)
	Kernel: Depends on container host
	Compiler: clang 17.0.6 (Fedora 17.0.6-2.fc39)

Fedora 39
	Kernel: Depends on container host
	Compiler: gcc 13.3.1 20240522 (Red Hat 13.3.1-1)

Fedora 40 (Clang)
	Kernel: Depends on container host
	Compiler: clang 18.1.6 (Fedora 18.1.6-3.fc40)

Fedora 40
	Kernel: Depends on container host
	Compiler: gcc 14.2.1 20240801 (Red Hat 14.2.1-1)

openSUSE Leap 15
	Kernel: Depends on container host
	Compiler: gcc (SUSE Linux) 7.5.0

RHEL8
	Kernel: Depends on container host
	Compiler: gcc 8.5.0 20210514 (Red Hat 8.5.0-22)

RHEL9
	Kernel: Depends on container host
	Compiler: gcc 11.4.1 20231218 (Red Hat 11.4.1-3)

Ubuntu 20.04
	Kernel: Depends on container host
	Compiler: gcc (Ubuntu 9.4.0-1ubuntu1~20.04.2) 9.4.0

Ubuntu 22.04
	Kernel: Depends on container host
	Compiler: gcc (Ubuntu 11.4.0-1ubuntu1~22.04) 11.4.0

Ubuntu 24.04
	Kernel: Depends on container host
	Compiler: gcc (Ubuntu 13.2.0-23ubuntu4) 13.2.0

Alpine
	Kernel: Depends on container host
	Compiler: gcc (Alpine 13.2.1_git20240309) 13.2.1 20240309

To view detailed results, visit:
https://lab.dpdk.org/results/dashboard/patchsets/30906/

UNH-IOL DPDK Community Lab

To manage your email subscriptions, visit: 
https://lab.dpdk.org/results/dashboard/preferences/subscriptions/