From mboxrd@z Thu Jan  1 00:00:00 1970
Return-Path: <test-report-bounces@dpdk.org>
Received: from mails.dpdk.org (mails.dpdk.org [217.70.189.124])
	by inbox.dpdk.org (Postfix) with ESMTP id C796445901
	for <public@inbox.dpdk.org>; Thu,  5 Sep 2024 02:50:02 +0200 (CEST)
Received: from mails.dpdk.org (localhost [127.0.0.1])
	by mails.dpdk.org (Postfix) with ESMTP id BA26A402F2;
	Thu,  5 Sep 2024 02:50:02 +0200 (CEST)
Received: from mail-pl1-f226.google.com (mail-pl1-f226.google.com
 [209.85.214.226])
 by mails.dpdk.org (Postfix) with ESMTP id 3EDC14025C
 for <test-report@dpdk.org>; Thu,  5 Sep 2024 02:50:00 +0200 (CEST)
Received: by mail-pl1-f226.google.com with SMTP id
 d9443c01a7336-2068acc8a4fso2623945ad.1
 for <test-report@dpdk.org>; Wed, 04 Sep 2024 17:50:00 -0700 (PDT)
DKIM-Signature: v=1; a=rsa-sha256; c=relaxed/relaxed;
 d=iol.unh.edu; s=unh-iol; t=1725497399; x=1726102199; darn=dpdk.org;
 h=references:in-reply-to:cc:to:from:subject:message-id:date:from:to
 :cc:subject:date:message-id:reply-to;
 bh=+NYuvPlY1dDfKGSyR8KyaZ2QZmhwagrqjupCf/itSrU=;
 b=fEKJ5RQHMWvEmTjugHZ/e2cyklIkwJEAxHdAUTk5sOjJPxEULcmEbp0rXs3BHRyaGB
 k6PGtDf4Wyiq6dLMuOsIEm3GDB09PaODsNYKl5wg84ptyKk7AgLIoFYCDGmaDSwvpL6U
 s4Mm5QuVXSf3H88ikN+aVfcGBhN097UyZqLK4=
X-Google-DKIM-Signature: v=1; a=rsa-sha256; c=relaxed/relaxed;
 d=1e100.net; s=20230601; t=1725497399; x=1726102199;
 h=references:in-reply-to:cc:to:from:subject:message-id:date
 :x-gm-message-state:from:to:cc:subject:date:message-id:reply-to;
 bh=+NYuvPlY1dDfKGSyR8KyaZ2QZmhwagrqjupCf/itSrU=;
 b=NwgOgr8z7fhrfNqZzLUWh/XvdynFT8HmT2qYpo2XUY/QhAsqVUtXycuuTqwGc+1HhO
 eLCQbmTcN+CaPcf4MG5iJnGYu3419Qr0MZRM9E/uXiFi3O6rQZjxqcivmBof9K7Zn30V
 +F8tq5fJ/rS72Mmn6F3viK49tf++n1g/qY5rK/jGza1IH/y4A+GP10Ui3LpDaPRGlSF4
 IPCsdmzTH8EZtcB7dyIXHfn3bZrz0tudqQs+JfXG/1165kPngFf2QT2yUiDWdBWWqX2c
 WIYoABQfWIqwWY7cNG5MllQ/zJgWhhURRvKlSezY8zB4uKo+TROuglxUUzgrqy/r42D7
 +o2w==
X-Gm-Message-State: AOJu0Yxik+llVp90/Lf6nS9ihThsOfKsg6FjNyl2rtMtz0BN3Jd7eHIt
 fsH/BmAjVQpci+u8JSt8KowaKfGcgJPL2iFAt3iQZf1weKgNH/NoC3Ridh7TmfwPKK4mGQtLCdJ
 I3hPSe6uTzo7Od24m4yebf/atiLmXJpIn+fRMtl+k
X-Google-Smtp-Source: AGHT+IHYpwUogVpZ+AU8aIg8OH6E9M4NtH/ejT0mHP2m4/mg6nD552XMiESzy0dbi/sbBvchqfaQvwxbjfqq
X-Received: by 2002:a17:903:1109:b0:203:a0c5:fcfd with SMTP id
 d9443c01a7336-2050c215d63mr237053745ad.3.1725497399505; 
 Wed, 04 Sep 2024 17:49:59 -0700 (PDT)
Received: from postal.iol.unh.edu (postal.iol.unh.edu. [132.177.123.84])
 by smtp-relay.gmail.com with ESMTPS id
 d9443c01a7336-206ae9cf238sm1403565ad.91.2024.09.04.17.49.59
 (version=TLS1_2 cipher=ECDHE-ECDSA-AES128-GCM-SHA256 bits=128/128);
 Wed, 04 Sep 2024 17:49:59 -0700 (PDT)
X-Relaying-Domain: iol.unh.edu
Date: Wed, 04 Sep 2024 17:49:59 -0700 (PDT)
Message-ID: <66d90037.170a0220.1190cb.b067SMTPIN_ADDED_MISSING@mx.google.com>
Received: from [172.17.0.2] (unknown [172.18.0.215])
 by postal.iol.unh.edu (Postfix) with ESMTP id E217B605C381;
 Wed,  4 Sep 2024 20:49:58 -0400 (EDT)
Subject: |SUCCESS| pw143596-143597 [PATCH] [v4,2/2] dts: add dynamic queue te
From: dpdklab@iol.unh.edu
To: Test Report <test-report@dpdk.org>
Cc: dpdk-test-reports@iol.unh.edu
In-Reply-To: <20240904154951.13524-3-jspewock@iol.unh.edu>
References: <20240904154951.13524-3-jspewock@iol.unh.edu>
Content-Type: text/plain
X-BeenThere: test-report@dpdk.org
X-Mailman-Version: 2.1.29
Precedence: list
List-Id: automatic DPDK test reports <test-report.dpdk.org>
List-Unsubscribe: <https://mails.dpdk.org/options/test-report>,
 <mailto:test-report-request@dpdk.org?subject=unsubscribe>
List-Archive: <http://mails.dpdk.org/archives/test-report/>
List-Post: <mailto:test-report@dpdk.org>
List-Help: <mailto:test-report-request@dpdk.org?subject=help>
List-Subscribe: <https://mails.dpdk.org/listinfo/test-report>,
 <mailto:test-report-request@dpdk.org?subject=subscribe>
Errors-To: test-report-bounces@dpdk.org

Test-Label: iol-compile-arm64-testing
Test-Status: SUCCESS
http://dpdk.org/patch/143597

_Testing PASS_

Submitter: Jeremy Spewock <jspewock@iol.unh.edu>
Date: Wednesday, September 04 2024 15:49:51 
DPDK git baseline: Repo:dpdk
  Branch: master
  CommitID:41dd9a6bc2d9c6e20e139ad713cc9d172572dd43

143596-143597 --> testing pass

Upstream job id: Generic-DPDK-Compile-Meson#295329

Test environment and result as below:

+----------------------------------------+--------------------+
|              Environment               | dpdk_meson_compile |
+========================================+====================+
| RHEL9 (ARM)                            | PASS               |
+----------------------------------------+--------------------+
| Ubuntu 20.04 ARM GCC Cross Compile     | PASS               |
+----------------------------------------+--------------------+
| Ubuntu 20.04 ARM SVE                   | PASS               |
+----------------------------------------+--------------------+
| Debian 12 with MUSDK                   | PASS               |
+----------------------------------------+--------------------+
| Fedora 37 (ARM)                        | PASS               |
+----------------------------------------+--------------------+
| Fedora 38 (ARM)                        | PASS               |
+----------------------------------------+--------------------+
| Fedora 38 (ARM Clang)                  | PASS               |
+----------------------------------------+--------------------+
| Fedora 39 (ARM)                        | PASS               |
+----------------------------------------+--------------------+
| Fedora 39 (ARM Clang)                  | PASS               |
+----------------------------------------+--------------------+
| Fedora 40 (ARM)                        | PASS               |
+----------------------------------------+--------------------+
| Fedora 40 (ARM Clang)                  | PASS               |
+----------------------------------------+--------------------+
| Ubuntu 20.04 (ARM)                     | PASS               |
+----------------------------------------+--------------------+
| Ubuntu 22.04 (ARM)                     | PASS               |
+----------------------------------------+--------------------+
| Ubuntu 24.04 (ARM)                     | PASS               |
+----------------------------------------+--------------------+
| CentOS Stream 9 (ARM)                  | PASS               |
+----------------------------------------+--------------------+
| Debian 11 (Buster) (ARM)               | PASS               |
+----------------------------------------+--------------------+
| Debian 12 (arm)                        | PASS               |
+----------------------------------------+--------------------+
| Ubuntu 20.04 ARM Clang Cross Compile   | PASS               |
+----------------------------------------+--------------------+
| Ubuntu 20.04 aarch32 GCC Cross Compile | PASS               |
+----------------------------------------+--------------------+


RHEL9 (ARM)
	Kernel: Depends on container host
	Compiler: gcc 11.4.1 20231218 (Red Hat 11.4.1-3)

Ubuntu 20.04 ARM GCC Cross Compile
	Kernel: Depends on container host
	Compiler: aarch64-linux-gnu-gcc (Ubuntu 9.4.0-1ubuntu1~20.04.2) 9.4.0

Ubuntu 20.04 ARM SVE
	Kernel: Depends on container host
	Compiler: gcc (Ubuntu 10.5.0-1ubuntu1~20.04) 10.5.0

Debian 12 with MUSDK
	Kernel: Depends on container host
	Compiler: gcc (Debian 12.2.0-14) 12.2.0

Fedora 37 (ARM)
	Kernel: Depends on container host
	Compiler: gcc 12.3.1 20230508 (Red Hat 12.3.1-1)

Fedora 38 (ARM)
	Kernel: Depends on container host
	Compiler: gcc 13.2.1 20240316 (Red Hat 13.2.1-7)

Fedora 38 (ARM Clang)
	Kernel: Depends on container host
	Compiler: clang 16.0.6 (Fedora 16.0.6-4.fc38)

Fedora 39 (ARM)
	Kernel: Depends on container host
	Compiler: gcc 13.3.1 20240522 (Red Hat 13.3.1-1)

Fedora 39 (ARM Clang)
	Kernel: Depends on container host
	Compiler: clang 17.0.6 (Fedora 17.0.6-2.fc39)

Fedora 40 (ARM)
	Kernel: Depends on container host
	Compiler: gcc 14.2.1 20240801 (Red Hat 14.2.1-1)

Fedora 40 (ARM Clang)
	Kernel: Depends on container host
	Compiler: clang 18.1.6 (Fedora 18.1.6-3.fc40)

Ubuntu 20.04 (ARM)
	Kernel: Depends on container host
	Compiler: gcc (Ubuntu 9.4.0-1ubuntu1~20.04.2) 9.4.0

Ubuntu 22.04 (ARM)
	Kernel: Depends on container host
	Compiler: gcc (Ubuntu 11.4.0-1ubuntu1~22.04) 11.4.0

Ubuntu 24.04 (ARM)
	Kernel: Depends on container host
	Compiler: gcc (Ubuntu 13.2.0-23ubuntu4) 13.2.0

CentOS Stream 9 (ARM)
	Kernel: Depends on container host
	Compiler: gcc 11.4.1 20231218 (Red Hat 11.4.1-3)

Debian 11 (Buster) (ARM)
	Kernel: Depends on container host
	Compiler: gcc (Debian 10.2.1-6) 10.2.1 20210110

Debian 12 (arm)
	Kernel: Depends on container host
	Compiler: gcc (Debian 12.2.0-14) 12.2.0

Ubuntu 20.04 ARM Clang Cross Compile
	Kernel: Depends on container host
	Compiler: clang 10.0.0-4ubuntu1

Ubuntu 20.04 aarch32 GCC Cross Compile
	Kernel: Depends on container host
	Compiler: gcc 9.4.0

To view detailed results, visit:
https://lab.dpdk.org/results/dashboard/patchsets/30906/

UNH-IOL DPDK Community Lab

To manage your email subscriptions, visit: 
https://lab.dpdk.org/results/dashboard/preferences/subscriptions/