From mboxrd@z Thu Jan  1 00:00:00 1970
Return-Path: <test-report-bounces@dpdk.org>
Received: from mails.dpdk.org (mails.dpdk.org [217.70.189.124])
	by inbox.dpdk.org (Postfix) with ESMTP id 9019D45908
	for <public@inbox.dpdk.org>; Thu,  5 Sep 2024 05:01:00 +0200 (CEST)
Received: from mails.dpdk.org (localhost [127.0.0.1])
	by mails.dpdk.org (Postfix) with ESMTP id 8A34240264;
	Thu,  5 Sep 2024 05:01:00 +0200 (CEST)
Received: from mail-pj1-f100.google.com (mail-pj1-f100.google.com
 [209.85.216.100])
 by mails.dpdk.org (Postfix) with ESMTP id B09D64025C
 for <test-report@dpdk.org>; Thu,  5 Sep 2024 05:00:59 +0200 (CEST)
Received: by mail-pj1-f100.google.com with SMTP id
 98e67ed59e1d1-2d1daa2577bso180749a91.2
 for <test-report@dpdk.org>; Wed, 04 Sep 2024 20:00:59 -0700 (PDT)
DKIM-Signature: v=1; a=rsa-sha256; c=relaxed/relaxed;
 d=iol.unh.edu; s=unh-iol; t=1725505259; x=1726110059; darn=dpdk.org;
 h=references:in-reply-to:cc:to:from:subject:message-id:date:from:to
 :cc:subject:date:message-id:reply-to;
 bh=yPwvJwuF/OujPKL8vz94ooAV5Z0u/I9Aj3rb/0O3AC4=;
 b=WM63uBRNLdtslgQWdSeUydCsPR/Ry3v1bffJUx1a7BcJeW9Edmb/uKQx6vZTYeOR47
 TWlv2C8eV5umdWrarxLREUiTGNMG45I52/GzWmMJgSpkaQYAI21sHMvXc05PL1K51hAL
 00V8bsTk6raAhKeBKIjzsmYuMPQeBWZXes8OY=
X-Google-DKIM-Signature: v=1; a=rsa-sha256; c=relaxed/relaxed;
 d=1e100.net; s=20230601; t=1725505259; x=1726110059;
 h=references:in-reply-to:cc:to:from:subject:message-id:date
 :x-gm-message-state:from:to:cc:subject:date:message-id:reply-to;
 bh=yPwvJwuF/OujPKL8vz94ooAV5Z0u/I9Aj3rb/0O3AC4=;
 b=JwGiAmJa/0eIXH7+ZwZrQmBQZ+YgxpIiR0XouHFHFdtzwX4GQtzvViDKrTpHjGeV1s
 9SgJ+bQJVcsXHru97qTM+bJm4b6GZZ5FV9/KrZBBC0vQM/FUQaxYU7UZkvfhpBRZNSG2
 Dmf8gM9LHwVj7cOysQUGXf5sbFB1437ULHuZECiPL+Sghi4u9GsNSYLvqEYJPHK4o0DV
 ivCrBvCC69J9eQv5rvLVuYQxzeNAmlDcOK9Xdql98vTlfSiUsWkNfeN2NFjTTz5Z/mLd
 FBHXkD6MUQ0FmYzDSABhByEQrNv4PMMhkM8IBUGpGt6g4UaSTAm0mLk5EwKVbIRNMuWy
 GQEw==
X-Gm-Message-State: AOJu0YxBeRKxzqpX08J7HwLEAzz+GtiN1PKPf15jq+1e3l0BKjQnPwZq
 ZpTZICnAGdWkXgb3OpPnyrqboWpb7VWdISGJQcQmmumm09TxQEuWD1CK+UXU0bpcd/8R6Mm5GdP
 ohmPAJ2fYsmG7F2oU9GQg23NXqfjd71QP5CT/Y+CBCdMm0WKhMnqEJktN
X-Google-Smtp-Source: AGHT+IFDg0a2mE4zEgUBvbalxhv2ERhDIoHqCbe+FDvYhN8uygvXoeHUbEYwEB4Pg1Zu7AcLlF0quUGbgs+e
X-Received: by 2002:a17:90a:fa42:b0:2cb:e429:f525 with SMTP id
 98e67ed59e1d1-2d856382f44mr23860506a91.33.1725505258666; 
 Wed, 04 Sep 2024 20:00:58 -0700 (PDT)
Received: from postal.iol.unh.edu (postal.iol.unh.edu.
 [2606:4100:3880:1234::84]) by smtp-relay.gmail.com with ESMTPS id
 98e67ed59e1d1-2d8446d1733sm812457a91.15.2024.09.04.20.00.58
 (version=TLS1_2 cipher=ECDHE-ECDSA-AES128-GCM-SHA256 bits=128/128);
 Wed, 04 Sep 2024 20:00:58 -0700 (PDT)
X-Relaying-Domain: iol.unh.edu
Date: Wed, 04 Sep 2024 20:00:58 -0700 (PDT)
Message-ID: <66d91eea.170a0220.302d96.1202SMTPIN_ADDED_MISSING@mx.google.com>
Received: from [172.17.0.5] (unknown [172.18.0.213])
 by postal.iol.unh.edu (Postfix) with ESMTP id 1AD95605C380;
 Wed,  4 Sep 2024 23:00:58 -0400 (EDT)
Subject: |SUCCESS| pw143585-143592 [PATCH] [v3,8/8] devtools: add script to g
From: dpdklab@iol.unh.edu
To: Test Report <test-report@dpdk.org>
Cc: dpdk-test-reports@iol.unh.edu
In-Reply-To: <93a74f4a058388066f1f615ba96b0ac7fca4ce8c.1725462264.git.anatoly.burakov@intel.com>
References: <93a74f4a058388066f1f615ba96b0ac7fca4ce8c.1725462264.git.anatoly.burakov@intel.com>
Content-Type: text/plain
X-BeenThere: test-report@dpdk.org
X-Mailman-Version: 2.1.29
Precedence: list
List-Id: automatic DPDK test reports <test-report.dpdk.org>
List-Unsubscribe: <https://mails.dpdk.org/options/test-report>,
 <mailto:test-report-request@dpdk.org?subject=unsubscribe>
List-Archive: <http://mails.dpdk.org/archives/test-report/>
List-Post: <mailto:test-report@dpdk.org>
List-Help: <mailto:test-report-request@dpdk.org?subject=help>
List-Subscribe: <https://mails.dpdk.org/listinfo/test-report>,
 <mailto:test-report-request@dpdk.org?subject=subscribe>
Errors-To: test-report-bounces@dpdk.org

Test-Label: iol-unit-amd64-testing
Test-Status: SUCCESS
http://dpdk.org/patch/143592

_Testing PASS_

Submitter: Anatoly Burakov <anatoly.burakov@intel.com>
Date: Wednesday, September 04 2024 15:08:36 
DPDK git baseline: Repo:dpdk
  Branch: master
  CommitID:41dd9a6bc2d9c6e20e139ad713cc9d172572dd43

143585-143592 --> testing pass

Upstream job id: Generic-Unit-Test-DPDK#258074

Test environment and result as below:

+---------------------+----------------+
|     Environment     | dpdk_unit_test |
+=====================+================+
| CentOS Stream 9     | PASS           |
+---------------------+----------------+
| Debian Bullseye     | PASS           |
+---------------------+----------------+
| Debian 12           | PASS           |
+---------------------+----------------+
| Fedora 37           | PASS           |
+---------------------+----------------+
| Fedora 38           | PASS           |
+---------------------+----------------+
| Fedora 39 (Clang)   | PASS           |
+---------------------+----------------+
| Fedora 40 (Clang)   | PASS           |
+---------------------+----------------+
| Fedora 40           | PASS           |
+---------------------+----------------+
| Fedora 38 (Clang)   | PASS           |
+---------------------+----------------+
| RHEL8               | PASS           |
+---------------------+----------------+
| RHEL9               | PASS           |
+---------------------+----------------+
| Fedora 39           | PASS           |
+---------------------+----------------+
| Ubuntu 20.04        | PASS           |
+---------------------+----------------+
| Ubuntu 22.04        | PASS           |
+---------------------+----------------+
| Ubuntu 24.04        | PASS           |
+---------------------+----------------+
| Windows Server 2022 | PASS           |
+---------------------+----------------+


CentOS Stream 9
	Kernel: Depends on container host
	Compiler: gcc 11.4.1 20231218 (Red Hat 11.4.1-3)

Debian Bullseye
	Kernel: Depends on container host
	Compiler: gcc (Debian 10.2.1-6) 10.2.1 20210110

Debian 12
	Kernel: Depends on container host
	Compiler: gcc (Debian 12.2.0-14) 12.2.0

Fedora 37
	Kernel: Depends on container host system
	Compiler: gcc 12.3.1 20230508 (Red Hat 12.3.1-1)

Fedora 38
	Kernel: Depends on container host
	Compiler: gcc 13.2.1 20240316 (Red Hat 13.2.1-7)

Fedora 39 (Clang)
	Kernel: Depends on container host
	Compiler: clang 17.0.6 (Fedora 17.0.6-2.fc39)

Fedora 40 (Clang)
	Kernel: Depends on container host
	Compiler: clang 18.1.6 (Fedora 18.1.6-3.fc40)

Fedora 40
	Kernel: Depends on container host
	Compiler: gcc 14.2.1 20240801 (Red Hat 14.2.1-1)

Fedora 38 (Clang)
	Kernel: Depends on container host
	Compiler: clang 16.0.6 (Fedora 16.0.6-4.fc38)

RHEL8
	Kernel: Depends on container host
	Compiler: gcc 8.5.0 20210514 (Red Hat 8.5.0-22)

RHEL9
	Kernel: Depends on container host
	Compiler: gcc 11.4.1 20231218 (Red Hat 11.4.1-3)

Fedora 39
	Kernel: Depends on container host
	Compiler: gcc 13.3.1 20240522 (Red Hat 13.3.1-1)

Ubuntu 20.04
	Kernel: Depends on container host
	Compiler: gcc (Ubuntu 9.4.0-1ubuntu1~20.04.2) 9.4.0

Ubuntu 22.04
	Kernel: Depends on container host
	Compiler: gcc (Ubuntu 11.4.0-1ubuntu1~22.04) 11.4.0

Ubuntu 24.04
	Kernel: Depends on container host
	Compiler: gcc (Ubuntu 13.2.0-23ubuntu4) 13.2.0

Windows Server 2022
	Kernel: 10.0.20348.2031
	Compiler: clang 15.0.7, gcc 14.1.0 (MinGW), and MSVC VS 19.39.33521

To view detailed results, visit:
https://lab.dpdk.org/results/dashboard/patchsets/30902/

UNH-IOL DPDK Community Lab

To manage your email subscriptions, visit: 
https://lab.dpdk.org/results/dashboard/preferences/subscriptions/