From mboxrd@z Thu Jan  1 00:00:00 1970
Return-Path: <test-report-bounces@dpdk.org>
Received: from mails.dpdk.org (mails.dpdk.org [217.70.189.124])
	by inbox.dpdk.org (Postfix) with ESMTP id 2946A45908
	for <public@inbox.dpdk.org>; Thu,  5 Sep 2024 05:02:27 +0200 (CEST)
Received: from mails.dpdk.org (localhost [127.0.0.1])
	by mails.dpdk.org (Postfix) with ESMTP id 244D740264;
	Thu,  5 Sep 2024 05:02:27 +0200 (CEST)
Received: from mail-vk1-f227.google.com (mail-vk1-f227.google.com
 [209.85.221.227])
 by mails.dpdk.org (Postfix) with ESMTP id 4FF7B4025C
 for <test-report@dpdk.org>; Thu,  5 Sep 2024 05:02:25 +0200 (CEST)
Received: by mail-vk1-f227.google.com with SMTP id
 71dfb90a1353d-4fd01340753so99362e0c.1
 for <test-report@dpdk.org>; Wed, 04 Sep 2024 20:02:25 -0700 (PDT)
DKIM-Signature: v=1; a=rsa-sha256; c=relaxed/relaxed;
 d=iol.unh.edu; s=unh-iol; t=1725505344; x=1726110144; darn=dpdk.org;
 h=references:in-reply-to:cc:to:from:subject:message-id:date:from:to
 :cc:subject:date:message-id:reply-to;
 bh=EwJ1fPw9Rs5bd6P1Tk/ucYLdNiKE9vr/983OYg3LXRg=;
 b=Za11m94M4YNNVxkAGodrt2jCUEIbZooJFSNKYfadPEMtyuJpfpK1d+BU1k5/X7vg9S
 eNWOOBia4UFH1okap4k/Wo1MXD3Z3WK63ZOCK62u1BAzSUaa3kTzO4oKpi/BOclrpYdH
 9hSnz9GTCtUKo/mLc0hKU3+Fzq1OF+dm8XhhY=
X-Google-DKIM-Signature: v=1; a=rsa-sha256; c=relaxed/relaxed;
 d=1e100.net; s=20230601; t=1725505344; x=1726110144;
 h=references:in-reply-to:cc:to:from:subject:message-id:date
 :x-gm-message-state:from:to:cc:subject:date:message-id:reply-to;
 bh=EwJ1fPw9Rs5bd6P1Tk/ucYLdNiKE9vr/983OYg3LXRg=;
 b=vvEq1MoKsbqSQDXSekSwmFJOhC4+hHHLC60ihsar84urzPY9t2p9zFVnjLOu+sRXhu
 I7VQ4DzuSXRuJqSn+7xDHNeGOpX2QTWcw/eH/5AwdLpoZZFxmdpTtiyiGw/amJl8xdLq
 pPEOHFslhqutwGI2smdEwNPyIRvLSOEYlS1H2+Qhi76YNt5Ekgo+TApJamIwgLH5dZLA
 yofi9zgcATR20h1blEC+MDpQZFGxPp9K06hFfgaCQW+EJQnPJLU+zrmd/ehuzvW1lDp6
 9ClrbON7qFl1bQfDtRbeyGz+z3NdI302ZYMli1DH88EqXOzKUBp8bowE0KclfrSzr4x3
 /H+A==
X-Gm-Message-State: AOJu0YxBPixZq+orOXkP8wU3C7zsiPtbE84WYALDSk4otTWLzoHliAwL
 R7WiTIJvPZlc0AZiRI0AA22wo9DQ40WX1k/Rc7uOOuR0qIQPI7HtZatYqcy8e04b1mDNzAssd9+
 h93AXOoCjcgrynYFX1yGjd66QNVq8g2SY3ZNmFbMu
X-Google-Smtp-Source: AGHT+IFpia20mQqm+n20BaULFIuEbE/zCpVdIVjZhsKHl15l5lQO5nms9XxomEvWrFn4y/59zsTnmGB9zZBe
X-Received: by 2002:a05:6122:1e08:b0:4f5:3048:ee20 with SMTP id
 71dfb90a1353d-4ffe4a7b32bmr22143509e0c.5.1725505344614; 
 Wed, 04 Sep 2024 20:02:24 -0700 (PDT)
Received: from postal.iol.unh.edu (postal.iol.unh.edu. [132.177.123.84])
 by smtp-relay.gmail.com with ESMTPS id
 6a1803df08f44-6c5202dbb6fsm533476d6.18.2024.09.04.20.02.24
 (version=TLS1_2 cipher=ECDHE-ECDSA-AES128-GCM-SHA256 bits=128/128);
 Wed, 04 Sep 2024 20:02:24 -0700 (PDT)
X-Relaying-Domain: iol.unh.edu
Date: Wed, 04 Sep 2024 20:02:24 -0700 (PDT)
Message-ID: <66d91f40.d40a0220.3beb55.3ec3SMTPIN_ADDED_MISSING@mx.google.com>
Received: from [172.17.0.5] (unknown [172.18.0.215])
 by postal.iol.unh.edu (Postfix) with ESMTP id 51E48605C380;
 Wed,  4 Sep 2024 23:02:24 -0400 (EDT)
Subject: |SUCCESS| pw143593 [PATCH] [v1,1/1] usertools: add DPDK build direct
From: dpdklab@iol.unh.edu
To: Test Report <test-report@dpdk.org>
Cc: dpdk-test-reports@iol.unh.edu
In-Reply-To: <d961787cf29192bf329fec0cc0ac25e6397743f6.1725462616.git.anatoly.burakov@intel.com>
References: <d961787cf29192bf329fec0cc0ac25e6397743f6.1725462616.git.anatoly.burakov@intel.com>
Content-Type: text/plain
X-BeenThere: test-report@dpdk.org
X-Mailman-Version: 2.1.29
Precedence: list
List-Id: automatic DPDK test reports <test-report.dpdk.org>
List-Unsubscribe: <https://mails.dpdk.org/options/test-report>,
 <mailto:test-report-request@dpdk.org?subject=unsubscribe>
List-Archive: <http://mails.dpdk.org/archives/test-report/>
List-Post: <mailto:test-report@dpdk.org>
List-Help: <mailto:test-report-request@dpdk.org?subject=help>
List-Subscribe: <https://mails.dpdk.org/listinfo/test-report>,
 <mailto:test-report-request@dpdk.org?subject=subscribe>
Errors-To: test-report-bounces@dpdk.org

Test-Label: iol-unit-arm64-testing
Test-Status: SUCCESS
http://dpdk.org/patch/143593

_Testing PASS_

Submitter: Anatoly Burakov <anatoly.burakov@intel.com>
Date: Wednesday, September 04 2024 15:17:14 
DPDK git baseline: Repo:dpdk
  Branch: master
  CommitID:41dd9a6bc2d9c6e20e139ad713cc9d172572dd43

143593 --> testing pass

Upstream job id: Generic-Unit-Test-DPDK#258041

Test environment and result as below:

+-----------------------------+----------------+---------------------------+------------------------------+--------------+
|         Environment         | dpdk_unit_test | cryptodev_sw_zuc_autotest | cryptodev_sw_snow3g_autotest | lpm_autotest |
+=============================+================+===========================+==============================+==============+
| 32-bit Ubuntu 20.04.4 (ARM) | PASS           | SKIPPED                   | SKIPPED                      | SKIPPED      |
+-----------------------------+----------------+---------------------------+------------------------------+--------------+
| CentOS Stream 9 (ARM)       | PASS           | SKIPPED                   | SKIPPED                      | SKIPPED      |
+-----------------------------+----------------+---------------------------+------------------------------+--------------+
| Debian 11 (Buster) (ARM)    | PASS           | SKIPPED                   | SKIPPED                      | SKIPPED      |
+-----------------------------+----------------+---------------------------+------------------------------+--------------+
| Debian 12 (arm)             | PASS           | PASS                      | PASS                         | SKIPPED      |
+-----------------------------+----------------+---------------------------+------------------------------+--------------+
| Fedora 37 (ARM)             | PASS           | SKIPPED                   | SKIPPED                      | SKIPPED      |
+-----------------------------+----------------+---------------------------+------------------------------+--------------+
| Fedora 38 (ARM)             | PASS           | SKIPPED                   | SKIPPED                      | SKIPPED      |
+-----------------------------+----------------+---------------------------+------------------------------+--------------+
| Fedora 38 (ARM Clang)       | PASS           | SKIPPED                   | SKIPPED                      | SKIPPED      |
+-----------------------------+----------------+---------------------------+------------------------------+--------------+
| Fedora 39 (ARM Clang)       | PASS           | SKIPPED                   | SKIPPED                      | SKIPPED      |
+-----------------------------+----------------+---------------------------+------------------------------+--------------+
| Fedora 39 (ARM)             | PASS           | SKIPPED                   | SKIPPED                      | SKIPPED      |
+-----------------------------+----------------+---------------------------+------------------------------+--------------+
| Fedora 40 (ARM)             | PASS           | SKIPPED                   | SKIPPED                      | SKIPPED      |
+-----------------------------+----------------+---------------------------+------------------------------+--------------+
| Fedora 40 (ARM Clang)       | PASS           | SKIPPED                   | SKIPPED                      | SKIPPED      |
+-----------------------------+----------------+---------------------------+------------------------------+--------------+
| Ubuntu 22.04 (ARM)          | PASS           | SKIPPED                   | SKIPPED                      | SKIPPED      |
+-----------------------------+----------------+---------------------------+------------------------------+--------------+
| Ubuntu 20.04 (ARM)          | PASS           | SKIPPED                   | SKIPPED                      | SKIPPED      |
+-----------------------------+----------------+---------------------------+------------------------------+--------------+
| RHEL9 (ARM)                 | PASS           | SKIPPED                   | SKIPPED                      | SKIPPED      |
+-----------------------------+----------------+---------------------------+------------------------------+--------------+
| Ubuntu 24.04 (ARM)          | PASS           | SKIPPED                   | SKIPPED                      | SKIPPED      |
+-----------------------------+----------------+---------------------------+------------------------------+--------------+
| Ubuntu 20.04 ARM SVE        | SKIPPED        | SKIPPED                   | SKIPPED                      | PASS         |
+-----------------------------+----------------+---------------------------+------------------------------+--------------+


32-bit Ubuntu 20.04.4 (ARM)
	Kernel: 5.4.0-155-generic aarch64
	Compiler: gcc 9.4

CentOS Stream 9 (ARM)
	Kernel: Depends on container host
	Compiler: gcc 11.4.1 20231218 (Red Hat 11.4.1-3)

Debian 11 (Buster) (ARM)
	Kernel: Depends on container host
	Compiler: gcc (Debian 10.2.1-6) 10.2.1 20210110

Debian 12 (arm)
	Kernel: Depends on container host
	Compiler: gcc (Debian 12.2.0-14) 12.2.0

Fedora 37 (ARM)
	Kernel: Depends on container host
	Compiler: gcc 12.3.1 20230508 (Red Hat 12.3.1-1)

Fedora 38 (ARM)
	Kernel: Depends on container host
	Compiler: gcc 13.2.1 20240316 (Red Hat 13.2.1-7)

Fedora 38 (ARM Clang)
	Kernel: Depends on container host
	Compiler: clang 16.0.6 (Fedora 16.0.6-4.fc38)

Fedora 39 (ARM Clang)
	Kernel: Depends on container host
	Compiler: clang 17.0.6 (Fedora 17.0.6-2.fc39)

Fedora 39 (ARM)
	Kernel: Depends on container host
	Compiler: gcc 13.3.1 20240522 (Red Hat 13.3.1-1)

Fedora 40 (ARM)
	Kernel: Depends on container host
	Compiler: gcc 14.2.1 20240801 (Red Hat 14.2.1-1)

Fedora 40 (ARM Clang)
	Kernel: Depends on container host
	Compiler: clang 18.1.6 (Fedora 18.1.6-3.fc40)

Ubuntu 22.04 (ARM)
	Kernel: Depends on container host
	Compiler: gcc (Ubuntu 11.4.0-1ubuntu1~22.04) 11.4.0

Ubuntu 20.04 (ARM)
	Kernel: Depends on container host
	Compiler: gcc (Ubuntu 9.4.0-1ubuntu1~20.04.2) 9.4.0

RHEL9 (ARM)
	Kernel: Depends on container host
	Compiler: gcc 11.4.1 20231218 (Red Hat 11.4.1-3)

Ubuntu 24.04 (ARM)
	Kernel: Depends on container host
	Compiler: gcc (Ubuntu 13.2.0-23ubuntu4) 13.2.0

Ubuntu 20.04 ARM SVE
	Kernel: Depends on container host
	Compiler: gcc (Ubuntu 10.5.0-1ubuntu1~20.04) 10.5.0

To view detailed results, visit:
https://lab.dpdk.org/results/dashboard/patchsets/30903/

UNH-IOL DPDK Community Lab

To manage your email subscriptions, visit: 
https://lab.dpdk.org/results/dashboard/preferences/subscriptions/