From mboxrd@z Thu Jan  1 00:00:00 1970
Return-Path: <test-report-bounces@dpdk.org>
Received: from mails.dpdk.org (mails.dpdk.org [217.70.189.124])
	by inbox.dpdk.org (Postfix) with ESMTP id 5579C45908
	for <public@inbox.dpdk.org>; Thu,  5 Sep 2024 05:38:24 +0200 (CEST)
Received: from mails.dpdk.org (localhost [127.0.0.1])
	by mails.dpdk.org (Postfix) with ESMTP id 4E62440264;
	Thu,  5 Sep 2024 05:38:24 +0200 (CEST)
Received: from mail-il1-f228.google.com (mail-il1-f228.google.com
 [209.85.166.228])
 by mails.dpdk.org (Postfix) with ESMTP id 323CD4025C
 for <test-report@dpdk.org>; Thu,  5 Sep 2024 05:38:23 +0200 (CEST)
Received: by mail-il1-f228.google.com with SMTP id
 e9e14a558f8ab-39f51934f61so1265435ab.2
 for <test-report@dpdk.org>; Wed, 04 Sep 2024 20:38:23 -0700 (PDT)
DKIM-Signature: v=1; a=rsa-sha256; c=relaxed/relaxed;
 d=iol.unh.edu; s=unh-iol; t=1725507502; x=1726112302; darn=dpdk.org;
 h=references:in-reply-to:cc:to:from:subject:message-id:date:from:to
 :cc:subject:date:message-id:reply-to;
 bh=AWPRCLrtl1JzckMNsJCaAoSquJ6NoZ7uefTFS3F3514=;
 b=bMjdXCFvxuq7PQJuQouVW571M4pRgtcuF6n7ity+RqM54SsOMHEv5+Gwi/fPVuGIsx
 umJ3re506tYaRinc9W8C/eazarTtntexEMcmR/gj+Ul0/XsSVLwxYM4IEBXwRIe9qBGz
 BZzIdQdR0EtLPwyV8j5AZT63VJueWTxcq7SKQ=
X-Google-DKIM-Signature: v=1; a=rsa-sha256; c=relaxed/relaxed;
 d=1e100.net; s=20230601; t=1725507502; x=1726112302;
 h=references:in-reply-to:cc:to:from:subject:message-id:date
 :x-gm-message-state:from:to:cc:subject:date:message-id:reply-to;
 bh=AWPRCLrtl1JzckMNsJCaAoSquJ6NoZ7uefTFS3F3514=;
 b=EqPCIhQ9RToTigFqFDxaRbOu+oZ6cP7TPjCVyNQMefau9Op88fK3J4u+HZ9XofJADm
 gZC2EJf9Tui2QOuDv8ZnE9MI+XZvAEY2H1DXWwDjHhE+Pzn+o1pD/sRLsK3HjyJbGphl
 43/uWwr2RKr7ZLfpHSZisfyTaElg1VjpiRk+X94zABgXzbGym2B6fLJZB1HFbGB3cOED
 rsa+cOZtNvXgAqHPfTnp+KkKZutpxmYoMJZPH7wrYbDOt+LSZ46P4ip24ALsjpq5k/1J
 Iy44m5RsDq5StQRDRt2K0Kp9lLT5EzK8G53pGN2tAB/3FNBqlWsuZ/IsvPfblMZs68za
 kJ8A==
X-Gm-Message-State: AOJu0YzMbT6xQCgXj8lf+Fa0WQKJxeciV92inLL8gK0xCPD+fpmYqlyQ
 FP1vHzTIzn1RNWMOJpgmDjaM8RbUQNV1X4kaLwYH4l2gaA/QHladRWEfAEda+hDAEqnhTvJsmFu
 pdkGDVg9KtpJyoeXeGMSywtiGyUaRY9Odt1vh/2mf
X-Google-Smtp-Source: AGHT+IHkJFq8ubmM0HMYcwf0ZQ8Y6+rpchhx1/RjLE8sWDIbdYpINZIyaPEcccSj/5gyeHBemTKItc8UShac
X-Received: by 2002:a05:6e02:1a85:b0:398:f487:5a04 with SMTP id
 e9e14a558f8ab-39f6a9a109emr119432775ab.11.1725507502501; 
 Wed, 04 Sep 2024 20:38:22 -0700 (PDT)
Received: from postal.iol.unh.edu (postal.iol.unh.edu. [132.177.123.84])
 by smtp-relay.gmail.com with ESMTPS id
 e9e14a558f8ab-39f3b1803dfsm5786915ab.75.2024.09.04.20.38.22
 (version=TLS1_2 cipher=ECDHE-ECDSA-AES128-GCM-SHA256 bits=128/128);
 Wed, 04 Sep 2024 20:38:22 -0700 (PDT)
X-Relaying-Domain: iol.unh.edu
Date: Wed, 04 Sep 2024 20:38:22 -0700 (PDT)
Message-ID: <66d927ae.920a0220.38da95.0839SMTPIN_ADDED_MISSING@mx.google.com>
Received: from [172.17.0.4] (unknown [172.18.0.214])
 by postal.iol.unh.edu (Postfix) with ESMTP id F3E60605C380;
 Wed,  4 Sep 2024 23:38:21 -0400 (EDT)
Subject: |SUCCESS| pw143584 [PATCH] [RFC] devtools/test-meson-builds: use cro
From: dpdklab@iol.unh.edu
To: Test Report <test-report@dpdk.org>
Cc: dpdk-test-reports@iol.unh.edu
In-Reply-To: <20240904140313.333098-1-bruce.richardson@intel.com>
References: <20240904140313.333098-1-bruce.richardson@intel.com>
Content-Type: text/plain
X-BeenThere: test-report@dpdk.org
X-Mailman-Version: 2.1.29
Precedence: list
List-Id: automatic DPDK test reports <test-report.dpdk.org>
List-Unsubscribe: <https://mails.dpdk.org/options/test-report>,
 <mailto:test-report-request@dpdk.org?subject=unsubscribe>
List-Archive: <http://mails.dpdk.org/archives/test-report/>
List-Post: <mailto:test-report@dpdk.org>
List-Help: <mailto:test-report-request@dpdk.org?subject=help>
List-Subscribe: <https://mails.dpdk.org/listinfo/test-report>,
 <mailto:test-report-request@dpdk.org?subject=subscribe>
Errors-To: test-report-bounces@dpdk.org

Test-Label: iol-unit-amd64-testing
Test-Status: SUCCESS
http://dpdk.org/patch/143584

_Testing PASS_

Submitter: Bruce Richardson <bruce.richardson@intel.com>
Date: Wednesday, September 04 2024 14:03:02 
DPDK git baseline: Repo:dpdk
  Branch: master
  CommitID:41dd9a6bc2d9c6e20e139ad713cc9d172572dd43

143584 --> testing pass

Upstream job id: Generic-Unit-Test-DPDK#258129

Test environment and result as below:

+---------------------+----------------+
|     Environment     | dpdk_unit_test |
+=====================+================+
| CentOS Stream 9     | PASS           |
+---------------------+----------------+
| Debian Bullseye     | PASS           |
+---------------------+----------------+
| Debian 12           | PASS           |
+---------------------+----------------+
| Fedora 37           | PASS           |
+---------------------+----------------+
| Fedora 38           | PASS           |
+---------------------+----------------+
| Fedora 39           | PASS           |
+---------------------+----------------+
| Fedora 38 (Clang)   | PASS           |
+---------------------+----------------+
| Fedora 39 (Clang)   | PASS           |
+---------------------+----------------+
| Fedora 40           | PASS           |
+---------------------+----------------+
| Fedora 40 (Clang)   | PASS           |
+---------------------+----------------+
| RHEL8               | PASS           |
+---------------------+----------------+
| RHEL9               | PASS           |
+---------------------+----------------+
| Ubuntu 22.04        | PASS           |
+---------------------+----------------+
| Ubuntu 20.04        | PASS           |
+---------------------+----------------+
| Ubuntu 24.04        | PASS           |
+---------------------+----------------+
| Windows Server 2022 | PASS           |
+---------------------+----------------+


CentOS Stream 9
	Kernel: Depends on container host
	Compiler: gcc 11.4.1 20231218 (Red Hat 11.4.1-3)

Debian Bullseye
	Kernel: Depends on container host
	Compiler: gcc (Debian 10.2.1-6) 10.2.1 20210110

Debian 12
	Kernel: Depends on container host
	Compiler: gcc (Debian 12.2.0-14) 12.2.0

Fedora 37
	Kernel: Depends on container host system
	Compiler: gcc 12.3.1 20230508 (Red Hat 12.3.1-1)

Fedora 38
	Kernel: Depends on container host
	Compiler: gcc 13.2.1 20240316 (Red Hat 13.2.1-7)

Fedora 39
	Kernel: Depends on container host
	Compiler: gcc 13.3.1 20240522 (Red Hat 13.3.1-1)

Fedora 38 (Clang)
	Kernel: Depends on container host
	Compiler: clang 16.0.6 (Fedora 16.0.6-4.fc38)

Fedora 39 (Clang)
	Kernel: Depends on container host
	Compiler: clang 17.0.6 (Fedora 17.0.6-2.fc39)

Fedora 40
	Kernel: Depends on container host
	Compiler: gcc 14.2.1 20240801 (Red Hat 14.2.1-1)

Fedora 40 (Clang)
	Kernel: Depends on container host
	Compiler: clang 18.1.6 (Fedora 18.1.6-3.fc40)

RHEL8
	Kernel: Depends on container host
	Compiler: gcc 8.5.0 20210514 (Red Hat 8.5.0-22)

RHEL9
	Kernel: Depends on container host
	Compiler: gcc 11.4.1 20231218 (Red Hat 11.4.1-3)

Ubuntu 22.04
	Kernel: Depends on container host
	Compiler: gcc (Ubuntu 11.4.0-1ubuntu1~22.04) 11.4.0

Ubuntu 20.04
	Kernel: Depends on container host
	Compiler: gcc (Ubuntu 9.4.0-1ubuntu1~20.04.2) 9.4.0

Ubuntu 24.04
	Kernel: Depends on container host
	Compiler: gcc (Ubuntu 13.2.0-23ubuntu4) 13.2.0

Windows Server 2022
	Kernel: 10.0.20348.2031
	Compiler: clang 15.0.7, gcc 14.1.0 (MinGW), and MSVC VS 19.39.33521

To view detailed results, visit:
https://lab.dpdk.org/results/dashboard/patchsets/30901/

UNH-IOL DPDK Community Lab

To manage your email subscriptions, visit: 
https://lab.dpdk.org/results/dashboard/preferences/subscriptions/