From mboxrd@z Thu Jan  1 00:00:00 1970
Return-Path: <test-report-bounces@dpdk.org>
Received: from mails.dpdk.org (mails.dpdk.org [217.70.189.124])
	by inbox.dpdk.org (Postfix) with ESMTP id D2D044590C
	for <public@inbox.dpdk.org>; Thu,  5 Sep 2024 10:48:32 +0200 (CEST)
Received: from mails.dpdk.org (localhost [127.0.0.1])
	by mails.dpdk.org (Postfix) with ESMTP id BC55F40264;
	Thu,  5 Sep 2024 10:48:32 +0200 (CEST)
Received: from mail-yb1-f226.google.com (mail-yb1-f226.google.com
 [209.85.219.226])
 by mails.dpdk.org (Postfix) with ESMTP id 6C86B4025C
 for <test-report@dpdk.org>; Thu,  5 Sep 2024 10:48:31 +0200 (CEST)
Received: by mail-yb1-f226.google.com with SMTP id
 3f1490d57ef6-e02b79c6f21so629920276.2
 for <test-report@dpdk.org>; Thu, 05 Sep 2024 01:48:31 -0700 (PDT)
DKIM-Signature: v=1; a=rsa-sha256; c=relaxed/relaxed;
 d=iol.unh.edu; s=unh-iol; t=1725526111; x=1726130911; darn=dpdk.org;
 h=references:in-reply-to:cc:to:from:subject:message-id:date:from:to
 :cc:subject:date:message-id:reply-to;
 bh=SJc/KBHXXsuB0TsYmkZ3VLtDLOnaEeY5zfDiD127pwY=;
 b=NwzswvoruDr4Jx4nZSIvZgzRqIawAX6GowxumWDEedkcz/7ORbgnShPghIpUdsKX8n
 SxZt8j4EKz9/BWL/gyZA3tHmJ2pWKHt37qJitt5z3k0NRBuyRUbaA/9QHEzQdF1jdssr
 pJvj76e8DV0nzZuFMYRc45+sovj+eTcrJNisY=
X-Google-DKIM-Signature: v=1; a=rsa-sha256; c=relaxed/relaxed;
 d=1e100.net; s=20230601; t=1725526111; x=1726130911;
 h=references:in-reply-to:cc:to:from:subject:message-id:date
 :x-gm-message-state:from:to:cc:subject:date:message-id:reply-to;
 bh=SJc/KBHXXsuB0TsYmkZ3VLtDLOnaEeY5zfDiD127pwY=;
 b=n5F4enN9L7/Pvub2QER5QdY2VkmIs5xfSjbgPvfshTAUsoG/cSPZGzy98L9MDfyEcr
 3Tr1AIjScrQBE9QZ25wg6KG7H74CceJpyq1jT1t4NAS3n9lFReeLr66w8aNdR4xAadzM
 SZxybcxxmjUqVZk5NHO9y2ddHyxMvnFENCUNsXfZy9ME+9P+F06ZpZ8nSfyKTqO6QtQ/
 zElxQo4xSxOHEWCoTx3eyDyMxB/XOTR/t7p7RPMi44bj9oCvSHnz23G5n8H3ewhmbVB3
 Qodadw9nh35Mm86ss5NEXQ/veu6SA8ku+bl7mdOe6QPNYST1VcgoD6EXA0Z9gyg6Gl1j
 aEvQ==
X-Gm-Message-State: AOJu0YzXqfBkrhFB59eP5HVwZUySG8sEmBzRvI7/BDy8Zvlorc7MfYLu
 XrIvKUgKsMBW+6N8eSlCI8JzTnY2XJQTMr9ttRM2hMyfvsQ9MBIGvu6q402d8kwbzHOT5tiix+f
 jwMMpikjjku4ZNC6oTKmJVcxO/ymSeaspeEv6AxrDYkGGhWgCbWuAgkkM
X-Google-Smtp-Source: AGHT+IHog0axq+xOmKCSYKP2KYCBhOFHlTRKLGB5Iffv074dJ8dvEu9wdTStFYyZ2VdH3kstCMEBIicazcqv
X-Received: by 2002:a05:6902:2b8e:b0:e11:7246:9632 with SMTP id
 3f1490d57ef6-e1a79ff69aemr22293591276.4.1725526110682; 
 Thu, 05 Sep 2024 01:48:30 -0700 (PDT)
Received: from postal.iol.unh.edu (postal.iol.unh.edu.
 [2606:4100:3880:1234::84]) by smtp-relay.gmail.com with ESMTPS id
 6a1803df08f44-6c5202e1e6fsm794066d6.44.2024.09.05.01.48.30
 (version=TLS1_2 cipher=ECDHE-ECDSA-AES128-GCM-SHA256 bits=128/128);
 Thu, 05 Sep 2024 01:48:30 -0700 (PDT)
X-Relaying-Domain: iol.unh.edu
Date: Thu, 05 Sep 2024 01:48:30 -0700 (PDT)
Message-ID: <66d9705e.0c0a0220.3448b7.5ce2SMTPIN_ADDED_MISSING@mx.google.com>
Received: from [172.17.0.2] (unknown [172.18.0.214])
 by postal.iol.unh.edu (Postfix) with ESMTP id 6552D6051839;
 Thu,  5 Sep 2024 04:48:30 -0400 (EDT)
Subject: |SUCCESS| pw143603-143605 [PATCH] [3/3] examples/ptpclient: add freq
From: dpdklab@iol.unh.edu
To: Test Report <test-report@dpdk.org>
Cc: dpdk-test-reports@iol.unh.edu
In-Reply-To: <20240905013144.844499-4-mingjinx.ye@intel.com>
References: <20240905013144.844499-4-mingjinx.ye@intel.com>
Content-Type: text/plain
X-BeenThere: test-report@dpdk.org
X-Mailman-Version: 2.1.29
Precedence: list
List-Id: automatic DPDK test reports <test-report.dpdk.org>
List-Unsubscribe: <https://mails.dpdk.org/options/test-report>,
 <mailto:test-report-request@dpdk.org?subject=unsubscribe>
List-Archive: <http://mails.dpdk.org/archives/test-report/>
List-Post: <mailto:test-report@dpdk.org>
List-Help: <mailto:test-report-request@dpdk.org?subject=help>
List-Subscribe: <https://mails.dpdk.org/listinfo/test-report>,
 <mailto:test-report-request@dpdk.org?subject=subscribe>
Errors-To: test-report-bounces@dpdk.org

Test-Label: iol-unit-arm64-testing
Test-Status: SUCCESS
http://dpdk.org/patch/143605

_Testing PASS_

Submitter: Mingjin Ye <mingjinx.ye@intel.com>
Date: Thursday, September 05 2024 01:31:44 
DPDK git baseline: Repo:dpdk
  Branch: master
  CommitID:5cce3d463a99dbb5e7797faaed6c68df6c2b549a

143603-143605 --> testing pass

Upstream job id: Generic-Unit-Test-DPDK#258147

Test environment and result as below:

+-----------------------------+----------------+--------------+------------------------------+---------------------------+
|         Environment         | dpdk_unit_test | lpm_autotest | cryptodev_sw_snow3g_autotest | cryptodev_sw_zuc_autotest |
+=============================+================+==============+==============================+===========================+
| 32-bit Ubuntu 20.04.4 (ARM) | PASS           | SKIPPED      | SKIPPED                      | SKIPPED                   |
+-----------------------------+----------------+--------------+------------------------------+---------------------------+
| Fedora 37 (ARM)             | PASS           | SKIPPED      | SKIPPED                      | SKIPPED                   |
+-----------------------------+----------------+--------------+------------------------------+---------------------------+
| CentOS Stream 9 (ARM)       | PASS           | SKIPPED      | SKIPPED                      | SKIPPED                   |
+-----------------------------+----------------+--------------+------------------------------+---------------------------+
| Debian 11 (Buster) (ARM)    | PASS           | SKIPPED      | SKIPPED                      | SKIPPED                   |
+-----------------------------+----------------+--------------+------------------------------+---------------------------+
| Debian 12 (arm)             | PASS           | SKIPPED      | PASS                         | PASS                      |
+-----------------------------+----------------+--------------+------------------------------+---------------------------+
| Fedora 38 (ARM)             | PASS           | SKIPPED      | SKIPPED                      | SKIPPED                   |
+-----------------------------+----------------+--------------+------------------------------+---------------------------+
| Fedora 39 (ARM Clang)       | PASS           | SKIPPED      | SKIPPED                      | SKIPPED                   |
+-----------------------------+----------------+--------------+------------------------------+---------------------------+
| Fedora 39 (ARM)             | PASS           | SKIPPED      | SKIPPED                      | SKIPPED                   |
+-----------------------------+----------------+--------------+------------------------------+---------------------------+
| Fedora 38 (ARM Clang)       | PASS           | SKIPPED      | SKIPPED                      | SKIPPED                   |
+-----------------------------+----------------+--------------+------------------------------+---------------------------+
| Fedora 40 (ARM)             | PASS           | SKIPPED      | SKIPPED                      | SKIPPED                   |
+-----------------------------+----------------+--------------+------------------------------+---------------------------+
| RHEL9 (ARM)                 | PASS           | SKIPPED      | SKIPPED                      | SKIPPED                   |
+-----------------------------+----------------+--------------+------------------------------+---------------------------+
| Fedora 40 (ARM Clang)       | PASS           | SKIPPED      | SKIPPED                      | SKIPPED                   |
+-----------------------------+----------------+--------------+------------------------------+---------------------------+
| Ubuntu 20.04 (ARM)          | PASS           | SKIPPED      | SKIPPED                      | SKIPPED                   |
+-----------------------------+----------------+--------------+------------------------------+---------------------------+
| Ubuntu 22.04 (ARM)          | PASS           | SKIPPED      | SKIPPED                      | SKIPPED                   |
+-----------------------------+----------------+--------------+------------------------------+---------------------------+
| Ubuntu 24.04 (ARM)          | PASS           | SKIPPED      | SKIPPED                      | SKIPPED                   |
+-----------------------------+----------------+--------------+------------------------------+---------------------------+
| Ubuntu 20.04 ARM SVE        | SKIPPED        | PASS         | SKIPPED                      | SKIPPED                   |
+-----------------------------+----------------+--------------+------------------------------+---------------------------+


32-bit Ubuntu 20.04.4 (ARM)
	Kernel: 5.4.0-155-generic aarch64
	Compiler: gcc 9.4

Fedora 37 (ARM)
	Kernel: Depends on container host
	Compiler: gcc 12.3.1 20230508 (Red Hat 12.3.1-1)

CentOS Stream 9 (ARM)
	Kernel: Depends on container host
	Compiler: gcc 11.4.1 20231218 (Red Hat 11.4.1-3)

Debian 11 (Buster) (ARM)
	Kernel: Depends on container host
	Compiler: gcc (Debian 10.2.1-6) 10.2.1 20210110

Debian 12 (arm)
	Kernel: Depends on container host
	Compiler: gcc (Debian 12.2.0-14) 12.2.0

Fedora 38 (ARM)
	Kernel: Depends on container host
	Compiler: gcc 13.2.1 20240316 (Red Hat 13.2.1-7)

Fedora 39 (ARM Clang)
	Kernel: Depends on container host
	Compiler: clang 17.0.6 (Fedora 17.0.6-2.fc39)

Fedora 39 (ARM)
	Kernel: Depends on container host
	Compiler: gcc 13.3.1 20240522 (Red Hat 13.3.1-1)

Fedora 38 (ARM Clang)
	Kernel: Depends on container host
	Compiler: clang 16.0.6 (Fedora 16.0.6-4.fc38)

Fedora 40 (ARM)
	Kernel: Depends on container host
	Compiler: gcc 14.2.1 20240801 (Red Hat 14.2.1-1)

RHEL9 (ARM)
	Kernel: Depends on container host
	Compiler: gcc 11.4.1 20231218 (Red Hat 11.4.1-3)

Fedora 40 (ARM Clang)
	Kernel: Depends on container host
	Compiler: clang 18.1.6 (Fedora 18.1.6-3.fc40)

Ubuntu 20.04 (ARM)
	Kernel: Depends on container host
	Compiler: gcc (Ubuntu 9.4.0-1ubuntu1~20.04.2) 9.4.0

Ubuntu 22.04 (ARM)
	Kernel: Depends on container host
	Compiler: gcc (Ubuntu 11.4.0-1ubuntu1~22.04) 11.4.0

Ubuntu 24.04 (ARM)
	Kernel: Depends on container host
	Compiler: gcc (Ubuntu 13.2.0-23ubuntu4) 13.2.0

Ubuntu 20.04 ARM SVE
	Kernel: Depends on container host
	Compiler: gcc (Ubuntu 10.5.0-1ubuntu1~20.04) 10.5.0

To view detailed results, visit:
https://lab.dpdk.org/results/dashboard/patchsets/30909/

UNH-IOL DPDK Community Lab

To manage your email subscriptions, visit: 
https://lab.dpdk.org/results/dashboard/preferences/subscriptions/