From mboxrd@z Thu Jan  1 00:00:00 1970
Return-Path: <test-report-bounces@dpdk.org>
Received: from mails.dpdk.org (mails.dpdk.org [217.70.189.124])
	by inbox.dpdk.org (Postfix) with ESMTP id C71B94590C
	for <public@inbox.dpdk.org>; Thu,  5 Sep 2024 10:58:12 +0200 (CEST)
Received: from mails.dpdk.org (localhost [127.0.0.1])
	by mails.dpdk.org (Postfix) with ESMTP id BF09F40264;
	Thu,  5 Sep 2024 10:58:12 +0200 (CEST)
Received: from mail-pf1-f225.google.com (mail-pf1-f225.google.com
 [209.85.210.225])
 by mails.dpdk.org (Postfix) with ESMTP id 475394025C
 for <test-report@dpdk.org>; Thu,  5 Sep 2024 10:58:11 +0200 (CEST)
Received: by mail-pf1-f225.google.com with SMTP id
 d2e1a72fcca58-7178df70f28so438246b3a.2
 for <test-report@dpdk.org>; Thu, 05 Sep 2024 01:58:11 -0700 (PDT)
DKIM-Signature: v=1; a=rsa-sha256; c=relaxed/relaxed;
 d=iol.unh.edu; s=unh-iol; t=1725526690; x=1726131490; darn=dpdk.org;
 h=references:in-reply-to:cc:to:from:subject:message-id:date:from:to
 :cc:subject:date:message-id:reply-to;
 bh=VVhyB4GmZSD9k9BxuKX599s03aedhGct4KpFvdvJnI4=;
 b=Pbl4png9T8dobgfpPb37uOwizm3M2xgVxnum3/+YJSYORGsF2UVRGAvf/fCoXwdr8O
 fiygswOJUGaJOkdqLn35TRxCGm5r5iJkG3KzdZnhchQ41dM6z4c4+xfaNL2+/YXxhDRW
 G25ppQ8cSyBlAbioQSKAr2CAZSxHYtFcXqHmE=
X-Google-DKIM-Signature: v=1; a=rsa-sha256; c=relaxed/relaxed;
 d=1e100.net; s=20230601; t=1725526690; x=1726131490;
 h=references:in-reply-to:cc:to:from:subject:message-id:date
 :x-gm-message-state:from:to:cc:subject:date:message-id:reply-to;
 bh=VVhyB4GmZSD9k9BxuKX599s03aedhGct4KpFvdvJnI4=;
 b=moSLlD9yGdM9iTu7ObIfwKJFMQTCT4Gf6Qz7/qSxOFHClmqdR8fD5mCByk89cmGz5Y
 Hj1+D+d5mneLpsI73OuxAeFDKPQLIv2AvU7kHqeUivK9UAF7172cPmx6PxzAnETp3g2x
 nm2u7DEJm6kxSERM0rErDLK9K4KYGjT0Zi8PqZ2pzIbSAsQW47/6MOhO+8dmKQoeU6DJ
 +t71syzOn/NqCUCDQGzCIXl4VIdOKVApNDfG44VNq8WY839bhGYcvLEH5f4oxMh6i0n1
 AjxSfJiBIfsJC4slphMbRR0cCVH0lOMnqqGoXbCbfCBKf6MnvSiXYO1gvhU90BlUI+YB
 iZXg==
X-Gm-Message-State: AOJu0YzuULPXRzFhtVeXx98fd+qnglLJoBEZAmaeStjLjsb4EqgY+eZF
 nx7suH/8JVeI6WJpSl4zjAq04T8j91gUEHdaX06BWvx+FHFmX9GKa6Uwxof3/hes4aR1I+xOyxS
 xokUNvGi1Fh5Bgd+B6I9Tz7c9zZcqHNdnlkYI7394
X-Google-Smtp-Source: AGHT+IGU8E/bzIdZk6RBYKRJxG4MaooVvDdYDnwOQkOa9PaF6yvnzBHwiIBadqXBDYP/aAevqSI1eEdx3R/K
X-Received: by 2002:a05:6a20:2d26:b0:1c8:a5ba:d2ba with SMTP id
 adf61e73a8af0-1cce100d806mr25292467637.22.1725526690509; 
 Thu, 05 Sep 2024 01:58:10 -0700 (PDT)
Received: from postal.iol.unh.edu (postal.iol.unh.edu. [132.177.123.84])
 by smtp-relay.gmail.com with ESMTPS id
 d9443c01a7336-206ae9d68f5sm1685605ad.80.2024.09.05.01.58.10
 (version=TLS1_2 cipher=ECDHE-ECDSA-AES128-GCM-SHA256 bits=128/128);
 Thu, 05 Sep 2024 01:58:10 -0700 (PDT)
X-Relaying-Domain: iol.unh.edu
Date: Thu, 05 Sep 2024 01:58:10 -0700 (PDT)
Message-ID: <66d972a2.170a0220.26e68d.d1baSMTPIN_ADDED_MISSING@mx.google.com>
Received: from [172.17.0.4] (unknown [172.18.0.215])
 by postal.iol.unh.edu (Postfix) with ESMTP id 978EF6051839;
 Thu,  5 Sep 2024 04:58:09 -0400 (EDT)
Subject: |SUCCESS| pw143603-143605 [PATCH] [3/3] examples/ptpclient: add freq
From: dpdklab@iol.unh.edu
To: Test Report <test-report@dpdk.org>
Cc: dpdk-test-reports@iol.unh.edu
In-Reply-To: <20240905013144.844499-4-mingjinx.ye@intel.com>
References: <20240905013144.844499-4-mingjinx.ye@intel.com>
Content-Type: text/plain
X-BeenThere: test-report@dpdk.org
X-Mailman-Version: 2.1.29
Precedence: list
List-Id: automatic DPDK test reports <test-report.dpdk.org>
List-Unsubscribe: <https://mails.dpdk.org/options/test-report>,
 <mailto:test-report-request@dpdk.org?subject=unsubscribe>
List-Archive: <http://mails.dpdk.org/archives/test-report/>
List-Post: <mailto:test-report@dpdk.org>
List-Help: <mailto:test-report-request@dpdk.org?subject=help>
List-Subscribe: <https://mails.dpdk.org/listinfo/test-report>,
 <mailto:test-report-request@dpdk.org?subject=subscribe>
Errors-To: test-report-bounces@dpdk.org

Test-Label: iol-unit-arm64-testing
Test-Status: SUCCESS
http://dpdk.org/patch/143605

_Testing PASS_

Submitter: Mingjin Ye <mingjinx.ye@intel.com>
Date: Thursday, September 05 2024 01:31:44 
DPDK git baseline: Repo:dpdk
  Branch: master
  CommitID:5cce3d463a99dbb5e7797faaed6c68df6c2b549a

143603-143605 --> testing pass

Upstream job id: Generic-Unit-Test-DPDK#258178

Test environment and result as below:

+-----------------------------+----------------+--------------+---------------------------+------------------------------+
|         Environment         | dpdk_unit_test | lpm_autotest | cryptodev_sw_zuc_autotest | cryptodev_sw_snow3g_autotest |
+=============================+================+==============+===========================+==============================+
| 32-bit Ubuntu 20.04.4 (ARM) | PASS           | SKIPPED      | SKIPPED                   | SKIPPED                      |
+-----------------------------+----------------+--------------+---------------------------+------------------------------+
| CentOS Stream 9 (ARM)       | PASS           | SKIPPED      | SKIPPED                   | SKIPPED                      |
+-----------------------------+----------------+--------------+---------------------------+------------------------------+
| Debian 11 (Buster) (ARM)    | PASS           | SKIPPED      | SKIPPED                   | SKIPPED                      |
+-----------------------------+----------------+--------------+---------------------------+------------------------------+
| Fedora 37 (ARM)             | PASS           | SKIPPED      | SKIPPED                   | SKIPPED                      |
+-----------------------------+----------------+--------------+---------------------------+------------------------------+
| Debian 12 (arm)             | PASS           | SKIPPED      | PASS                      | PASS                         |
+-----------------------------+----------------+--------------+---------------------------+------------------------------+
| Fedora 38 (ARM)             | PASS           | SKIPPED      | SKIPPED                   | SKIPPED                      |
+-----------------------------+----------------+--------------+---------------------------+------------------------------+
| Fedora 38 (ARM Clang)       | PASS           | SKIPPED      | SKIPPED                   | SKIPPED                      |
+-----------------------------+----------------+--------------+---------------------------+------------------------------+
| Fedora 39 (ARM)             | PASS           | SKIPPED      | SKIPPED                   | SKIPPED                      |
+-----------------------------+----------------+--------------+---------------------------+------------------------------+
| Fedora 39 (ARM Clang)       | PASS           | SKIPPED      | SKIPPED                   | SKIPPED                      |
+-----------------------------+----------------+--------------+---------------------------+------------------------------+
| Fedora 40 (ARM)             | PASS           | SKIPPED      | SKIPPED                   | SKIPPED                      |
+-----------------------------+----------------+--------------+---------------------------+------------------------------+
| Fedora 40 (ARM Clang)       | PASS           | SKIPPED      | SKIPPED                   | SKIPPED                      |
+-----------------------------+----------------+--------------+---------------------------+------------------------------+
| RHEL9 (ARM)                 | PASS           | SKIPPED      | SKIPPED                   | SKIPPED                      |
+-----------------------------+----------------+--------------+---------------------------+------------------------------+
| Ubuntu 24.04 (ARM)          | PASS           | SKIPPED      | SKIPPED                   | SKIPPED                      |
+-----------------------------+----------------+--------------+---------------------------+------------------------------+
| Ubuntu 22.04 (ARM)          | PASS           | SKIPPED      | SKIPPED                   | SKIPPED                      |
+-----------------------------+----------------+--------------+---------------------------+------------------------------+
| Ubuntu 20.04 (ARM)          | PASS           | SKIPPED      | SKIPPED                   | SKIPPED                      |
+-----------------------------+----------------+--------------+---------------------------+------------------------------+
| Ubuntu 20.04 ARM SVE        | SKIPPED        | PASS         | SKIPPED                   | SKIPPED                      |
+-----------------------------+----------------+--------------+---------------------------+------------------------------+


32-bit Ubuntu 20.04.4 (ARM)
	Kernel: 5.4.0-155-generic aarch64
	Compiler: gcc 9.4

CentOS Stream 9 (ARM)
	Kernel: Depends on container host
	Compiler: gcc 11.4.1 20231218 (Red Hat 11.4.1-3)

Debian 11 (Buster) (ARM)
	Kernel: Depends on container host
	Compiler: gcc (Debian 10.2.1-6) 10.2.1 20210110

Fedora 37 (ARM)
	Kernel: Depends on container host
	Compiler: gcc 12.3.1 20230508 (Red Hat 12.3.1-1)

Debian 12 (arm)
	Kernel: Depends on container host
	Compiler: gcc (Debian 12.2.0-14) 12.2.0

Fedora 38 (ARM)
	Kernel: Depends on container host
	Compiler: gcc 13.2.1 20240316 (Red Hat 13.2.1-7)

Fedora 38 (ARM Clang)
	Kernel: Depends on container host
	Compiler: clang 16.0.6 (Fedora 16.0.6-4.fc38)

Fedora 39 (ARM)
	Kernel: Depends on container host
	Compiler: gcc 13.3.1 20240522 (Red Hat 13.3.1-1)

Fedora 39 (ARM Clang)
	Kernel: Depends on container host
	Compiler: clang 17.0.6 (Fedora 17.0.6-2.fc39)

Fedora 40 (ARM)
	Kernel: Depends on container host
	Compiler: gcc 14.2.1 20240801 (Red Hat 14.2.1-1)

Fedora 40 (ARM Clang)
	Kernel: Depends on container host
	Compiler: clang 18.1.6 (Fedora 18.1.6-3.fc40)

RHEL9 (ARM)
	Kernel: Depends on container host
	Compiler: gcc 11.4.1 20231218 (Red Hat 11.4.1-3)

Ubuntu 24.04 (ARM)
	Kernel: Depends on container host
	Compiler: gcc (Ubuntu 13.2.0-23ubuntu4) 13.2.0

Ubuntu 22.04 (ARM)
	Kernel: Depends on container host
	Compiler: gcc (Ubuntu 11.4.0-1ubuntu1~22.04) 11.4.0

Ubuntu 20.04 (ARM)
	Kernel: Depends on container host
	Compiler: gcc (Ubuntu 9.4.0-1ubuntu1~20.04.2) 9.4.0

Ubuntu 20.04 ARM SVE
	Kernel: Depends on container host
	Compiler: gcc (Ubuntu 10.5.0-1ubuntu1~20.04) 10.5.0

To view detailed results, visit:
https://lab.dpdk.org/results/dashboard/patchsets/30909/

UNH-IOL DPDK Community Lab

To manage your email subscriptions, visit: 
https://lab.dpdk.org/results/dashboard/preferences/subscriptions/