From mboxrd@z Thu Jan  1 00:00:00 1970
Return-Path: <test-report-bounces@dpdk.org>
Received: from mails.dpdk.org (mails.dpdk.org [217.70.189.124])
	by inbox.dpdk.org (Postfix) with ESMTP id 6CFAD4590C
	for <public@inbox.dpdk.org>; Thu,  5 Sep 2024 11:05:23 +0200 (CEST)
Received: from mails.dpdk.org (localhost [127.0.0.1])
	by mails.dpdk.org (Postfix) with ESMTP id 648C140264;
	Thu,  5 Sep 2024 11:05:23 +0200 (CEST)
Received: from mail-pg1-f226.google.com (mail-pg1-f226.google.com
 [209.85.215.226])
 by mails.dpdk.org (Postfix) with ESMTP id E1E204025C
 for <test-report@dpdk.org>; Thu,  5 Sep 2024 11:05:21 +0200 (CEST)
Received: by mail-pg1-f226.google.com with SMTP id
 41be03b00d2f7-7d4f6d8c1eeso421414a12.1
 for <test-report@dpdk.org>; Thu, 05 Sep 2024 02:05:21 -0700 (PDT)
DKIM-Signature: v=1; a=rsa-sha256; c=relaxed/relaxed;
 d=iol.unh.edu; s=unh-iol; t=1725527121; x=1726131921; darn=dpdk.org;
 h=references:in-reply-to:cc:to:from:subject:message-id:date:from:to
 :cc:subject:date:message-id:reply-to;
 bh=o/aL9K4RoO9zm2TXUh+4PIRdb5UZYioK2U4D/8Z+J3M=;
 b=DWCyPckYsQySBQgvgjFcd0zMxbRimGQpIHwZ5B52YItRzxU6PJpZaJeHIMICaovaqT
 FKkN4kGn6a2EaQ0IZ7spRTazz2rMTB14xpm6q45m/OtbjnwNHfgcpWtZR1qzmyaAdgFZ
 73IftRbchsrNkGQwLmAI36xpZ2Qu33IPje8gY=
X-Google-DKIM-Signature: v=1; a=rsa-sha256; c=relaxed/relaxed;
 d=1e100.net; s=20230601; t=1725527121; x=1726131921;
 h=references:in-reply-to:cc:to:from:subject:message-id:date
 :x-gm-message-state:from:to:cc:subject:date:message-id:reply-to;
 bh=o/aL9K4RoO9zm2TXUh+4PIRdb5UZYioK2U4D/8Z+J3M=;
 b=poMBVv3wS+yPz/LH8FsjIvcGqWsmc4w2xP/9t+HOMHsHIwOwXiGnXrc6kVHH8tkCLj
 odZBagz4jn5dMt/fhJmiODy/EW7hSBoHUu720qCyGQowuoZK6S/5QSzn8Izft5FC3Dyo
 FXXNUV6BF27Tm1nVWR5ALpy5P3jOhN4IAvZBzTlz2Gh2/S08xkXTudZL5hBBrSO4Xte3
 21XwVi+AwIEQfs14CStXQxjZ0Iy7+JRJ8XtDf4bD28AdwMuI4oJldXUHotMvutcNlyvv
 OedJQYG+pIDaC7/8ehyFhelPtu2Zvstf7f/Ld5YgAZFkSGiDsqK5hmTz6hY0V03KQsyY
 UTSQ==
X-Gm-Message-State: AOJu0YySTd3Yh6RDY2+h/Sl/1rXOmIRCSXQGb304ay2YbRxY9UwcJpQa
 5ZPEnhrg6VMUczxM/auezq65x2GrVgahkYQ6cTlpE/7SUuL6Du3Uxo61AXk4B5Q+ZK82ZWn9Uhu
 s+wbIqGTdv4JLh2+EVV7sI0PC4wiEtCo0mO+ozJnj
X-Google-Smtp-Source: AGHT+IHAPNCM/QL2XnXUBSluSQ8PzEp0I7IukOnntfTwoN+NdthsIJ8S9bNotNTJj3Mgso1Ad8eYFP4GLjz2
X-Received: by 2002:a17:902:e804:b0:1fc:568d:5f05 with SMTP id
 d9443c01a7336-205472c61acmr193185915ad.8.1725527121002; 
 Thu, 05 Sep 2024 02:05:21 -0700 (PDT)
Received: from postal.iol.unh.edu (postal.iol.unh.edu. [132.177.123.84])
 by smtp-relay.gmail.com with ESMTPS id
 d9443c01a7336-206ae89410dsm1816805ad.24.2024.09.05.02.05.20
 (version=TLS1_2 cipher=ECDHE-ECDSA-AES128-GCM-SHA256 bits=128/128);
 Thu, 05 Sep 2024 02:05:20 -0700 (PDT)
X-Relaying-Domain: iol.unh.edu
Date: Thu, 05 Sep 2024 02:05:20 -0700 (PDT)
Message-ID: <66d97450.170a0220.c2ce3.dbadSMTPIN_ADDED_MISSING@mx.google.com>
Received: from [172.17.0.2] (unknown [172.18.0.213])
 by postal.iol.unh.edu (Postfix) with ESMTP id 646106050A6B;
 Thu,  5 Sep 2024 05:05:20 -0400 (EDT)
Subject: |SUCCESS| pw143600-143602 [PATCH] [3/3] eal: mark rte_memzone_max_ge
From: dpdklab@iol.unh.edu
To: Test Report <test-report@dpdk.org>
Cc: dpdk-test-reports@iol.unh.edu
In-Reply-To: <20240904180954.104473-4-stephen@networkplumber.org>
References: <20240904180954.104473-4-stephen@networkplumber.org>
Content-Type: text/plain
X-BeenThere: test-report@dpdk.org
X-Mailman-Version: 2.1.29
Precedence: list
List-Id: automatic DPDK test reports <test-report.dpdk.org>
List-Unsubscribe: <https://mails.dpdk.org/options/test-report>,
 <mailto:test-report-request@dpdk.org?subject=unsubscribe>
List-Archive: <http://mails.dpdk.org/archives/test-report/>
List-Post: <mailto:test-report@dpdk.org>
List-Help: <mailto:test-report-request@dpdk.org?subject=help>
List-Subscribe: <https://mails.dpdk.org/listinfo/test-report>,
 <mailto:test-report-request@dpdk.org?subject=subscribe>
Errors-To: test-report-bounces@dpdk.org

Test-Label: iol-compile-amd64-testing
Test-Status: SUCCESS
http://dpdk.org/patch/143602

_Testing PASS_

Submitter: Stephen Hemminger <stephen@networkplumber.org>
Date: Wednesday, September 04 2024 18:08:46 
DPDK git baseline: Repo:dpdk
  Branch: master
  CommitID:41dd9a6bc2d9c6e20e139ad713cc9d172572dd43

143600-143602 --> testing pass

Upstream job id: Generic-VM-DPDK-Compile-Meson#29155

Test environment and result as below:

+---------------------+--------------------+-------------------+
|     Environment     | dpdk_meson_compile | dpdk_msvc_compile |
+=====================+====================+===================+
| FreeBSD 14.1        | PASS               | SKIPPED           |
+---------------------+--------------------+-------------------+
| FreeBSD 13.3        | PASS               | SKIPPED           |
+---------------------+--------------------+-------------------+
| Windows Server 2022 | SKIPPED            | PASS              |
+---------------------+--------------------+-------------------+


FreeBSD 14.1
	Kernel: 14.1-RELEASE-p3
	Compiler: clang 18.1.5

FreeBSD 13.3
	Kernel: 13.3-RELEASE-p5
	Compiler: clang 17.0.6

Windows Server 2022
	Kernel: 10.0.20348.2031
	Compiler: clang 15.0.7, gcc 14.1.0 (MinGW), and MSVC VS 19.39.33521

To view detailed results, visit:
https://lab.dpdk.org/results/dashboard/patchsets/30908/

UNH-IOL DPDK Community Lab

To manage your email subscriptions, visit: 
https://lab.dpdk.org/results/dashboard/preferences/subscriptions/