From mboxrd@z Thu Jan  1 00:00:00 1970
Return-Path: <test-report-bounces@dpdk.org>
Received: from mails.dpdk.org (mails.dpdk.org [217.70.189.124])
	by inbox.dpdk.org (Postfix) with ESMTP id 7115C4590C
	for <public@inbox.dpdk.org>; Thu,  5 Sep 2024 11:13:29 +0200 (CEST)
Received: from mails.dpdk.org (localhost [127.0.0.1])
	by mails.dpdk.org (Postfix) with ESMTP id 6B8F940264;
	Thu,  5 Sep 2024 11:13:29 +0200 (CEST)
Received: from mail-oi1-f226.google.com (mail-oi1-f226.google.com
 [209.85.167.226])
 by mails.dpdk.org (Postfix) with ESMTP id EC3474025C
 for <test-report@dpdk.org>; Thu,  5 Sep 2024 11:13:27 +0200 (CEST)
Received: by mail-oi1-f226.google.com with SMTP id
 5614622812f47-3df0a54623dso292675b6e.0
 for <test-report@dpdk.org>; Thu, 05 Sep 2024 02:13:27 -0700 (PDT)
DKIM-Signature: v=1; a=rsa-sha256; c=relaxed/relaxed;
 d=iol.unh.edu; s=unh-iol; t=1725527607; x=1726132407; darn=dpdk.org;
 h=references:in-reply-to:cc:to:from:subject:message-id:date:from:to
 :cc:subject:date:message-id:reply-to;
 bh=tzhbX5+L373bh8z9Vefb0OKOJufS0kcMd0lzT1L9v+w=;
 b=KGzw2ldtVIvTGVKAfih9bWRtXuCfZLClBI+AUp2KajtmX9Ulry2kct/uLij9hKQmT3
 f8Oboc+2o9bjIcpBK+sCE8yr7TOgkQRtNdkgSCHGffzw1b/GEQjqCUnn86qYgPavD0U2
 vtThtmy994++EJz4sJfq+Ee3ViwbNXCwp+onc=
X-Google-DKIM-Signature: v=1; a=rsa-sha256; c=relaxed/relaxed;
 d=1e100.net; s=20230601; t=1725527607; x=1726132407;
 h=references:in-reply-to:cc:to:from:subject:message-id:date
 :x-gm-message-state:from:to:cc:subject:date:message-id:reply-to;
 bh=tzhbX5+L373bh8z9Vefb0OKOJufS0kcMd0lzT1L9v+w=;
 b=W0/nPYq1Hb1DO9EE1jy5WjJiVRvqwqi/zV8SsQBGRPf7BlW22DdeNt007GY3jeVCCj
 zmNy6UvAlWwM4nHBLHm9UVEJxXIF61j6zJDnA1uQdGWB3fICueXLD6KVUIvZMN4Ofx+t
 S8cnwbQ+WEkC5yLb1QwqxeMs6wK5UzyWBph7gGnEs+EhhQLn50qQNQ20ItazhvxZMmgz
 fwvowPJyytl/EPSHVUE6jm1b4vDNAZnsIb1txw4IifujGJWnGA63UNbnhUvIthkjxgZa
 3ENsa8yk2z4EInajB9zMCOiJC5IRoAYziI+UwnVNArjOr0VvI3ei6/iSqE+XpXKUWXMg
 SvkA==
X-Gm-Message-State: AOJu0YyJ/d5qH9uCWr47WcJi4/HngK188yFxqyJywnYziWr7zMPb8KlV
 DXa5lW08mrWI0A2HS0POjBkGiDyLJNHWCgTWb7XhIx6QEk04iPE4mSfLLYegmgeboYOZVjJEUA8
 XBX6AENIXxZiA0Uc6z92zhEFr2/a+hk+1/TAfmJUb
X-Google-Smtp-Source: AGHT+IELHjaCTyjU2LWIaGgnc046AOfNzXtcCEOSnO6MeXeg1PlG/IcrUlnd1qoMg4hPVXIrpLIRMR2l+mEr
X-Received: by 2002:a05:6870:a101:b0:270:27e6:6f1a with SMTP id
 586e51a60fabf-277cce5603fmr19335624fac.41.1725527607129; 
 Thu, 05 Sep 2024 02:13:27 -0700 (PDT)
Received: from postal.iol.unh.edu (postal.iol.unh.edu. [132.177.123.84])
 by smtp-relay.gmail.com with ESMTPS id
 d2e1a72fcca58-71778546830sm230437b3a.16.2024.09.05.02.13.26
 (version=TLS1_2 cipher=ECDHE-ECDSA-AES128-GCM-SHA256 bits=128/128);
 Thu, 05 Sep 2024 02:13:27 -0700 (PDT)
X-Relaying-Domain: iol.unh.edu
Date: Thu, 05 Sep 2024 02:13:27 -0700 (PDT)
Message-ID: <66d97637.a70a0220.117964.121cSMTPIN_ADDED_MISSING@mx.google.com>
Received: from [172.17.0.2] (unknown [172.18.0.214])
 by postal.iol.unh.edu (Postfix) with ESMTP id 4F1F06050A6B;
 Thu,  5 Sep 2024 05:13:26 -0400 (EDT)
Subject: |SUCCESS| pw143603-143605 [PATCH] [3/3] examples/ptpclient: add freq
From: dpdklab@iol.unh.edu
To: Test Report <test-report@dpdk.org>
Cc: dpdk-test-reports@iol.unh.edu
In-Reply-To: <20240905013144.844499-4-mingjinx.ye@intel.com>
References: <20240905013144.844499-4-mingjinx.ye@intel.com>
Content-Type: text/plain
X-BeenThere: test-report@dpdk.org
X-Mailman-Version: 2.1.29
Precedence: list
List-Id: automatic DPDK test reports <test-report.dpdk.org>
List-Unsubscribe: <https://mails.dpdk.org/options/test-report>,
 <mailto:test-report-request@dpdk.org?subject=unsubscribe>
List-Archive: <http://mails.dpdk.org/archives/test-report/>
List-Post: <mailto:test-report@dpdk.org>
List-Help: <mailto:test-report-request@dpdk.org?subject=help>
List-Subscribe: <https://mails.dpdk.org/listinfo/test-report>,
 <mailto:test-report-request@dpdk.org?subject=subscribe>
Errors-To: test-report-bounces@dpdk.org

Test-Label: iol-unit-amd64-testing
Test-Status: SUCCESS
http://dpdk.org/patch/143605

_Testing PASS_

Submitter: Mingjin Ye <mingjinx.ye@intel.com>
Date: Thursday, September 05 2024 01:31:44 
DPDK git baseline: Repo:dpdk
  Branch: master
  CommitID:5cce3d463a99dbb5e7797faaed6c68df6c2b549a

143603-143605 --> testing pass

Upstream job id: Generic-Unit-Test-DPDK#258187

Test environment and result as below:

+---------------------+----------------+
|     Environment     | dpdk_unit_test |
+=====================+================+
| Windows Server 2022 | PASS           |
+---------------------+----------------+
| CentOS Stream 9     | PASS           |
+---------------------+----------------+
| Debian Bullseye     | PASS           |
+---------------------+----------------+
| Debian 12           | PASS           |
+---------------------+----------------+
| Fedora 37           | PASS           |
+---------------------+----------------+
| Fedora 38           | PASS           |
+---------------------+----------------+
| Fedora 38 (Clang)   | PASS           |
+---------------------+----------------+
| Fedora 39           | PASS           |
+---------------------+----------------+
| Fedora 39 (Clang)   | PASS           |
+---------------------+----------------+
| Fedora 40           | PASS           |
+---------------------+----------------+
| Fedora 40 (Clang)   | PASS           |
+---------------------+----------------+
| RHEL9               | PASS           |
+---------------------+----------------+
| RHEL8               | PASS           |
+---------------------+----------------+
| Ubuntu 20.04        | PASS           |
+---------------------+----------------+
| Ubuntu 24.04        | PASS           |
+---------------------+----------------+
| Ubuntu 22.04        | PASS           |
+---------------------+----------------+


Windows Server 2022
	Kernel: 10.0.20348.2031
	Compiler: clang 15.0.7, gcc 14.1.0 (MinGW), and MSVC VS 19.39.33521

CentOS Stream 9
	Kernel: Depends on container host
	Compiler: gcc 11.4.1 20231218 (Red Hat 11.4.1-3)

Debian Bullseye
	Kernel: Depends on container host
	Compiler: gcc (Debian 10.2.1-6) 10.2.1 20210110

Debian 12
	Kernel: Depends on container host
	Compiler: gcc (Debian 12.2.0-14) 12.2.0

Fedora 37
	Kernel: Depends on container host system
	Compiler: gcc 12.3.1 20230508 (Red Hat 12.3.1-1)

Fedora 38
	Kernel: Depends on container host
	Compiler: gcc 13.2.1 20240316 (Red Hat 13.2.1-7)

Fedora 38 (Clang)
	Kernel: Depends on container host
	Compiler: clang 16.0.6 (Fedora 16.0.6-4.fc38)

Fedora 39
	Kernel: Depends on container host
	Compiler: gcc 13.3.1 20240522 (Red Hat 13.3.1-1)

Fedora 39 (Clang)
	Kernel: Depends on container host
	Compiler: clang 17.0.6 (Fedora 17.0.6-2.fc39)

Fedora 40
	Kernel: Depends on container host
	Compiler: gcc 14.2.1 20240801 (Red Hat 14.2.1-1)

Fedora 40 (Clang)
	Kernel: Depends on container host
	Compiler: clang 18.1.6 (Fedora 18.1.6-3.fc40)

RHEL9
	Kernel: Depends on container host
	Compiler: gcc 11.4.1 20231218 (Red Hat 11.4.1-3)

RHEL8
	Kernel: Depends on container host
	Compiler: gcc 8.5.0 20210514 (Red Hat 8.5.0-22)

Ubuntu 20.04
	Kernel: Depends on container host
	Compiler: gcc (Ubuntu 9.4.0-1ubuntu1~20.04.2) 9.4.0

Ubuntu 24.04
	Kernel: Depends on container host
	Compiler: gcc (Ubuntu 13.2.0-23ubuntu4) 13.2.0

Ubuntu 22.04
	Kernel: Depends on container host
	Compiler: gcc (Ubuntu 11.4.0-1ubuntu1~22.04) 11.4.0

To view detailed results, visit:
https://lab.dpdk.org/results/dashboard/patchsets/30909/

UNH-IOL DPDK Community Lab

To manage your email subscriptions, visit: 
https://lab.dpdk.org/results/dashboard/preferences/subscriptions/