From mboxrd@z Thu Jan  1 00:00:00 1970
Return-Path: <test-report-bounces@dpdk.org>
Received: from mails.dpdk.org (mails.dpdk.org [217.70.189.124])
	by inbox.dpdk.org (Postfix) with ESMTP id 2FBF14590C
	for <public@inbox.dpdk.org>; Thu,  5 Sep 2024 11:32:53 +0200 (CEST)
Received: from mails.dpdk.org (localhost [127.0.0.1])
	by mails.dpdk.org (Postfix) with ESMTP id 2C47040264;
	Thu,  5 Sep 2024 11:32:53 +0200 (CEST)
Received: from mail-pl1-f227.google.com (mail-pl1-f227.google.com
 [209.85.214.227])
 by mails.dpdk.org (Postfix) with ESMTP id BA2194025C
 for <test-report@dpdk.org>; Thu,  5 Sep 2024 11:32:51 +0200 (CEST)
Received: by mail-pl1-f227.google.com with SMTP id
 d9443c01a7336-204d391f53bso5477255ad.2
 for <test-report@dpdk.org>; Thu, 05 Sep 2024 02:32:51 -0700 (PDT)
DKIM-Signature: v=1; a=rsa-sha256; c=relaxed/relaxed;
 d=iol.unh.edu; s=unh-iol; t=1725528771; x=1726133571; darn=dpdk.org;
 h=references:in-reply-to:cc:to:from:subject:message-id:date:from:to
 :cc:subject:date:message-id:reply-to;
 bh=4X2xrqob/ulxhNJMHvmimtsvpWNm+PH2VLuF1gsowOE=;
 b=XzczX79o0ISAn7liy5jblQAr1DQXYv7V8qW/vK/kEQgM1nkQ1xMmlwZ5CiAsZnLoTI
 U2EkskEP0WAK3rATDgrStRhJVa5wBXb9ZWIEtki3BWaq9FMW1bxQyBt3xTvhiQg4gU7H
 o7cAnntTXCAUTw9kyeTy/JhREKj5VR8JJyps4=
X-Google-DKIM-Signature: v=1; a=rsa-sha256; c=relaxed/relaxed;
 d=1e100.net; s=20230601; t=1725528771; x=1726133571;
 h=references:in-reply-to:cc:to:from:subject:message-id:date
 :x-gm-message-state:from:to:cc:subject:date:message-id:reply-to;
 bh=4X2xrqob/ulxhNJMHvmimtsvpWNm+PH2VLuF1gsowOE=;
 b=C5WE9cy5CHs2lrjtAlae+c/cng/5X3iPmoQu7pH3P4+sYaR54ztdVk3Fikya/KsQkW
 iO0Pk0RKdJg//0KdjeRA8Epbx31/Jb0urkHiKnFhCuMgXjZY277WpVFdW4gEgKrrYz1i
 PVJlKi3jBM1KgulDqeop3SaaCy8a48MuTqgs7mqbI4hILrl5/5fAL45OvowthS3L1QF+
 FbxTRkxCGii3+41phLIhdNdmLo60y1CTbH4LV76ILbIofmNmjU0+65uI4IdtLuWez1vZ
 ygVW1Kp4Gncovr4nfliECqLXyqG6Iv/9LMR71TenZRhuS92S73klTyKYj508CzXBZuFa
 MIbA==
X-Gm-Message-State: AOJu0Yx/6mY4/OOEY55Q/DgDUvbHdHZYfcWWfOAzK0SisKsBpeY5ioyN
 K/HORKO4owjO9l+2SDicocEDUcz9yXl1ebFl95+nyg2UNNkYcbBu/g5en56cPA9mzWGhSYET97S
 E3kHMv1BjNN7VfPC87m69tWVEdAYUNPXkIGS6CSJN
X-Google-Smtp-Source: AGHT+IGzKnafRkgg3JAc9FQmmkY71G1BY0HvpxrxJIz1rPb5H4I6FPY5DtfSoHMzuI1e2jT34qkiYG0iq/Qv
X-Received: by 2002:a17:902:da92:b0:1ff:4967:66b with SMTP id
 d9443c01a7336-20547d0226bmr153565895ad.56.1725528770928; 
 Thu, 05 Sep 2024 02:32:50 -0700 (PDT)
Received: from postal.iol.unh.edu (postal.iol.unh.edu. [132.177.123.84])
 by smtp-relay.gmail.com with ESMTPS id
 d9443c01a7336-206ae929a02sm1685595ad.69.2024.09.05.02.32.50
 (version=TLS1_2 cipher=ECDHE-ECDSA-AES128-GCM-SHA256 bits=128/128);
 Thu, 05 Sep 2024 02:32:50 -0700 (PDT)
X-Relaying-Domain: iol.unh.edu
Date: Thu, 05 Sep 2024 02:32:50 -0700 (PDT)
Message-ID: <66d97ac2.170a0220.39d1aa.f6beSMTPIN_ADDED_MISSING@mx.google.com>
Received: from [172.17.0.3] (unknown [172.18.0.217])
 by postal.iol.unh.edu (Postfix) with ESMTP id 214E86050A6B;
 Thu,  5 Sep 2024 05:32:50 -0400 (EDT)
Subject: |SUCCESS| pw143630-143635 [PATCH] [11/11] crypto/cnxk: add PMD API t
From: dpdklab@iol.unh.edu
To: Test Report <test-report@dpdk.org>
Cc: dpdk-test-reports@iol.unh.edu
In-Reply-To: <20240905074631.1462357-12-ktejasree@marvell.com>
References: <20240905074631.1462357-12-ktejasree@marvell.com>
Content-Type: text/plain
X-BeenThere: test-report@dpdk.org
X-Mailman-Version: 2.1.29
Precedence: list
List-Id: automatic DPDK test reports <test-report.dpdk.org>
List-Unsubscribe: <https://mails.dpdk.org/options/test-report>,
 <mailto:test-report-request@dpdk.org?subject=unsubscribe>
List-Archive: <http://mails.dpdk.org/archives/test-report/>
List-Post: <mailto:test-report@dpdk.org>
List-Help: <mailto:test-report-request@dpdk.org?subject=help>
List-Subscribe: <https://mails.dpdk.org/listinfo/test-report>,
 <mailto:test-report-request@dpdk.org?subject=subscribe>
Errors-To: test-report-bounces@dpdk.org

Test-Label: iol-compile-amd64-testing
Test-Status: SUCCESS
http://dpdk.org/patch/143635

_Testing PASS_

Submitter: Tejasree Kondoj <ktejasree@marvell.com>
Date: Thursday, September 05 2024 07:46:31 
DPDK git baseline: Repo:dpdk
  Branch: master
  CommitID:41dd9a6bc2d9c6e20e139ad713cc9d172572dd43

143630-143635 --> testing pass

Upstream job id: Windows-Compile-DPDK-Native#21930

Test environment and result as below:

+---------------------+-----------------------+-------------------+----------------------+--------------------+
|     Environment     | dpdk_win_llvm_compile | dpdk_msvc_compile | dpdk_mingw64_compile | dpdk_meson_compile |
+=====================+=======================+===================+======================+====================+
| Windows Server 2022 | PASS                  | PASS              | PASS                 | SKIPPED            |
+---------------------+-----------------------+-------------------+----------------------+--------------------+
| FreeBSD 14.1        | SKIPPED               | SKIPPED           | SKIPPED              | PASS               |
+---------------------+-----------------------+-------------------+----------------------+--------------------+


Windows Server 2022
	Kernel: 10.0.20348.2031
	Compiler: clang 15.0.7, gcc 14.1.0 (MinGW), and MSVC VS 19.39.33521

FreeBSD 14.1
	Kernel: 14.1-RELEASE-p3
	Compiler: clang 18.1.5

To view detailed results, visit:
https://lab.dpdk.org/results/dashboard/patchsets/30914/

UNH-IOL DPDK Community Lab

To manage your email subscriptions, visit: 
https://lab.dpdk.org/results/dashboard/preferences/subscriptions/