From mboxrd@z Thu Jan  1 00:00:00 1970
Return-Path: <test-report-bounces@dpdk.org>
Received: from mails.dpdk.org (mails.dpdk.org [217.70.189.124])
	by inbox.dpdk.org (Postfix) with ESMTP id B1FDF45910
	for <public@inbox.dpdk.org>; Thu,  5 Sep 2024 18:52:03 +0200 (CEST)
Received: from mails.dpdk.org (localhost [127.0.0.1])
	by mails.dpdk.org (Postfix) with ESMTP id A95DE42794;
	Thu,  5 Sep 2024 18:52:03 +0200 (CEST)
Received: from mail-oa1-f98.google.com (mail-oa1-f98.google.com
 [209.85.160.98]) by mails.dpdk.org (Postfix) with ESMTP id 642E14025C
 for <test-report@dpdk.org>; Thu,  5 Sep 2024 18:52:02 +0200 (CEST)
Received: by mail-oa1-f98.google.com with SMTP id
 586e51a60fabf-27b7a1480bdso316268fac.2
 for <test-report@dpdk.org>; Thu, 05 Sep 2024 09:52:02 -0700 (PDT)
DKIM-Signature: v=1; a=rsa-sha256; c=relaxed/relaxed;
 d=iol.unh.edu; s=unh-iol; t=1725555121; x=1726159921; darn=dpdk.org;
 h=references:in-reply-to:cc:to:from:subject:message-id:date:from:to
 :cc:subject:date:message-id:reply-to;
 bh=FhIHRHqaGSEJP+Ti009iBzfKj9T6NWNu4P6x/irhEVU=;
 b=Xh5Hq2/+6vqysSBW+uU80yWTxYQHiUj0aylQ01G9xW0KCS19Zgy5A+/3NcHUKJEfX8
 ieN6tt/gALuAy2a+BfwQca6FAYZasegMiZcRiBERpUGjVLUNeuucYNAMO+n/gUu2F3kR
 bRICTpjuc+vA59hK8pdpelM5fkpVsWp49A8vs=
X-Google-DKIM-Signature: v=1; a=rsa-sha256; c=relaxed/relaxed;
 d=1e100.net; s=20230601; t=1725555121; x=1726159921;
 h=references:in-reply-to:cc:to:from:subject:message-id:date
 :x-gm-message-state:from:to:cc:subject:date:message-id:reply-to;
 bh=FhIHRHqaGSEJP+Ti009iBzfKj9T6NWNu4P6x/irhEVU=;
 b=Chysuxp0bO4XUTjDEdJKj/1zLUIX+p/rfM0Fb25x4SLplo+n7pKrhuVY863QXUcbPS
 tiGqg67RyVHPkGzsx4HyQi/cciIxpjHUuKVM+oEdSCqu9Kw9KVsi8WMea6ozM044H4xt
 38Ltojmu8mK3h9N/HKg/M9OSve0Cums5Lf8TeeL+bcVVneVVAILdQdLOdyPGi4cPzItz
 WQc0rjKfQKi0mH1Ozg95Hdl1HwmnGg5o1Tah1kL2NTmyZmahzDedWJPrPHttMYyNzdeh
 NoE+r84hWfpZuizCPvp45+3QaUjs21kfBo6KYFjQNOtw74PoAcpf57XYRTKFm++fFnuI
 OuOg==
X-Gm-Message-State: AOJu0YwlVNyizmWssNvQMJsec5iq/uh6sWzl6IdwZ2EjMlpBoqFLLmIl
 w2EcyqAIANhQlP0ZHNoFfelM1LDNGtJiPepXXVaSiiaCHz3G9M4s6Mi6l4D7VfHty/l4fsS+fnr
 BJBNj8u7wAPL2qKWocDDZAGlj/CmiNUSPKWqt94Hw
X-Google-Smtp-Source: AGHT+IFXkoZ9Nk13ZPqtlZh3ui+AOtzymghMXywS+fojEPDYI4I0jvUhdlc4KDEpFWhL2d/fpGgma38/LKyQ
X-Received: by 2002:a05:6870:d10f:b0:278:a70:d9e3 with SMTP id
 586e51a60fabf-2781a75c026mr11885048fac.5.1725555121654; 
 Thu, 05 Sep 2024 09:52:01 -0700 (PDT)
Received: from postal.iol.unh.edu (postal.iol.unh.edu. [132.177.123.84])
 by smtp-relay.gmail.com with ESMTPS id
 586e51a60fabf-277abd1a281sm492855fac.35.2024.09.05.09.52.01
 (version=TLS1_2 cipher=ECDHE-ECDSA-AES128-GCM-SHA256 bits=128/128);
 Thu, 05 Sep 2024 09:52:01 -0700 (PDT)
X-Relaying-Domain: iol.unh.edu
Date: Thu, 05 Sep 2024 09:52:01 -0700 (PDT)
Message-ID: <66d9e1b1.050a0220.1b4e10.852aSMTPIN_ADDED_MISSING@mx.google.com>
Received: from [172.17.0.2] (unknown [172.18.0.215])
 by postal.iol.unh.edu (Postfix) with ESMTP id 464C76050A6B;
 Thu,  5 Sep 2024 12:52:01 -0400 (EDT)
Subject: |SUCCESS| pw143600-143602 [PATCH] [3/3] eal: mark rte_memzone_max_ge
From: dpdklab@iol.unh.edu
To: Test Report <test-report@dpdk.org>
Cc: dpdk-test-reports@iol.unh.edu
In-Reply-To: <20240904180954.104473-4-stephen@networkplumber.org>
References: <20240904180954.104473-4-stephen@networkplumber.org>
Content-Type: text/plain
X-BeenThere: test-report@dpdk.org
X-Mailman-Version: 2.1.29
Precedence: list
List-Id: automatic DPDK test reports <test-report.dpdk.org>
List-Unsubscribe: <https://mails.dpdk.org/options/test-report>,
 <mailto:test-report-request@dpdk.org?subject=unsubscribe>
List-Archive: <http://mails.dpdk.org/archives/test-report/>
List-Post: <mailto:test-report@dpdk.org>
List-Help: <mailto:test-report-request@dpdk.org?subject=help>
List-Subscribe: <https://mails.dpdk.org/listinfo/test-report>,
 <mailto:test-report-request@dpdk.org?subject=subscribe>
Errors-To: test-report-bounces@dpdk.org

Test-Label: iol-unit-arm64-testing
Test-Status: SUCCESS
http://dpdk.org/patch/143602

_Testing PASS_

Submitter: Stephen Hemminger <stephen@networkplumber.org>
Date: Wednesday, September 04 2024 18:08:46 
DPDK git baseline: Repo:dpdk
  Branch: master
  CommitID:41dd9a6bc2d9c6e20e139ad713cc9d172572dd43

143600-143602 --> testing pass

Upstream job id: Generic-Unit-Test-DPDK#258310

Test environment and result as below:

+-----------------------------+----------------+--------------+---------------------------+------------------------------+
|         Environment         | dpdk_unit_test | lpm_autotest | cryptodev_sw_zuc_autotest | cryptodev_sw_snow3g_autotest |
+=============================+================+==============+===========================+==============================+
| 32-bit Ubuntu 20.04.4 (ARM) | PASS           | SKIPPED      | SKIPPED                   | SKIPPED                      |
+-----------------------------+----------------+--------------+---------------------------+------------------------------+
| Debian 11 (Buster) (ARM)    | PASS           | SKIPPED      | SKIPPED                   | SKIPPED                      |
+-----------------------------+----------------+--------------+---------------------------+------------------------------+
| CentOS Stream 9 (ARM)       | PASS           | SKIPPED      | SKIPPED                   | SKIPPED                      |
+-----------------------------+----------------+--------------+---------------------------+------------------------------+
| Debian 12 (arm)             | PASS           | SKIPPED      | PASS                      | PASS                         |
+-----------------------------+----------------+--------------+---------------------------+------------------------------+
| Fedora 38 (ARM)             | PASS           | SKIPPED      | SKIPPED                   | SKIPPED                      |
+-----------------------------+----------------+--------------+---------------------------+------------------------------+
| Fedora 37 (ARM)             | PASS           | SKIPPED      | SKIPPED                   | SKIPPED                      |
+-----------------------------+----------------+--------------+---------------------------+------------------------------+
| Fedora 39 (ARM)             | PASS           | SKIPPED      | SKIPPED                   | SKIPPED                      |
+-----------------------------+----------------+--------------+---------------------------+------------------------------+
| Fedora 40 (ARM)             | PASS           | SKIPPED      | SKIPPED                   | SKIPPED                      |
+-----------------------------+----------------+--------------+---------------------------+------------------------------+
| Fedora 39 (ARM Clang)       | PASS           | SKIPPED      | SKIPPED                   | SKIPPED                      |
+-----------------------------+----------------+--------------+---------------------------+------------------------------+
| Fedora 40 (ARM Clang)       | PASS           | SKIPPED      | SKIPPED                   | SKIPPED                      |
+-----------------------------+----------------+--------------+---------------------------+------------------------------+
| RHEL9 (ARM)                 | PASS           | SKIPPED      | SKIPPED                   | SKIPPED                      |
+-----------------------------+----------------+--------------+---------------------------+------------------------------+
| Ubuntu 20.04 (ARM)          | PASS           | SKIPPED      | SKIPPED                   | SKIPPED                      |
+-----------------------------+----------------+--------------+---------------------------+------------------------------+
| Ubuntu 22.04 (ARM)          | PASS           | SKIPPED      | SKIPPED                   | SKIPPED                      |
+-----------------------------+----------------+--------------+---------------------------+------------------------------+
| Ubuntu 24.04 (ARM)          | PASS           | SKIPPED      | SKIPPED                   | SKIPPED                      |
+-----------------------------+----------------+--------------+---------------------------+------------------------------+
| Fedora 38 (ARM Clang)       | PASS           | SKIPPED      | SKIPPED                   | SKIPPED                      |
+-----------------------------+----------------+--------------+---------------------------+------------------------------+
| Ubuntu 20.04 ARM SVE        | SKIPPED        | PASS         | SKIPPED                   | SKIPPED                      |
+-----------------------------+----------------+--------------+---------------------------+------------------------------+


32-bit Ubuntu 20.04.4 (ARM)
	Kernel: 5.4.0-155-generic aarch64
	Compiler: gcc 9.4

Debian 11 (Buster) (ARM)
	Kernel: Depends on container host
	Compiler: gcc (Debian 10.2.1-6) 10.2.1 20210110

CentOS Stream 9 (ARM)
	Kernel: Depends on container host
	Compiler: gcc 11.4.1 20231218 (Red Hat 11.4.1-3)

Debian 12 (arm)
	Kernel: Depends on container host
	Compiler: gcc (Debian 12.2.0-14) 12.2.0

Fedora 38 (ARM)
	Kernel: Depends on container host
	Compiler: gcc 13.2.1 20240316 (Red Hat 13.2.1-7)

Fedora 37 (ARM)
	Kernel: Depends on container host
	Compiler: gcc 12.3.1 20230508 (Red Hat 12.3.1-1)

Fedora 39 (ARM)
	Kernel: Depends on container host
	Compiler: gcc 13.3.1 20240522 (Red Hat 13.3.1-1)

Fedora 40 (ARM)
	Kernel: Depends on container host
	Compiler: gcc 14.2.1 20240801 (Red Hat 14.2.1-1)

Fedora 39 (ARM Clang)
	Kernel: Depends on container host
	Compiler: clang 17.0.6 (Fedora 17.0.6-2.fc39)

Fedora 40 (ARM Clang)
	Kernel: Depends on container host
	Compiler: clang 18.1.6 (Fedora 18.1.6-3.fc40)

RHEL9 (ARM)
	Kernel: Depends on container host
	Compiler: gcc 11.4.1 20231218 (Red Hat 11.4.1-3)

Ubuntu 20.04 (ARM)
	Kernel: Depends on container host
	Compiler: gcc (Ubuntu 9.4.0-1ubuntu1~20.04.2) 9.4.0

Ubuntu 22.04 (ARM)
	Kernel: Depends on container host
	Compiler: gcc (Ubuntu 11.4.0-1ubuntu1~22.04) 11.4.0

Ubuntu 24.04 (ARM)
	Kernel: Depends on container host
	Compiler: gcc (Ubuntu 13.2.0-23ubuntu4) 13.2.0

Fedora 38 (ARM Clang)
	Kernel: Depends on container host
	Compiler: clang 16.0.6 (Fedora 16.0.6-4.fc38)

Ubuntu 20.04 ARM SVE
	Kernel: Depends on container host
	Compiler: gcc (Ubuntu 10.5.0-1ubuntu1~20.04) 10.5.0

To view detailed results, visit:
https://lab.dpdk.org/results/dashboard/patchsets/30908/

UNH-IOL DPDK Community Lab

To manage your email subscriptions, visit: 
https://lab.dpdk.org/results/dashboard/preferences/subscriptions/