From mboxrd@z Thu Jan  1 00:00:00 1970
Return-Path: <test-report-bounces@dpdk.org>
Received: from mails.dpdk.org (mails.dpdk.org [217.70.189.124])
	by inbox.dpdk.org (Postfix) with ESMTP id A6FBB45910
	for <public@inbox.dpdk.org>; Thu,  5 Sep 2024 19:10:45 +0200 (CEST)
Received: from mails.dpdk.org (localhost [127.0.0.1])
	by mails.dpdk.org (Postfix) with ESMTP id 9E96B42794;
	Thu,  5 Sep 2024 19:10:45 +0200 (CEST)
Received: from mail-il1-f225.google.com (mail-il1-f225.google.com
 [209.85.166.225])
 by mails.dpdk.org (Postfix) with ESMTP id 9AD214025C
 for <test-report@dpdk.org>; Thu,  5 Sep 2024 19:10:43 +0200 (CEST)
Received: by mail-il1-f225.google.com with SMTP id
 e9e14a558f8ab-39f4ec52c5fso3526045ab.2
 for <test-report@dpdk.org>; Thu, 05 Sep 2024 10:10:43 -0700 (PDT)
DKIM-Signature: v=1; a=rsa-sha256; c=relaxed/relaxed;
 d=iol.unh.edu; s=unh-iol; t=1725556243; x=1726161043; darn=dpdk.org;
 h=references:in-reply-to:cc:to:from:subject:message-id:date:from:to
 :cc:subject:date:message-id:reply-to;
 bh=ypZvBeoe7ng5zLGQnEHmRxmw8qBemzTdCKsXp4xQp30=;
 b=O2rTdW468o7YZ+4kJkFrutLj8J/ugUOrGueHtHtflltG/2S/aahswuTzX7gUkd2lh/
 o+VP6kPF1YQLb9vwuxatom5+v0UsrdsEGqkKNAgnQgoUxz91rPOjU3x8YNL9FDCnZAvI
 fXZXo3VjGj7TUdD+AJVAahXNoD7uHp4i9VWoY=
X-Google-DKIM-Signature: v=1; a=rsa-sha256; c=relaxed/relaxed;
 d=1e100.net; s=20230601; t=1725556243; x=1726161043;
 h=references:in-reply-to:cc:to:from:subject:message-id:date
 :x-gm-message-state:from:to:cc:subject:date:message-id:reply-to;
 bh=ypZvBeoe7ng5zLGQnEHmRxmw8qBemzTdCKsXp4xQp30=;
 b=fmtr8FRzpriKC4s9CVZSCA5DgkhsBPxPnXFLDW0vVCTVECpU7vGdtY+rlHkjYLYeOd
 Dl/gIwAFxhQSjwYYe4ugqF+xH2k5FNBAoKkDtp3yoqgBs4GtbbAslX/2LS4fIt7FF9qw
 P3dGO8H79oSnMKS2lcluCSS+z4+XGNjYQgqzotvMBC6W5KGgt0QQJWVjaUUV8AUf/qMY
 tG5AxkNFYhPJrFWPENHk46ID/6iI7lS8WFAoGUCNnRIfI6/73tSjNrZV2tXtIkmTqSou
 q/4rQTaJurPWAle04JlFEFNNDB0fUpSjnFiiOHi5kUTY1QtbMUJTBo12Xe0AdJ5EJdca
 bkNw==
X-Gm-Message-State: AOJu0YzuUaf/HWIXBLC952/qSOxRoJ2X0/HEsM5v9CuU7NC8Wz61YQP9
 fgKAHU4L/G7ySBf7ltdSz5XXh6ppMVxbeNhUybXXYkqIcIB4Tr3YGf+t8DYGtg2dkwHLUNYdS/3
 D2miPIh1p0ktZo49OeAQ8HGaaMWNvS4KenZoJ/cpR
X-Google-Smtp-Source: AGHT+IEp7LvU130qhg7zpYZMhcvGxG6N7wJ92wgXr0t98tH17cOvYqHnerV6vE8nS9bkjqWjh0MsxG/ZY98S
X-Received: by 2002:a05:6e02:b48:b0:376:40b7:b6f3 with SMTP id
 e9e14a558f8ab-39f4f681dbbmr206493645ab.2.1725556242849; 
 Thu, 05 Sep 2024 10:10:42 -0700 (PDT)
Received: from postal.iol.unh.edu (postal.iol.unh.edu. [132.177.123.84])
 by smtp-relay.gmail.com with ESMTPS id
 e9e14a558f8ab-39f4e38ccbcsm4097875ab.68.2024.09.05.10.10.42
 (version=TLS1_2 cipher=ECDHE-ECDSA-AES128-GCM-SHA256 bits=128/128);
 Thu, 05 Sep 2024 10:10:42 -0700 (PDT)
X-Relaying-Domain: iol.unh.edu
Date: Thu, 05 Sep 2024 10:10:42 -0700 (PDT)
Message-ID: <66d9e612.050a0220.157d5a.2e57SMTPIN_ADDED_MISSING@mx.google.com>
Received: from [172.17.0.4] (unknown [172.18.0.213])
 by postal.iol.unh.edu (Postfix) with ESMTP id 60B96605C351;
 Thu,  5 Sep 2024 13:10:42 -0400 (EDT)
Subject: |SUCCESS| pw143600-143602 [PATCH] [3/3] eal: mark rte_memzone_max_ge
From: dpdklab@iol.unh.edu
To: Test Report <test-report@dpdk.org>
Cc: dpdk-test-reports@iol.unh.edu
In-Reply-To: <20240904180954.104473-4-stephen@networkplumber.org>
References: <20240904180954.104473-4-stephen@networkplumber.org>
Content-Type: text/plain
X-BeenThere: test-report@dpdk.org
X-Mailman-Version: 2.1.29
Precedence: list
List-Id: automatic DPDK test reports <test-report.dpdk.org>
List-Unsubscribe: <https://mails.dpdk.org/options/test-report>,
 <mailto:test-report-request@dpdk.org?subject=unsubscribe>
List-Archive: <http://mails.dpdk.org/archives/test-report/>
List-Post: <mailto:test-report@dpdk.org>
List-Help: <mailto:test-report-request@dpdk.org?subject=help>
List-Subscribe: <https://mails.dpdk.org/listinfo/test-report>,
 <mailto:test-report-request@dpdk.org?subject=subscribe>
Errors-To: test-report-bounces@dpdk.org

Test-Label: iol-unit-amd64-testing
Test-Status: SUCCESS
http://dpdk.org/patch/143602

_Testing PASS_

Submitter: Stephen Hemminger <stephen@networkplumber.org>
Date: Wednesday, September 04 2024 18:08:46 
DPDK git baseline: Repo:dpdk
  Branch: master
  CommitID:41dd9a6bc2d9c6e20e139ad713cc9d172572dd43

143600-143602 --> testing pass

Upstream job id: Generic-Unit-Test-DPDK#258306

Test environment and result as below:

+---------------------+----------------+
|     Environment     | dpdk_unit_test |
+=====================+================+
| CentOS Stream 9     | PASS           |
+---------------------+----------------+
| Debian Bullseye     | PASS           |
+---------------------+----------------+
| Debian 12           | PASS           |
+---------------------+----------------+
| Fedora 37           | PASS           |
+---------------------+----------------+
| Fedora 38           | PASS           |
+---------------------+----------------+
| Fedora 38 (Clang)   | PASS           |
+---------------------+----------------+
| Fedora 39           | PASS           |
+---------------------+----------------+
| Fedora 39 (Clang)   | PASS           |
+---------------------+----------------+
| Fedora 40           | PASS           |
+---------------------+----------------+
| Fedora 40 (Clang)   | PASS           |
+---------------------+----------------+
| RHEL8               | PASS           |
+---------------------+----------------+
| Ubuntu 20.04        | PASS           |
+---------------------+----------------+
| RHEL9               | PASS           |
+---------------------+----------------+
| Ubuntu 22.04        | PASS           |
+---------------------+----------------+
| Ubuntu 24.04        | PASS           |
+---------------------+----------------+
| Windows Server 2022 | PASS           |
+---------------------+----------------+


CentOS Stream 9
	Kernel: Depends on container host
	Compiler: gcc 11.4.1 20231218 (Red Hat 11.4.1-3)

Debian Bullseye
	Kernel: Depends on container host
	Compiler: gcc (Debian 10.2.1-6) 10.2.1 20210110

Debian 12
	Kernel: Depends on container host
	Compiler: gcc (Debian 12.2.0-14) 12.2.0

Fedora 37
	Kernel: Depends on container host system
	Compiler: gcc 12.3.1 20230508 (Red Hat 12.3.1-1)

Fedora 38
	Kernel: Depends on container host
	Compiler: gcc 13.2.1 20240316 (Red Hat 13.2.1-7)

Fedora 38 (Clang)
	Kernel: Depends on container host
	Compiler: clang 16.0.6 (Fedora 16.0.6-4.fc38)

Fedora 39
	Kernel: Depends on container host
	Compiler: gcc 13.3.1 20240522 (Red Hat 13.3.1-1)

Fedora 39 (Clang)
	Kernel: Depends on container host
	Compiler: clang 17.0.6 (Fedora 17.0.6-2.fc39)

Fedora 40
	Kernel: Depends on container host
	Compiler: gcc 14.2.1 20240801 (Red Hat 14.2.1-1)

Fedora 40 (Clang)
	Kernel: Depends on container host
	Compiler: clang 18.1.6 (Fedora 18.1.6-3.fc40)

RHEL8
	Kernel: Depends on container host
	Compiler: gcc 8.5.0 20210514 (Red Hat 8.5.0-22)

Ubuntu 20.04
	Kernel: Depends on container host
	Compiler: gcc (Ubuntu 9.4.0-1ubuntu1~20.04.2) 9.4.0

RHEL9
	Kernel: Depends on container host
	Compiler: gcc 11.4.1 20231218 (Red Hat 11.4.1-3)

Ubuntu 22.04
	Kernel: Depends on container host
	Compiler: gcc (Ubuntu 11.4.0-1ubuntu1~22.04) 11.4.0

Ubuntu 24.04
	Kernel: Depends on container host
	Compiler: gcc (Ubuntu 13.2.0-23ubuntu4) 13.2.0

Windows Server 2022
	Kernel: 10.0.20348.2031
	Compiler: clang 15.0.7, gcc 14.1.0 (MinGW), and MSVC VS 19.39.33521

To view detailed results, visit:
https://lab.dpdk.org/results/dashboard/patchsets/30908/

UNH-IOL DPDK Community Lab

To manage your email subscriptions, visit: 
https://lab.dpdk.org/results/dashboard/preferences/subscriptions/