From mboxrd@z Thu Jan  1 00:00:00 1970
Return-Path: <test-report-bounces@dpdk.org>
Received: from mails.dpdk.org (mails.dpdk.org [217.70.189.124])
	by inbox.dpdk.org (Postfix) with ESMTP id 9F5CC45910
	for <public@inbox.dpdk.org>; Thu,  5 Sep 2024 19:43:16 +0200 (CEST)
Received: from mails.dpdk.org (localhost [127.0.0.1])
	by mails.dpdk.org (Postfix) with ESMTP id 910E042794;
	Thu,  5 Sep 2024 19:43:16 +0200 (CEST)
Received: from mail-ot1-f100.google.com (mail-ot1-f100.google.com
 [209.85.210.100])
 by mails.dpdk.org (Postfix) with ESMTP id DFB0D4025C
 for <test-report@dpdk.org>; Thu,  5 Sep 2024 19:43:15 +0200 (CEST)
Received: by mail-ot1-f100.google.com with SMTP id
 46e09a7af769-70f794cd0e3so694871a34.2
 for <test-report@dpdk.org>; Thu, 05 Sep 2024 10:43:15 -0700 (PDT)
DKIM-Signature: v=1; a=rsa-sha256; c=relaxed/relaxed;
 d=iol.unh.edu; s=unh-iol; t=1725558195; x=1726162995; darn=dpdk.org;
 h=references:in-reply-to:cc:to:from:subject:message-id:date:from:to
 :cc:subject:date:message-id:reply-to;
 bh=5Hpz60+tMXf2tbtp8sNVLuaCEatfC0roNM7xZis5RH4=;
 b=NgSIzCJvYLqQgic/y3rU5ssASu1vKeVJv05FmC3mm47QWyYLiAMOMaE4Z4DSa0vWbr
 vVED7igxqaEJGnEMnpOfgPCEak1ZBF1e8U3rCD/RWmf9NzN+l8EOo6z9bDJF7PjmbE0e
 EBxZuI2RUt6IsEpV2TS8Q4ak+CwwmwCd5q6Qk=
X-Google-DKIM-Signature: v=1; a=rsa-sha256; c=relaxed/relaxed;
 d=1e100.net; s=20230601; t=1725558195; x=1726162995;
 h=references:in-reply-to:cc:to:from:subject:message-id:date
 :x-gm-message-state:from:to:cc:subject:date:message-id:reply-to;
 bh=5Hpz60+tMXf2tbtp8sNVLuaCEatfC0roNM7xZis5RH4=;
 b=mRxQgNzBpyQuAA+dAn3GPYkDbr/QVsEzS/kp4vOZap69/OSci6it5VnMApGs7m/7XB
 YbD+G3iWA9IzfhHXbVkuhIm5CUG5x6rcf/TguulAj/u3S+LI3pS596SU6HRRTO/48ItZ
 lSPHEW1TpgWGA6q4S/ktfXv7JEYSZVAqgYj9/pMFtiL/4YXump1xF4Us/KYCXtoTPb3M
 L9ld3ypU7J5D+/Q+mG5khTudD+OPIyyEHy5TaK0kfHJsF2v1K6ln2VbbhsQpEJLPyYcH
 siIzaPynn+Jn/01mEoSo9OKiAhdKZjXvrkMzpVufRp4CVTfrhdEYyEdq5fPQqQjITTgI
 +N3g==
X-Gm-Message-State: AOJu0YzyIDTFmir96IBwEU3ZQ8GbLyiqN/jfRkz6TbmJ12liwdoGjGNj
 BQht1+8Ej5GlTbV+7jeF9aA5icRVBUaWe7vItfsLPWYfDbpN7sZM72AybXevJXJTvFzmBdILfyy
 JydIuqbFwZ/36/unMhEVPLjDtRNbR6GMCMbj3GCQFB7B3ZWsddZ+NjlMC
X-Google-Smtp-Source: AGHT+IHCkUsKWe9OKep7Qyngho5044GClevBL09KnCjZtjpxasqJ3NZb5rfEr+b2uAOPEeZbqFoqik5O3fyb
X-Received: by 2002:a05:6830:6685:b0:703:6076:a47 with SMTP id
 46e09a7af769-70f71129e9fmr25643216a34.23.1725558195062; 
 Thu, 05 Sep 2024 10:43:15 -0700 (PDT)
Received: from postal.iol.unh.edu (postal.iol.unh.edu.
 [2606:4100:3880:1234::84]) by smtp-relay.gmail.com with ESMTPS id
 46e09a7af769-70f6719bb21sm243069a34.9.2024.09.05.10.43.14
 (version=TLS1_2 cipher=ECDHE-ECDSA-AES128-GCM-SHA256 bits=128/128);
 Thu, 05 Sep 2024 10:43:15 -0700 (PDT)
X-Relaying-Domain: iol.unh.edu
Date: Thu, 05 Sep 2024 10:43:15 -0700 (PDT)
Message-ID: <66d9edb3.050a0220.2f5d99.3e2bSMTPIN_ADDED_MISSING@mx.google.com>
Received: from [172.17.0.2] (unknown [172.18.0.217])
 by postal.iol.unh.edu (Postfix) with ESMTP id 89128605C351;
 Thu,  5 Sep 2024 13:43:14 -0400 (EDT)
Subject: |SUCCESS| pw143630-143635 [PATCH] [11/11] crypto/cnxk: add PMD API t
From: dpdklab@iol.unh.edu
To: Test Report <test-report@dpdk.org>
Cc: dpdk-test-reports@iol.unh.edu
In-Reply-To: <20240905074631.1462357-12-ktejasree@marvell.com>
References: <20240905074631.1462357-12-ktejasree@marvell.com>
Content-Type: text/plain
X-BeenThere: test-report@dpdk.org
X-Mailman-Version: 2.1.29
Precedence: list
List-Id: automatic DPDK test reports <test-report.dpdk.org>
List-Unsubscribe: <https://mails.dpdk.org/options/test-report>,
 <mailto:test-report-request@dpdk.org?subject=unsubscribe>
List-Archive: <http://mails.dpdk.org/archives/test-report/>
List-Post: <mailto:test-report@dpdk.org>
List-Help: <mailto:test-report-request@dpdk.org?subject=help>
List-Subscribe: <https://mails.dpdk.org/listinfo/test-report>,
 <mailto:test-report-request@dpdk.org?subject=subscribe>
Errors-To: test-report-bounces@dpdk.org

Test-Label: iol-compile-amd64-testing
Test-Status: SUCCESS
http://dpdk.org/patch/143635

_Testing PASS_

Submitter: Tejasree Kondoj <ktejasree@marvell.com>
Date: Thursday, September 05 2024 07:46:31 
DPDK git baseline: Repo:dpdk
  Branch: master
  CommitID:41dd9a6bc2d9c6e20e139ad713cc9d172572dd43

143630-143635 --> testing pass

Upstream job id: Generic-DPDK-Compile-Meson#295876

Test environment and result as below:

+---------------------+-----------------------+-------------------+----------------------+--------------------+------------------+-------------------+
|     Environment     | dpdk_win_llvm_compile | dpdk_msvc_compile | dpdk_mingw64_compile | dpdk_meson_compile | dpdk_compile_ovs | dpdk_compile_spdk |
+=====================+=======================+===================+======================+====================+==================+===================+
| Windows Server 2022 | PASS                  | PASS              | PASS                 | SKIPPED            | SKIPPED          | SKIPPED           |
+---------------------+-----------------------+-------------------+----------------------+--------------------+------------------+-------------------+
| FreeBSD 14.1        | SKIPPED               | SKIPPED           | SKIPPED              | PASS               | SKIPPED          | SKIPPED           |
+---------------------+-----------------------+-------------------+----------------------+--------------------+------------------+-------------------+
| FreeBSD 13.3        | SKIPPED               | SKIPPED           | SKIPPED              | PASS               | SKIPPED          | SKIPPED           |
+---------------------+-----------------------+-------------------+----------------------+--------------------+------------------+-------------------+
| CentOS Stream 9     | SKIPPED               | SKIPPED           | SKIPPED              | PASS               | PASS             | PASS              |
+---------------------+-----------------------+-------------------+----------------------+--------------------+------------------+-------------------+
| Debian Bullseye     | SKIPPED               | SKIPPED           | SKIPPED              | PASS               | PASS             | PASS              |
+---------------------+-----------------------+-------------------+----------------------+--------------------+------------------+-------------------+
| Debian 12           | SKIPPED               | SKIPPED           | SKIPPED              | PASS               | PASS             | PASS              |
+---------------------+-----------------------+-------------------+----------------------+--------------------+------------------+-------------------+
| Fedora 37           | SKIPPED               | SKIPPED           | SKIPPED              | PASS               | PASS             | PASS              |
+---------------------+-----------------------+-------------------+----------------------+--------------------+------------------+-------------------+
| Fedora 38 (Clang)   | SKIPPED               | SKIPPED           | SKIPPED              | PASS               | PASS             | PASS              |
+---------------------+-----------------------+-------------------+----------------------+--------------------+------------------+-------------------+
| Fedora 38           | SKIPPED               | SKIPPED           | SKIPPED              | PASS               | PASS             | PASS              |
+---------------------+-----------------------+-------------------+----------------------+--------------------+------------------+-------------------+
| Fedora 39 (Clang)   | SKIPPED               | SKIPPED           | SKIPPED              | PASS               | PASS             | PASS              |
+---------------------+-----------------------+-------------------+----------------------+--------------------+------------------+-------------------+
| Fedora 39           | SKIPPED               | SKIPPED           | SKIPPED              | PASS               | PASS             | PASS              |
+---------------------+-----------------------+-------------------+----------------------+--------------------+------------------+-------------------+
| Fedora 40 (Clang)   | SKIPPED               | SKIPPED           | SKIPPED              | PASS               | PASS             | PASS              |
+---------------------+-----------------------+-------------------+----------------------+--------------------+------------------+-------------------+
| Fedora 40           | SKIPPED               | SKIPPED           | SKIPPED              | PASS               | PASS             | PASS              |
+---------------------+-----------------------+-------------------+----------------------+--------------------+------------------+-------------------+
| openSUSE Leap 15    | SKIPPED               | SKIPPED           | SKIPPED              | PASS               | PASS             | SKIPPED           |
+---------------------+-----------------------+-------------------+----------------------+--------------------+------------------+-------------------+
| RHEL8               | SKIPPED               | SKIPPED           | SKIPPED              | PASS               | PASS             | SKIPPED           |
+---------------------+-----------------------+-------------------+----------------------+--------------------+------------------+-------------------+
| RHEL9               | SKIPPED               | SKIPPED           | SKIPPED              | PASS               | PASS             | SKIPPED           |
+---------------------+-----------------------+-------------------+----------------------+--------------------+------------------+-------------------+
| Ubuntu 20.04        | SKIPPED               | SKIPPED           | SKIPPED              | PASS               | PASS             | SKIPPED           |
+---------------------+-----------------------+-------------------+----------------------+--------------------+------------------+-------------------+
| Ubuntu 22.04        | SKIPPED               | SKIPPED           | SKIPPED              | PASS               | PASS             | PASS              |
+---------------------+-----------------------+-------------------+----------------------+--------------------+------------------+-------------------+
| Ubuntu 24.04        | SKIPPED               | SKIPPED           | SKIPPED              | PASS               | PASS             | PASS              |
+---------------------+-----------------------+-------------------+----------------------+--------------------+------------------+-------------------+
| Alpine              | SKIPPED               | SKIPPED           | SKIPPED              | PASS               | PASS             | SKIPPED           |
+---------------------+-----------------------+-------------------+----------------------+--------------------+------------------+-------------------+


Windows Server 2022
	Kernel: 10.0.20348.2031
	Compiler: clang 15.0.7, gcc 14.1.0 (MinGW), and MSVC VS 19.39.33521

FreeBSD 14.1
	Kernel: 14.1-RELEASE-p3
	Compiler: clang 18.1.5

FreeBSD 13.3
	Kernel: 13.3-RELEASE-p5
	Compiler: clang 17.0.6

CentOS Stream 9
	Kernel: Depends on container host
	Compiler: gcc 11.4.1 20231218 (Red Hat 11.4.1-3)

Debian Bullseye
	Kernel: Depends on container host
	Compiler: gcc (Debian 10.2.1-6) 10.2.1 20210110

Debian 12
	Kernel: Depends on container host
	Compiler: gcc (Debian 12.2.0-14) 12.2.0

Fedora 37
	Kernel: Depends on container host system
	Compiler: gcc 12.3.1 20230508 (Red Hat 12.3.1-1)

Fedora 38 (Clang)
	Kernel: Depends on container host
	Compiler: clang 16.0.6 (Fedora 16.0.6-4.fc38)

Fedora 38
	Kernel: Depends on container host
	Compiler: gcc 13.2.1 20240316 (Red Hat 13.2.1-7)

Fedora 39 (Clang)
	Kernel: Depends on container host
	Compiler: clang 17.0.6 (Fedora 17.0.6-2.fc39)

Fedora 39
	Kernel: Depends on container host
	Compiler: gcc 13.3.1 20240522 (Red Hat 13.3.1-1)

Fedora 40 (Clang)
	Kernel: Depends on container host
	Compiler: clang 18.1.6 (Fedora 18.1.6-3.fc40)

Fedora 40
	Kernel: Depends on container host
	Compiler: gcc 14.2.1 20240801 (Red Hat 14.2.1-1)

openSUSE Leap 15
	Kernel: Depends on container host
	Compiler: gcc (SUSE Linux) 7.5.0

RHEL8
	Kernel: Depends on container host
	Compiler: gcc 8.5.0 20210514 (Red Hat 8.5.0-22)

RHEL9
	Kernel: Depends on container host
	Compiler: gcc 11.4.1 20231218 (Red Hat 11.4.1-3)

Ubuntu 20.04
	Kernel: Depends on container host
	Compiler: gcc (Ubuntu 9.4.0-1ubuntu1~20.04.2) 9.4.0

Ubuntu 22.04
	Kernel: Depends on container host
	Compiler: gcc (Ubuntu 11.4.0-1ubuntu1~22.04) 11.4.0

Ubuntu 24.04
	Kernel: Depends on container host
	Compiler: gcc (Ubuntu 13.2.0-23ubuntu4) 13.2.0

Alpine
	Kernel: Depends on container host
	Compiler: gcc (Alpine 13.2.1_git20240309) 13.2.1 20240309

To view detailed results, visit:
https://lab.dpdk.org/results/dashboard/patchsets/30914/

UNH-IOL DPDK Community Lab

To manage your email subscriptions, visit: 
https://lab.dpdk.org/results/dashboard/preferences/subscriptions/