From mboxrd@z Thu Jan  1 00:00:00 1970
Return-Path: <test-report-bounces@dpdk.org>
Received: from mails.dpdk.org (mails.dpdk.org [217.70.189.124])
	by inbox.dpdk.org (Postfix) with ESMTP id 5012245911
	for <public@inbox.dpdk.org>; Thu,  5 Sep 2024 21:31:47 +0200 (CEST)
Received: from mails.dpdk.org (localhost [127.0.0.1])
	by mails.dpdk.org (Postfix) with ESMTP id 2AB74402B5;
	Thu,  5 Sep 2024 21:31:47 +0200 (CEST)
Received: from mail-pj1-f99.google.com (mail-pj1-f99.google.com
 [209.85.216.99]) by mails.dpdk.org (Postfix) with ESMTP id BEF8F4025C
 for <test-report@dpdk.org>; Thu,  5 Sep 2024 21:31:45 +0200 (CEST)
Received: by mail-pj1-f99.google.com with SMTP id
 98e67ed59e1d1-2d1daa2577bso891230a91.2
 for <test-report@dpdk.org>; Thu, 05 Sep 2024 12:31:45 -0700 (PDT)
DKIM-Signature: v=1; a=rsa-sha256; c=relaxed/relaxed;
 d=iol.unh.edu; s=unh-iol; t=1725564705; x=1726169505; darn=dpdk.org;
 h=references:in-reply-to:cc:to:from:subject:message-id:date:from:to
 :cc:subject:date:message-id:reply-to;
 bh=FH5+AwkgkUG6QgDYBGLdvRxmtE65J8YsgZLEyDbCZcc=;
 b=J+BJVICvOF6tGhTOqJ4fO6cAouusUIsPomxDFRMF8I+KLpu4giQHhPpMrFvkZ5PDpo
 l8Aw3MqWcdmlUg+tTGN5ITaGVUhQ60P+otkOsAp/G+zzSdUFVsxyaELkqfMEX6ikbAEi
 YFGh71B/MMRzld81hDcixwxZWuZ/7+mB5eJfE=
X-Google-DKIM-Signature: v=1; a=rsa-sha256; c=relaxed/relaxed;
 d=1e100.net; s=20230601; t=1725564705; x=1726169505;
 h=references:in-reply-to:cc:to:from:subject:message-id:date
 :x-gm-message-state:from:to:cc:subject:date:message-id:reply-to;
 bh=FH5+AwkgkUG6QgDYBGLdvRxmtE65J8YsgZLEyDbCZcc=;
 b=R3yFJewE2wnz21XQybt1HDB/zkJ1HnOHjhfeyeF1m1xmltXWd34QHHBf2PJC5rn4tP
 jVFk+nVzcSG0gJCX7WAGvT1qP3J6QdgjRbOO/6QQ792ik5+UnPlFzBxqIVrfKfhOnyOH
 Pn4TOPjGLRcV2UDKGNsLDg6Vtr8SDqvkYzXHKh0ZBr4XwChrUssyiZMLn0PR5iCoHBH3
 yp4OK8uJJMoXRi6DGaf9fVS7IoBhSa9E/mrJSDNO/Dy+m/EjBBFOHrvRJDv91fKlKw7D
 IXCQgoBgDct8pMo7No2U0a4jkkAG/Y1i00FHqEOZvoT18fH6SmmQ/GkS8lyNo3xAxVA2
 5iNw==
X-Gm-Message-State: AOJu0YzXujM7u4Pd7Xy92OsMrTmMzMObIf3YaPm7UKyUESqQupgbcLBt
 LRenlK0t2JHogd18g48/wdg7WX7V4Cs1nDeItb1bW+5AD9+AZiZ4JdpWMKtjwDaIqMrNbs6LRDO
 dkIIACBVtMkmmmIC4BqcwWCtCmLfnpf3w6DKyCx/k+1iUCngjMm7uJdf7
X-Google-Smtp-Source: AGHT+IH/DkWY6xcpnkMVMYyyDH+WUB4mjXtTwlkSjKsWllGiSewkkjM0FAspUbi6DlwuAS/M3u5YYGipwR77
X-Received: by 2002:a17:90a:7448:b0:2d8:baf1:e319 with SMTP id
 98e67ed59e1d1-2d8baf1e529mr16903334a91.25.1725564704790; 
 Thu, 05 Sep 2024 12:31:44 -0700 (PDT)
Received: from postal.iol.unh.edu (postal.iol.unh.edu.
 [2606:4100:3880:1234::84]) by smtp-relay.gmail.com with ESMTPS id
 41be03b00d2f7-7d5036dffabsm163671a12.24.2024.09.05.12.31.44
 (version=TLS1_2 cipher=ECDHE-ECDSA-AES128-GCM-SHA256 bits=128/128);
 Thu, 05 Sep 2024 12:31:44 -0700 (PDT)
X-Relaying-Domain: iol.unh.edu
Date: Thu, 05 Sep 2024 12:31:44 -0700 (PDT)
Message-ID: <66da0720.630a0220.183bb.d9e5SMTPIN_ADDED_MISSING@mx.google.com>
Received: from [172.17.0.5] (unknown [172.18.0.214])
 by postal.iol.unh.edu (Postfix) with ESMTP id 00470605C351;
 Thu,  5 Sep 2024 15:31:43 -0400 (EDT)
Subject: |SUCCESS| pw143622-143625 [PATCH] [4/4] dmadev: clean code for verif
From: dpdklab@iol.unh.edu
To: Test Report <test-report@dpdk.org>
Cc: dpdk-test-reports@iol.unh.edu
In-Reply-To: <20240905064638.17980-5-haijie1@huawei.com>
References: <20240905064638.17980-5-haijie1@huawei.com>
Content-Type: text/plain
X-BeenThere: test-report@dpdk.org
X-Mailman-Version: 2.1.29
Precedence: list
List-Id: automatic DPDK test reports <test-report.dpdk.org>
List-Unsubscribe: <https://mails.dpdk.org/options/test-report>,
 <mailto:test-report-request@dpdk.org?subject=unsubscribe>
List-Archive: <http://mails.dpdk.org/archives/test-report/>
List-Post: <mailto:test-report@dpdk.org>
List-Help: <mailto:test-report-request@dpdk.org?subject=help>
List-Subscribe: <https://mails.dpdk.org/listinfo/test-report>,
 <mailto:test-report-request@dpdk.org?subject=subscribe>
Errors-To: test-report-bounces@dpdk.org

Test-Label: iol-unit-amd64-testing
Test-Status: SUCCESS
http://dpdk.org/patch/143625

_Testing PASS_

Submitter: Jie Hai <haijie1@huawei.com>
Date: Thursday, September 05 2024 06:46:38 
DPDK git baseline: Repo:dpdk
  Branch: master
  CommitID:41dd9a6bc2d9c6e20e139ad713cc9d172572dd43

143622-143625 --> testing pass

Upstream job id: Generic-Unit-Test-DPDK#258440

Test environment and result as below:

+---------------------+----------------+
|     Environment     | dpdk_unit_test |
+=====================+================+
| CentOS Stream 9     | PASS           |
+---------------------+----------------+
| Debian Bullseye     | PASS           |
+---------------------+----------------+
| Debian 12           | PASS           |
+---------------------+----------------+
| Fedora 37           | PASS           |
+---------------------+----------------+
| Fedora 38 (Clang)   | PASS           |
+---------------------+----------------+
| Fedora 38           | PASS           |
+---------------------+----------------+
| Fedora 40 (Clang)   | PASS           |
+---------------------+----------------+
| Fedora 39 (Clang)   | PASS           |
+---------------------+----------------+
| Fedora 39           | PASS           |
+---------------------+----------------+
| Fedora 40           | PASS           |
+---------------------+----------------+
| RHEL8               | PASS           |
+---------------------+----------------+
| RHEL9               | PASS           |
+---------------------+----------------+
| Ubuntu 24.04        | PASS           |
+---------------------+----------------+
| Ubuntu 22.04        | PASS           |
+---------------------+----------------+
| Ubuntu 20.04        | PASS           |
+---------------------+----------------+
| Windows Server 2022 | PASS           |
+---------------------+----------------+


CentOS Stream 9
	Kernel: Depends on container host
	Compiler: gcc 11.4.1 20231218 (Red Hat 11.4.1-3)

Debian Bullseye
	Kernel: Depends on container host
	Compiler: gcc (Debian 10.2.1-6) 10.2.1 20210110

Debian 12
	Kernel: Depends on container host
	Compiler: gcc (Debian 12.2.0-14) 12.2.0

Fedora 37
	Kernel: Depends on container host system
	Compiler: gcc 12.3.1 20230508 (Red Hat 12.3.1-1)

Fedora 38 (Clang)
	Kernel: Depends on container host
	Compiler: clang 16.0.6 (Fedora 16.0.6-4.fc38)

Fedora 38
	Kernel: Depends on container host
	Compiler: gcc 13.2.1 20240316 (Red Hat 13.2.1-7)

Fedora 40 (Clang)
	Kernel: Depends on container host
	Compiler: clang 18.1.6 (Fedora 18.1.6-3.fc40)

Fedora 39 (Clang)
	Kernel: Depends on container host
	Compiler: clang 17.0.6 (Fedora 17.0.6-2.fc39)

Fedora 39
	Kernel: Depends on container host
	Compiler: gcc 13.3.1 20240522 (Red Hat 13.3.1-1)

Fedora 40
	Kernel: Depends on container host
	Compiler: gcc 14.2.1 20240801 (Red Hat 14.2.1-1)

RHEL8
	Kernel: Depends on container host
	Compiler: gcc 8.5.0 20210514 (Red Hat 8.5.0-22)

RHEL9
	Kernel: Depends on container host
	Compiler: gcc 11.4.1 20231218 (Red Hat 11.4.1-3)

Ubuntu 24.04
	Kernel: Depends on container host
	Compiler: gcc (Ubuntu 13.2.0-23ubuntu4) 13.2.0

Ubuntu 22.04
	Kernel: Depends on container host
	Compiler: gcc (Ubuntu 11.4.0-1ubuntu1~22.04) 11.4.0

Ubuntu 20.04
	Kernel: Depends on container host
	Compiler: gcc (Ubuntu 9.4.0-1ubuntu1~20.04.2) 9.4.0

Windows Server 2022
	Kernel: 10.0.20348.2031
	Compiler: clang 15.0.7, gcc 14.1.0 (MinGW), and MSVC VS 19.39.33521

To view detailed results, visit:
https://lab.dpdk.org/results/dashboard/patchsets/30912/

UNH-IOL DPDK Community Lab

To manage your email subscriptions, visit: 
https://lab.dpdk.org/results/dashboard/preferences/subscriptions/